BEGIN:VCALENDAR
VERSION:2.0
PRODID:-//https://techplay.jp//JP
CALSCALE:GREGORIAN
METHOD:PUBLISH
X-WR-CALDESC:Frontend Up! #6 @ DeNA TechCon 2024
X-WR-CALNAME:Frontend Up! #6 @ DeNA TechCon 2024
X-WR-TIMEZONE:Asia/Tokyo
BEGIN:VTIMEZONE
TZID:Asia/Tokyo
BEGIN:STANDARD
DTSTART:19700101T000000
TZOFFSETFROM:+0900
TZOFFSETTO:+0900
TZNAME:JST
END:STANDARD
END:VTIMEZONE
BEGIN:VEVENT
UID:934403@techplay.jp
SUMMARY:Frontend Up! #6 @ DeNA TechCon 2024
DTSTART;TZID=Asia/Tokyo:20240229T140000
DTEND;TZID=Asia/Tokyo:20240229T150000
DTSTAMP:20260421T011734Z
CREATED:20240201T060842Z
DESCRIPTION:イベント詳細はこちら\nhttps://techplay.jp/event/93440
 3?utm_medium=referral&utm_source=ics&utm_campaign=ics\n\nイベント概
 要\nDeNA で活躍するフロントエンドエンジニアたちが、
 DeNA Techcon 2024 の裏でフロントエンドの技術トピックに
 ついてLTを行います。\n一緒にフロントエンドの技術に
 ついてワイワイLT＆雑談しましょう！\nLTは質問も可能
 なので、気になることがあれば積極的にしてください
 ！\n※すべての質問に回答することはできないかもし
 れません\nイベントへの参加\n①TechCon2024 公式イベント
 ページに登録！\n②DeNA TechconのDiscordに参加をして準備
 完了\n③-1 オンライン会場で参加！\n2/29 当日！Discordの
 「Frontend Up!」というステージルームがありますので、
 そちらに入室お願いします(ミュートでOKです)。\n③-2 
 オフライン会場で参加！\n2/29 当日！14:00 〜 オフライ
 ン会場 6F 技術コミュニティエリアに集合してください
 。  \n※ オフライン会場への参加方法は、お知り合い
 のDeNAエンジニアにお問い合わせください。\nプログラ
 ム\n\n\n\n時間\n内容\n\n\n\n\n14:00 -\nOpening / せきやん\n\n\n1
 4:05 -\n新卒3人で社内勉強会を立ち上げた話 / akki\n\n\n14:
 15 -\n家の間取りを WebXR で検証する / Kuniwak\n\n\n14:25 -\nOS
 S コミュニティの日本語訳 / naokie\n\n\n14:35 -\nみんなで
 星を眺める会 / P-Chan\n\n\n14:45 -\nReact の Streaming SSR につ
 いて / yamo\n\n\n14:55 -\nClosing / せきやん\n\n\n\n参加するDeN
 Aの フロントエンドエンジニア\n せきやん\nいまだにwid
 thの読み方が安定しません\n akki\n新卒終了まであと1ヶ
 月\n yamo\nReact ばっか書いてます\n Kuniwak\n最近家を建て
 た元フロントエンジニア\n naokie\nPdM バブちゃん\n P-Chan\
 nフロントエンド園児ﾆｬ\n行動規範\nDeNA TechCon 2024 に
 参加するすべての人は こちら の行動規範を守ること
 を求められます。
LOCATION:オンライン オンライン
URL:https://techplay.jp/event/934403?utm_medium=referral&utm_source=ics&utm
 _campaign=ics
END:VEVENT
END:VCALENDAR
