BEGIN:VCALENDAR
VERSION:2.0
PRODID:-//https://techplay.jp//JP
CALSCALE:GREGORIAN
METHOD:PUBLISH
X-WR-CALDESC:オフライン開催！バスチーともくもく会(女性
 エンジニア限定)#13
X-WR-CALNAME:オフライン開催！バスチーともくもく会(女性
 エンジニア限定)#13
X-WR-TIMEZONE:Asia/Tokyo
BEGIN:VTIMEZONE
TZID:Asia/Tokyo
BEGIN:STANDARD
DTSTART:19700101T000000
TZOFFSETFROM:+0900
TZOFFSETTO:+0900
TZNAME:JST
END:STANDARD
END:VTIMEZONE
BEGIN:VEVENT
UID:934465@techplay.jp
SUMMARY:オフライン開催！バスチーともくもく会(女性エン
 ジニア限定)#13
DTSTART;TZID=Asia/Tokyo:20240223T140000
DTEND;TZID=Asia/Tokyo:20240223T170000
DTSTAMP:20260423T111534Z
CREATED:20240201T140738Z
DESCRIPTION:イベント詳細はこちら\nhttps://techplay.jp/event/93446
 5?utm_medium=referral&utm_source=ics&utm_campaign=ics\n\nオフライン
 開催！カフェでもくもく会\nこんにちは！関西女性エ
 ンジニアコミュニティTECH WOMAN KANSAIです！\nTECH WOMAN KANS
 AIでは、毎月第2木曜日・第3土曜日にはオンラインもく
 もく会を、1~3ヶ月に1回の頻度でオフラインイベントを
 開催しています。\n普段はオンラインで開催している
 もくもく会をこのたびオフライン開催することになり
 ました！\n2/23(金・祝日)の午後、コーヒーとバスチー
 を傍らにもくもく作業しませんか？\nMetaLifeのアバター
 でおなじみの人も初めてご参加の方も、お茶会気分で
 おしゃべりしたりちょっとした不安や疑問を相談して
 みたりするのもありです。\n皆様のご参加を心よりお
 待ちしております。\n※会場はMola Cafe3階をお借りしま
 す。\n※ 本イベントは女性主体です。性自認が女性の
 方のみ対象(講師の方を除く)とさせていただいており
 ます。\n当日について\n日程と持ち物\n\n    \n        開催
 日\n        2024年2月23日(金)14:00〜17:00\n    \n    \n        開
 場・受付\n        \n            13:45〜 ※途中参加OKです\n   
      \n    \n    \n        開催場所\n        \n            大阪府
 大阪市（詳細は参加者への情報にて！）\n        \n    \n 
    \n        参加費\n        \n            500円+会場で2品以上
 （ドリンクかフード。2品目はドリンクおかわりでも可
 ）をご注文ください  注文は主催がまとめて行います\n
         \n    \n    \n        持ち物\n        \n            ご自身
 のPC・充電コードその他、ご自身のもくもく作業に必
 要なもの\n        \n    \n     \n        会場にあるもの\n     
    \n            Wi-Fi（無線LAN）\n        \n    \n\n\n当日の受
 付に関するお願い\nご用意頂くもの：connpass の受付番
 号がわかる「受付票」やアカウントがわかる画面\n受
 付票やアカウントがわかる画面を確認して受付をさせ
 て頂きますので、ご準備をお願いいたします。\n参加
 費について\n参加費を500円頂き、また会場でドリンク
 もしくはフードを2品以上、必ずご注文ください。\n注
 文は主催がまとめて行いますので、到着時はもくもく
 会の参加者である旨を伝えて３階にお上がりください
 。\n※TECH WOMAN KANSAIは非営利のコミュニティで、イベン
 トの開催・運営を有志により行なっております。オフ
 ラインイベントで頂戴しております参加費の用途につ
 いては、イベント開催でかかった費用や今後のコミュ
 ニティ運営のための資金とさせて頂いております。\n
 タイムテーブル\n\n　 \n　     \n    時間\n    内容\n        
 13:45〜受付14:00～15:00もくもく作業\n        15:00～15:10コ
 ミュニティの紹介、会場説明\n        15:10～15:30参加者
 のみなさんの自己紹介\n        15:30～17:00フリータイム
 （作業したりおしゃべりしたりご自由に）\n    \n\n\n会
 場提供\nMola Cafe\n2023年4月にオープンした、作業と読書
 のための落ち着いたカフェ。\nWi-Fiや電源完備、雰囲気
 ある内装でエンジニアの作業に最適な環境とおいしい
 コーヒー、日替わりのバスクチーズケーキを提供され
 ています。\n「カードゲームで英会話」等オフライン
 イベントも盛ん。\n営業時間：11:00〜23:00(L.O22:30)\n公式
 ホームページ(オンラインショップ)：https://molasoft.square
 .site/\nInstagram：mola_cafe_tani4\nイベントに関する情報はTwi
 tterで！\nイベントのアップデート情報は、TECH WOMAN KANSA
 IのX(旧Twitter)にて、適宜ご案内を予定しています。\nぜ
 ひフォローいただき、イベント開催まで楽しみにお待
 ちください！\nX(旧Twitter)ハッシュタグ：#TECH_WOMAN_KANSAI\
 nX(旧Twitter)ハッシュタグ #TECH_WOMAN_KANSAI で検索していた
 だくと、過去のイベントの様子などもご覧頂けます！\
 n雰囲気を知りたい方など、ぜひぜひ、見てみて下さい
 ！\n主催者\nTECH WOMAN KANSAI\n女性限定で関西を拠点とし
 たITに携わって働かれてる方、またはこれから携わっ
 て働きたい方々、興味のある方のためのコミュニティ
 です！ (初心者、上級者等は一切問いません。)\n非営
 利で運営しているコミュニティです。\nTECH WOMAN KANSAIで
 は以下のコンセプトで開催を行っています。\n\n関西の
 IT業界の女性の方々が直接交流できる場所や時間を提
 供する\n女性の方々が技術コミュニティに参加する心
 理的なハードルを下げる\nたのしくアウトプットでき
 る環境をつくる\nhttps://tech-woman-kansai.connpass.com/\n\n定期
 ・不定期でイベントを開催したり、技術記事の投稿に
 挑戦したりしています。\n\nオンラインもくもく会（毎
 月第2木曜日21:00〜・第3土曜日14:00〜）\nオフラインイ
 ベント（3ヶ月に1度ほど）\n女子会（不定期）\nQiitaで
 技術記事の投稿\n\nオンラインもくもく会は、途中入退
 場OK・顔出しなし・チャットでの参加OKという、ゆる〜
 い感じで開催しています！\nオフラインイベントは、
 京都だけでなく、大阪や神戸などでも開催しているの
 で、ぜひご参加ください！\nかほ\n\n\n\nTECH WOMAN KANSAIの
 コミュニティオーガナイザーです。\nDevelopers Summit 2023 
 KANSAIでベストスピーカー賞3位をいただきました。\n最
 近はコミュニティ運営による発信文化や組織の醸成に
 ついて興味があり、勉強しています。\nこのコミュニ
 ティでは、みんなが楽しく技術発信を行えたり、IT女
 性同士で交流できる環境を作っていきたいです。\n\n\n
 あずにゃん\n\nフロントエンドエンジニアをやってます
 。\nお仕事では、TypeScript×Reactで開発してます。時々、
 個人開発もやってます。\n普段のお仕事では関わらな
 いような方々、自分とは異なる内容でお仕事されてい
 るような方々など色々な方からお話をお伺いして、楽
 しく学びにしていけたらと思っています。\nよろしく
 お願い致します！\n\nみやもと\n\nSES会社所属のエンジ
 ニアです。現在は客先で社内会計関連のシステム開発
 をしています。\n仕事ではCOBOLとJava（最近はJavaメイン
 ）を使いつつ、Pythonの勉強中です。\nフロントエンド
 のフレームワークもいじってみたいところ。\n女性限
 定のエンジニアコミュニティがあるのか！と興味から
 参加させていただきました。\n普段接することのない
 技術分野の方とお話したり、熱心に勉強されている方
 を見て刺激をいただいています。\n初心者の方から熟
 練の方まで楽しく過ごせるようなイベントができるよ
 うにがんばります！\n\n\nキャンセルポリシー\n\n必ずご
 自身の予定を確認してからお申込みください。\n体調
 不良以外での直前3日前〜当日のキャンセルはおやめく
 ださい。\n何度もキャンセルされる方、一度でも無断
 欠席された方は今後の参加をお断りする場合がありま
 す。\n\n注意・禁止事項\n・飲食物の持ち込みは禁止で
 す。お店でご注文ください。\n・新型コロナウイルス
 感染対策の徹底をお願いします。マスク着用等のご協
 力をお願いします。\n・体調の優れない方は参加をお
 控えください。\n・無断欠席は禁止です。欠席される
 場合は、お早めにご連絡をお願いします。\n・ノーマ
 ウントでお願いします。\n・セクシュアルハラスメン
 ト・ストーカー等の他人への迷惑行為を禁止します。\
 n・ネットワークビジネス等、販売、勧誘、あっせん等
 を行うこと、また、宗教活動または政治活動をするこ
 とを禁止します。\n・各種SNSへのアップは自由とさせ
 て頂きますが、お互いのプライバシー(顔出しなど)へ
 の配慮及び確認をお願いいたします。\nその他、イベ
 ントの趣旨・目的と逸脱した行為を発見した場合は、
 主催者の判断によりイベント参加をお断りさせて頂き
 ます。\nイベントに関するお問い合わせ\nTECH WOMAN KANSAI
 運営事務局\ntechwomankansai@gmail.com
LOCATION:Mola Cafe 大阪府大阪市中央区和泉町1-3-3
URL:https://techplay.jp/event/934465?utm_medium=referral&utm_source=ics&utm
 _campaign=ics
END:VEVENT
END:VCALENDAR
