BEGIN:VCALENDAR
VERSION:2.0
PRODID:-//https://techplay.jp//JP
CALSCALE:GREGORIAN
METHOD:PUBLISH
X-WR-CALDESC:教育版マインクラ　廃校リノベ　ワークショ
 ップ
X-WR-CALNAME:教育版マインクラ　廃校リノベ　ワークショ
 ップ
X-WR-TIMEZONE:Asia/Tokyo
BEGIN:VTIMEZONE
TZID:Asia/Tokyo
BEGIN:STANDARD
DTSTART:19700101T000000
TZOFFSETFROM:+0900
TZOFFSETTO:+0900
TZNAME:JST
END:STANDARD
END:VTIMEZONE
BEGIN:VEVENT
UID:934595@techplay.jp
SUMMARY:教育版マインクラ　廃校リノベ　ワークショップ
DTSTART;TZID=Asia/Tokyo:20240223T125000
DTEND;TZID=Asia/Tokyo:20240223T160000
DTSTAMP:20260420T235840Z
CREATED:20240202T210150Z
DESCRIPTION:イベント詳細はこちら\nhttps://techplay.jp/event/93459
 5?utm_medium=referral&utm_source=ics&utm_campaign=ics\n\n応募が定員
 に達している場合はキャンセル待ちでお申し込みくだ
 さい。\n抽選を行い、結果をご連絡します\n\nテーマは
 、「廃校を生まれ変わらせよう！」。参加者同士で協
 力して廃校の使い道を考え、教育版マインクラフトで
 つくってみましょう。プロマインクラフターのタツナ
 ミシュウイチ先生がつくった廃校のワールドを使いま
 す！初級者から上級者までどなたでもご参加いただけ
 ます。ぜひご参加ください！\n\n募集チラシ\nhttp://npo-so
 laris.sakura.ne.jp/share/minecraft_ws_20240223.pdf\n\n開場\n ・１２
 ：３０\n　※ 13時開始ですが、12:50には会場にお越しく
 ださい。\n\n持ち物\n・筆記用具\n\n対象\n・会津地域の
 小学４～６年生、中学生\n\n注意事項\n　・マルチプレ
 イでの作業となりますので、他の参加者への迷惑行為
 が見受けられた方にはご退出いただく場合があります
 。\n　・応募者多数の場合は抽選とし、ワークショッ
 プ未経験者を優先させて頂きます。\n\n※保護者同伴可
 \n※ 会津若松市の事業として開催します
LOCATION:生涯学習総合センター　會津稽古堂　研修室５，
 ６ 福島県会津若松市栄町3番50号
URL:https://techplay.jp/event/934595?utm_medium=referral&utm_source=ics&utm
 _campaign=ics
END:VEVENT
END:VCALENDAR
