BEGIN:VCALENDAR
VERSION:2.0
PRODID:-//https://techplay.jp//JP
CALSCALE:GREGORIAN
METHOD:PUBLISH
X-WR-CALDESC:【学生向け】Career Reflection #2 in Tokyo
X-WR-CALNAME:【学生向け】Career Reflection #2 in Tokyo
X-WR-TIMEZONE:Asia/Tokyo
BEGIN:VTIMEZONE
TZID:Asia/Tokyo
BEGIN:STANDARD
DTSTART:19700101T000000
TZOFFSETFROM:+0900
TZOFFSETTO:+0900
TZNAME:JST
END:STANDARD
END:VTIMEZONE
BEGIN:VEVENT
UID:934617@techplay.jp
SUMMARY:【学生向け】Career Reflection #2 in Tokyo
DTSTART;TZID=Asia/Tokyo:20240226T100000
DTEND;TZID=Asia/Tokyo:20240226T190000
DTSTAMP:20260421T050648Z
CREATED:20240203T060834Z
DESCRIPTION:イベント詳細はこちら\nhttps://techplay.jp/event/93461
 7?utm_medium=referral&utm_source=ics&utm_campaign=ics\n\nイベント概
 要\n本イベントは学生および第二新卒を対象とした学
 生向けイベントとなっています。\n社会人の方の参加
 は高校、大学、専門学校を卒業後に企業入社後、3年未
 満の転職検討者に限定させていただきます。\nイベン
 ト対象者\n本イベントは学生および第二新卒を対象と
 した学生向けイベントとなっています。\n社会人経験
 が3年以上ある方の参加はご遠慮ください。\n\n学生の
 方で、プログラミング経験をお持ちの方(言語不問)\n高
 校、大学、専門学校を卒業後に企業に入社した3年未満
 の方で、プログラミング経験をお持ちの方(言語不問)\n
 バックエンド以外の技術を学んでいる方も参加可能で
 す。\n\nイベントについて\n\n本イベントは1Dayのオフラ
 インイベントです。（オンライン配信は実施しません
 ）\nソフトウェアエンジニアとは何か？どういう軸で
 就活をすべきか？今、やるべきことは何か？こんな悩
 みを抱えている学生は多いでしょう。\n人生で初めて
 チャレンジする就職活動に漠然とした不安を感じてい
 るかもしれません。\n本イベントでは、各企業で活動
 する現役のソフトウェアエンジニアと共に企業やソフ
 トウェアエンジニアという職業への解像度をあげ、な
 りたい自分をどのように実現していくか模索します。\
 nイベント当日は、学生4〜5名1チームを作っていただき
 、就活に関するディスカッションやグループワークに
 取り組んでもらいます。\n各チームに各社のソフトウ
 ェアエンジニア1名がメンター役で参加します。\nメン
 ターは議論が行き詰まったときやチームメンバーから
 の疑問に答えながら議論を盛り上げる役割です。\nイ
 ベント後は会場で懇親会を予定しています。\n貴重な
 機会だと思いますので懇親会を利用して疑問に思って
 いることなどを聞く機会としてご活用ください。 \n※
 本イベントはエンジニアとしての技術的な情報収集、
 交流を目的とした方を対象としています。（それ以外
 を目的とした方のご参加はお断りします。）\n※当社
 の判断において申し込みをキャンセルさせていただく
 場合がございますので、予めご了承ください。\n※応
 募多数の場合、申し込み時に頂いた情報を元に選考を
 させた上で参加者を決定する場合がございます。\n注
 意事項\nイベント中はマスクを着用いただき、大きな
 声などは控えていただくようお願いいたします。\nま
 た、下記に当てはまる方のご参加はご遠慮ください。 
  \n\n発熱、あるいは咳・咽頭痛等の症状がある場合\n新
 型コロナウイルスへの感染の疑いがある場合\nその他
 コロナウィルスの感染に関連して何らかの不安を感じ
 ている場合\n\n開催概要\n【日時】 \n2024/02/26(月) 10:30-19:
 00 (受付：10:00〜) \n【会場】 \n 株式会社メルカリ\nタイ
 ムテーブル\n\n\n\n時間\nタイトル\n形式/登壇者\n\n\n\n\n10
 :00-10:30\n開場・受付\n\n\n\n10:30-10:45\nオープニング\n@tennt
 enn\n\n\n10:45-11:30\n企業調査・紹介\nグループワーク\n\n\n1
 1:30-12:30\nパネルディスカッション\n各企業のエンジニ
 ア\n\n\n12:30-13:30\nランチ\nメルカリ様ご提供\n\n\n13:30-14:1
 5\nセルフマッチング\n個人ワーク\n\n\n14:15-15:15\nグルー
 プディスカッション①\nグループワーク\n\n\n15:15-15:25\n
 休憩\n\n\n\n15:25-16:25\nグループディスカッション②\nグ
 ループワーク\n\n\n16:25-16:35\n休憩\n\n\n\n16:35-17:05\nネクス
 トアクション\n個人ワーク\n\n\n17:05-17:30\nグループ内発
 表\nグループワーク\n\n\n17:30-17:40\nクロージング\n@tennten
 n\n\n\n17:40-19:00\n懇親会\nメルカリ様ご提供\n\n\n\n※タイ
 ムテーブルは当日までに若干変更となる可能性があり
 ます。また、進行によって各アクティビティの開始時
 間が前後する可能性があります。\n※全て日本語での
 講演となります。通訳のご用意はありません。\nアク
 ティビティ\n企業調査・紹介（グループワーク）\nチー
 ムメンターの所属する企業について、メンターに質問
 しながら、その企業の特徴を調査します。\n能動的に
 質問することで企業やソフトウェアエンジニアという
 職業への解像度を上げます。\nパネルディスカッショ
 ン\n企業調査・紹介で挙がった各企業の特徴の紹介や
 、そこから展開される話題について、各企業の方々を
 パネラーとし、パネルディスカッションを行います。\
 nソフトウェアエンジニア、企業、仕事、技術、就活に
 ついて、若手からベテランのソフトウェアエンジニア
 に聞くチャンスです。\nセルフマッチング（個人ワー
 ク）\n自分の長所や短所に向き合い、自分が企業に求
 めるものと、企業が自分に求めるものを考えながら自
 分に合う企業を分析します。メンターに質問しながら
 今まで考えていなかった自分の可能性について考えて
 みましょう。\nグループディスカッション（グループ
 ワーク）\n「就活に役立つ3つのスキル」や「新卒でメ
 ガベンチャーとスタートアップのどっちに就職するべ
 き？」のような、人によって意見がことなるようなテ
 ーマに対して、ディベートを行いチームごとに1つの意
 見にまとめいくアクティビティです。\n自分の意見を
 他者に説明し、そして他者の意見を聞くことで、これ
 まで考えていなかった点を認識し、より広い視野で就
 活に望めるようになることを期待しています。\nネク
 ストアクション （個人ワーク⇒グループ内発表）\nこ
 のイベントで学んだことを感じたことを次のアクショ
 ンに移せるようにするためのアクティビティです。\n
 具体的な行動に移すことで、自分のなりたい職業やや
 ってみたい仕事の実現に一歩近づくことを期待してい
 ます。\nグループ内で発表することでチームメンバー
 やメンターからフィードバックが貰え、より実現可能
 性の高いアクションにすることができるでしょう。\n
 ランチと懇親会について\nランチおよび懇親会は、株
 式会社メルカリ様にご提供頂く予定です。\n持ち物・
 服装\nご自身でPCをお持ちください。\nGoogleスライドや
 スプレッドシートを用いる予定ですので、Googleアカウ
 ントの準備もお願いします。\nWifiについては会場で提
 供予定です。\n服装は自由です。スーツ着用は不要で
 す。\nこのイベントのために何か新しい持ち物を準備
 する必要はありません。\n運営協力\nCareer Reflectionでは
 、運営に協力いただける学生を若干名募集しておりま
 す。\nご興味のある方は、運営協力枠でお申し込みく
 ださい。\n説明会\n以下の日程で説明会を開催します。
 \nhttps://knowledgework.connpass.com/event/309869/\n個人情報のお取
 り扱いについて\n当イベントを通じて取得した個人情
 報等の取扱いは、各社のプライバシーポリシーに従っ
 て取り扱います。ご同意の上、ご参加ください。\n\n株
 式会社ナレッジワーク プライバシーポリシー\n株式会
 社LayerX プライバシーポリシー\n株式会社メルカリ 採用
 活動におけるプライバシーポリシー\n株式会社マネー
 フォワード 個人情報保護方針\nNOT A HOTEL株式会社 プラ
 イバシーポリシー\n\n登壇者紹介\ntenntenn / 株式会社ナ
 レッジワーク\n\n上田 拓也（@tenntenn）\n\n2016年、メルカ
 リグループに入社、Goコミュニティへの貢献や採用・
 社内教育などに従事。\n2013年よりGo Conferenceの運営を行
 う。\n2021年、一般社団法人Gophers Japan設立、代表理事に
 就任。Google Developers Expert (GDE)に選出。\n2022年、株式会
 社ナレッジワーク入社。ソフトウェアエンジニアおよ
 びGoエンジニアのイネーブルメントに従事。\n清土伸康
  / 株式会社ナレッジワーク\nEngineering Manager\n2005年、国
 立鈴鹿工業高等専門学校専攻科卒業。2005年、ネクスト
 ウェア株式会社入社。エンジニア職に従事。2012年、ヤ
 フー株式会社入社。エンジニア職に従事。ヤフーショ
 ッピングのフロントエンド部門でリーダーを務める。2
 023年、株式会社ナレッジワーク入社。エンジニア職に
 従事。エンジニアリングマネージャーを務める。\n小
 賀 昌法 @makoga 【バクラク事業部 VPoE】/ 株式会社LayerX\n
 2010年から2021年まで株式会社VOYAGE GROUPでCTOを務め、退
 職後もTech Boardアドバイザリに従事。企画・監修した『
 Engineers in VOYAGE ― 事業をエンジニアリングする技術者
 たち』がITエンジニア本大賞2021で大賞＆特別賞のダブ
 ル受賞。トラボックス株式会社を経て、2023年4月に株
 式会社LayerXに入社。日本CTO協会理事。\n白井 清貴 @shira
 kiy0 【バクラク事業部 ソフトウェアエンジニア】 / 株
 式会社LayerX\n2022年に新卒としてLayerXに入社。バクラク
 事業部で主にバクラク請求書の開発を経て、現在は新
 規プロダクトであるバクラク請求書発行を事業部CTO直
 下で立ち上げ。大学在学時はメガベンチャーやFintechベ
 ンチャーなどでの開発インターンに従事。LayerXには大
 学4年生のタイミングでインターンとしてJoin。その後
 メガベンチャーの内定を辞退し、LayerXへ新卒入社。\nuj
 i / NOT A HOTEL株式会社\n\n神戸高専電子工学科卒。ACALL株
 式会社、株式会社マネーフォワードにて、バックエン
 ドを中心に自社サービス開発に従事。23年11月NOT A HOTEL
 に参画。Kyoto.go、KOBE.goの運営に参加\n\nhttps://twitter.com/u
 ji_rb\nhttps://github.com/uji\n\nShunta Komatsu / 株式会社メルペ
 イ\n2022 年 4 月に株式会社メルペイにバックエンドエン
 ジニアとして入社。Payment Core チームでメルカリグルー
 プ全体を支える決済基盤の開発・運用に従事。\nRyu Yama
 da / 株式会社メルペイ\n2022 年 4 月に株式会社メルペイ
 にバックエンドエンジニアとして入社。Partner Platformチ
 ームでメルペイの加盟店審査/メルカリのB2B基盤の開発
 に従事。\n川崎卓大 / 株式会社マネーフォワード\nマネ
 ーフォワードで基盤サービスやマイクロサービスのバ
 ックエンド開発。普段はGoとJavaを使っている。高知県
 に18年過ごしていたが、最近東京に来てそのデカさに
 驚いている。\n主催企業\n株式会社ナレッジワーク\nhttp
 s://kwork.studio/\n「できる喜びが巡る日々を届ける」とい
 うミッションのもと、「仕事におけるイネーブルメン
 ト（能力向上や成果創出）」をテーマに、企業向けク
 ラウドサービス「ナレッジワーク」の開発・提供をし
 ています。\nまた、2022年12月にはGoエンジニア向けのイ
 ネーブルメント事業を始動するなど、新たな事業創出
 にもチャレンジしています。\n\nDevelopers blog\nエンジニ
 ア採用ページ\nconnpass\n\n株式会社LayerX\n「すべての経済
 活動を、デジタル化する。」をミッションに掲げるSaaS
 +FinTechスタートアップです。 法人支出管理サービス「
 バクラク」を中心に、デジタルネイティブなアセット
 マネジメント会社を目指す合弁会社「三井物産デジタ
 ル・アセットマネジメント」、大規模言語モデル（LLM
 ）関連技術を活用し企業や行政における業務効率化・
 データ活用を支援する「AI・LLM事業」などを開発・運
 営しています。\n\n会社概要：https://layerx.co.jp/\nエンジ
 ニアブログ：https://tech.layerx.co.jp/ \n\n株式会社メルカリ
 \nメルカリは「あらゆる価値を循環させ、あらゆる人
 の可能性を広げる」をミッションに掲げる日本発の企
 業です。2013年の創業以降、ミッションの達成に向かっ
 て挑戦してきたメルカリは今、スタートアップから「
 世界に通用する企業」へと変化する挑戦の真っ只中に
 います。オールジャンルの商品を取り扱うCtoCマーケッ
 トプレイス「メルカリ」と、BtoCマーケットプレイス「
 メルカリShops」によって構成されるMarketplace事業、スマ
 ホ決済サービス「メルペイ」を展開し、暗号資産・NFT
 に関するサービスの提供を予定するFintech事業、米国に
 おけるCtoCマーケットプレイス「Mercari」を提供するUS事
 業等を主に展開しています。\n\n会社概要\nエンジニア
 ブログ\n\n株式会社マネーフォワード\nhttps://corp.moneyforw
 ard.com/\n「お金を前へ。人生をもっと前へ。」をミッシ
 ョンに、すべての人のお金の課題解決を目指し、お金
 の見える化サービス『マネーフォワード ME』やバック
 オフィスSaaS『マネーフォワード クラウド』などを提
 供しています。\n\nMoneyForward Developer Blog\nエンジニア向
 けXアカウント\n新卒採用情報ページ\n\nNOT A HOTEL株式会
 社\nNOT A HOTELは「世界中にあなたの家を」をコンセプト
 に、これまでにないあたらしい暮らしを生み出す企業
 です。自宅や別荘のように資産として保有でき、相互
 利用可能な物件を年10日単位からシェア購入できるプ
 ラットフォームを提供しています。\n\nhttps://notahotel.com
 /careers\n
LOCATION:株式会社メルカリ 東京都港区六本木6-10-1 (六本木
 ヒルズ森タワー18F)
URL:https://techplay.jp/event/934617?utm_medium=referral&utm_source=ics&utm
 _campaign=ics
END:VEVENT
END:VCALENDAR
