BEGIN:VCALENDAR
VERSION:2.0
PRODID:-//https://techplay.jp//JP
CALSCALE:GREGORIAN
METHOD:PUBLISH
X-WR-CALDESC:新宿駅オフラインもくもく会
X-WR-CALNAME:新宿駅オフラインもくもく会
X-WR-TIMEZONE:Asia/Tokyo
BEGIN:VTIMEZONE
TZID:Asia/Tokyo
BEGIN:STANDARD
DTSTART:19700101T000000
TZOFFSETFROM:+0900
TZOFFSETTO:+0900
TZNAME:JST
END:STANDARD
END:VTIMEZONE
BEGIN:VEVENT
UID:934618@techplay.jp
SUMMARY:新宿駅オフラインもくもく会
DTSTART;TZID=Asia/Tokyo:20240302T100000
DTEND;TZID=Asia/Tokyo:20240302T113000
DTSTAMP:20260424T021300Z
CREATED:20240203T060855Z
DESCRIPTION:イベント詳細はこちら\nhttps://techplay.jp/event/93461
 8?utm_medium=referral&utm_source=ics&utm_campaign=ics\n\n概要\n参加
 者同士で作業・交流しながら横の繋がりを創ることが
 目的の会です！\n作業中も交流OKなので、話しながら楽
 しく作業しましょう！また、もくもく会終了後に希望
 者で会場近くのお店でご飯を食べながら交流する時間
 を設けていますので、こちらも是非ご参加ください！\
 n対象\n現役ITエンジニアの方、ITエンジニア志望の方、
 IT業界で仕事をしている方、ITに興味がある方\n開催場
 所\nthe 3rd burger 新宿大ガード店\nアクセス：JR新宿駅西
 口から徒歩約5分\n住所：東京都新宿区西新宿7-10-5 イビ
 ス東京新宿1F \nURL：https://tabelog.com/tokyo/A1304/A130401/1319290
 9/\nタイムテーブル\n\n\n\n時間\n内容\n\n\n\n\n10:00 ~ 11:30\n
 もくもく作業タイム\n\n\n12:00 ~ 13:00\n昼食（希望者のみ
 ）\n\n\n\n注意事項\n■ 天候/災害などの理由でイベント
 関係者の安全を考慮し、イベントの内容を変更/中止す
 る場合がございます。\n■ イベント参加にはconnpassで
 の申し込みが必要です。お申し込みがない場合は参加
 できませんのでご注意ください。\n■ 当日の遅刻、直
 前のキャンセルをする場合は主催者までご一報くださ
 い。\n■ 参加費は当日会場でお預かりいたします。現
 金又はPaypayでのお支払いが可能です。  \n禁止事項\n当
 イベントでは以下の行為を禁止しております。\n■ ネ
 ットワークビジネス、マルチ商法、宗教、保険、同業
 者、ご自身の主催するイベントへの勧誘など、他の参
 加者に対する一切の勧誘行為\n■ その他、当イベント
 の信用を棄損する一切の行為\n■ 他の参加者様に迷惑
 をかけたり、不快にさせる行為. \nこれらの行為が発覚
 した際は、参加をお断りする場合やイベントの途中で
 退出していただく場合がございます。\n尚、その際の
 返金は致しかねますのでご了承ください。
LOCATION:the 3rd burger 新宿大ガード店 〒160-0023 東京都新宿
 区西新宿７丁目１０−５ イビス東京新宿 1階
URL:https://techplay.jp/event/934618?utm_medium=referral&utm_source=ics&utm
 _campaign=ics
END:VEVENT
END:VCALENDAR
