BEGIN:VCALENDAR
VERSION:2.0
PRODID:-//https://techplay.jp//JP
CALSCALE:GREGORIAN
METHOD:PUBLISH
X-WR-CALDESC:最適化ではなく最大化を - Sansan西場さんが考
 える開発生産性を学ぶ
X-WR-CALNAME:最適化ではなく最大化を - Sansan西場さんが考
 える開発生産性を学ぶ
X-WR-TIMEZONE:Asia/Tokyo
BEGIN:VTIMEZONE
TZID:Asia/Tokyo
BEGIN:STANDARD
DTSTART:19700101T000000
TZOFFSETFROM:+0900
TZOFFSETTO:+0900
TZNAME:JST
END:STANDARD
END:VTIMEZONE
BEGIN:VEVENT
UID:934983@techplay.jp
SUMMARY:最適化ではなく最大化を - Sansan西場さんが考える
 開発生産性を学ぶ
DTSTART;TZID=Asia/Tokyo:20240219T120000
DTEND;TZID=Asia/Tokyo:20240219T130000
DTSTAMP:20260421T045808Z
CREATED:20240207T060741Z
DESCRIPTION:イベント詳細はこちら\nhttps://techplay.jp/event/93498
 3?utm_medium=referral&utm_source=ics&utm_campaign=ics\n\n✍️概要\n
 本イベントは、500名規模のエンジニア組織をマネジメ
 ントされる西場さん(@m_nishiba)をお招きし、開発生産性
 をどのように捉えているのか、生産性が上がったとは
 何をもって上がったといえるのかというお話しから、\
 n技術本部全体の指揮者として、運営・制度・育成や採
 用をどのように考えているのかについて学ぶ場を目指
 します。\n西場さんに聞いてみたいことを、申込み事
 前アンケートにご記入ください ！\n当日、Q&Aコーナー
 で回答いただきます！\nすべてのご質問については触
 れられない可能性がありますのでご了承ください\n🕛
 タイムテーブル\n\n\n\n時間\nAgenda\n\n\n\n\n12:00 ~ 12:05\nオ
 ープニング\n\n\n12:05 ~ 12:45\n特別講演：『最適化ではな
 く最大化 生産性と生産量を上げるためにどう考えるか
 ？』\n\n\n12:45 ~ 12:55\nQ&A\n\n\n12:55 ~ 13:00\nクロージング\n\n
 \n\n🧑‍💻こんな方におすすめ\n\nスタートアップ〜大
 手企業で開発生産性というワードは知っているが具体
 的な取り組みは始めていないマネージャー・CTO・VPoE、
 テックリード、リードクラスのエンジニア\n自社の開
 発組織、チームづくりを担われている、これから担う
 予定がある方\nアジャイル開発や開発生産性向上を推
 進していきたいが、社内改革をしていく上で改めて「
 開発生産性とは？」を改めて学びたい方\n他社の幹部
 層がどのように開発生産性を定義づけ、組織へアクシ
 ョンをしているか知りたい方\n\n☑️イベントのゴール
 \n\n組織運営の推進者が考える「組織づくり」がわかる
 \n背景課題(why)から、どのような(how)意識改革を推進し
 てきたかがわかる\n\n🗣️スピーカー\n\n西場 正浩   @m_
 nishiba \n Sansan株式会社\n執行役員／VPoE\n数理ファイナン
 スの博士号を取得後、大手銀行で数理モデルの開発に
 従事。その後医療系IT企業でプロダクトマネジャーや
 事業責任者などを務め、2021年にSansan株式会社へ入社。
 技術本部研究開発部でマネジメント業務に当たり、現
 在はVPoE兼VPoPとしてプロダクト開発組織の強化を担う
 。<著者参考記事> 自分1人では何もできない。だから私
 はエンジニアのキャリアで「組織づくり」にフォーカ
 スした\n⚠️諸注意\n\n参加用リンクは開催当日、参加
 確定者にconnpass経由で通知します\nエージェントの方や
 営業目的でのイベントの参加はご遠慮ください\n性別/
 性的指向/障碍の有無/人種/宗教/年齢/容姿/体格/技術の
 選択に関わりなく、 誰もが気持ちよく参加できるよう
 にご協力ください\n当イベントの内容およびスケジュ
 ールは、予告なく変更となる場合があります。予めご
 了承ください。\nイベント参加時に入力いただいた情
 報は、以下に基づき扱います。\nファインディ株式会
 社 プライバシーポリシー   \n\n📣主催・運営\n\n\nファ
 インディ株式会社   \n\n\n｢Findy Team+｣エンジニア組織
 のパフォーマンス最大化サービス \n弊社独自の強みで
 ある「スキル偏差値」で培ってきたアルゴリズム・ノ
 ウハウを活用して、GitHubを連携いただくだけで、その
 組織に属するエンジニアのパフォーマンスや活動状況
 を見える化します。\n\n\n｢Findy Tools｣：\n開発ツールに
 特化したレビューサイト。実際に利用している企業の
 声を元に、開発ツールの導入や検討に必要な情報が集
 約されており、企業の技術選定をサポート。\n\n
LOCATION:オンライン
URL:https://techplay.jp/event/934983?utm_medium=referral&utm_source=ics&utm
 _campaign=ics
END:VEVENT
END:VCALENDAR
