BEGIN:VCALENDAR
VERSION:2.0
PRODID:-//https://techplay.jp//JP
CALSCALE:GREGORIAN
METHOD:PUBLISH
X-WR-CALDESC:【オンライン・無料】商品データを活用した
 マーケティング戦略を成功させるために知っておくべ
 き3つの常識 ~PIM 101 基礎講座 第1回: 情報の一元管理は
 ゴールではない~
X-WR-CALNAME:【オンライン・無料】商品データを活用した
 マーケティング戦略を成功させるために知っておくべ
 き3つの常識 ~PIM 101 基礎講座 第1回: 情報の一元管理は
 ゴールではない~
X-WR-TIMEZONE:Asia/Tokyo
BEGIN:VTIMEZONE
TZID:Asia/Tokyo
BEGIN:STANDARD
DTSTART:19700101T000000
TZOFFSETFROM:+0900
TZOFFSETTO:+0900
TZNAME:JST
END:STANDARD
END:VTIMEZONE
BEGIN:VEVENT
UID:934999@techplay.jp
SUMMARY:【オンライン・無料】商品データを活用したマー
 ケティング戦略を成功させるために知っておくべき3つ
 の常識 ~PIM 101 基礎講座 第1回: 情報の一元管理はゴー
 ルではない~
DTSTART;TZID=Asia/Tokyo:20240214T103000
DTEND;TZID=Asia/Tokyo:20240214T110000
DTSTAMP:20260424T075226Z
CREATED:20240207T072121Z
DESCRIPTION:イベント詳細はこちら\nhttps://techplay.jp/event/93499
 9?utm_medium=referral&utm_source=ics&utm_campaign=ics\n\n概要このウ
 ェビナーは、商品データを活用したマーケティング戦
 略を成功させるために、商品情報管理 (PIM)の知見が示
 す3つの考え方・方法論を解説する Contentserv PIM 101 Master
 class講座です。 基礎講座 第1回では、情報を一元管理
 する「だけ」ではなく、いかに活用していくかについ
 て、Contentserv PIMの機能ベースに解説します。\n＜参加
 者の声＞・PIMの基本を理解できました・データ活用に
 ついて非常に参考になった・データ管理の基本説明が
 分かりやすかった\n＜主なトピックス＞・商品データ
 を一元管理するPIMの基本機能・直感的で合理的な属性
 継承機能・PDFやパワーポイント、紙媒体など販促資料
 へのデータの活用方法・WebサイトやECプラットフォー
 ムへのデータの活用方法\n＜こんな方におすすめ＞・
 製造小売業の商品企画・営業、マーケティングに携わ
 る方・営業・マーケティングでのPIMの活用を検討され
 ている方・商品情報の管理、戦略的活用に課題を感じ
 る方\n＜参加方法＞登録後、Contentserv Webinars (GotoWebinar
 ）より視聴URLをご案内します。開催当日、お時間とな
 りましたら視聴URLよりアクセスいただき、ご聴講くだ
 さい。\n＜スピーカー＞小菅 徹哉株式会社Contentservセ
 ールスマネジャー\n＜開催概要＞・開催日時：2024年2月
 14日（水）10:30-11:00・配信形式: オンライン動画配信（G
 otoWebinar）・参加費: 無料（事前登録制）・主催: 株式
 会社Contentserv・申し込み: (リンク)\nご質問や問い合わ
 せがありましたら、イベント事務局（marketing_jp@contentse
 rv.com）までご連絡ください。\n注意事項\n\nリクルーテ
 ィング、勧誘など、採用目的でのイベント参加はお断
 りしております。\nキャンセル待ち・補欠・落選の方
 はご参加いただくことが出来ませんのでご了承くださ
 い。\n欠席される場合は、お手数ですが速やかにキャ
 ンセル処理をお願い致します。\n
LOCATION:
URL:https://techplay.jp/event/934999?utm_medium=referral&utm_source=ics&utm
 _campaign=ics
END:VEVENT
END:VCALENDAR
