BEGIN:VCALENDAR
VERSION:2.0
PRODID:-//https://techplay.jp//JP
CALSCALE:GREGORIAN
METHOD:PUBLISH
X-WR-CALDESC:出版記念！10社以上の生成AI活用アドバイザー
 を務める著者が語る 「生成AI時代を勝ち抜く事業・組
 織のつくり方」
X-WR-CALNAME:出版記念！10社以上の生成AI活用アドバイザー
 を務める著者が語る 「生成AI時代を勝ち抜く事業・組
 織のつくり方」
X-WR-TIMEZONE:Asia/Tokyo
BEGIN:VTIMEZONE
TZID:Asia/Tokyo
BEGIN:STANDARD
DTSTART:19700101T000000
TZOFFSETFROM:+0900
TZOFFSETTO:+0900
TZNAME:JST
END:STANDARD
END:VTIMEZONE
BEGIN:VEVENT
UID:935008@techplay.jp
SUMMARY:出版記念！10社以上の生成AI活用アドバイザーを務
 める著者が語る 「生成AI時代を勝ち抜く事業・組織の
 つくり方」
DTSTART;TZID=Asia/Tokyo:20240220T120000
DTEND;TZID=Asia/Tokyo:20240220T130000
DTSTAMP:20260422T185707Z
CREATED:20240207T094001Z
DESCRIPTION:イベント詳細はこちら\nhttps://techplay.jp/event/93500
 8?utm_medium=referral&utm_source=ics&utm_campaign=ics\n\n出版記念！1
 0社以上の生成AI活用アドバイザーを務める著者が語る 
 「生成AI時代を勝ち抜く事業・組織のつくり方」\n▼内
 容\n2024年2月に、生成AIを活用した新たな価値創出のフ
 レームワークについて書かれた書籍「生成AI時代を勝
 ち抜く事業・組織のつくり方」が出版されます。\n1月3
 0日から予約が開始され、早くもAmazonの情報社会カテゴ
 リでベストセラー1位を獲得、増刷が決定した書籍です
 。\n本セミナーは出版特別記念として、著者である株
 式会社POSTS 代表取締役CEO 梶谷 健人 氏が登壇。10社以
 上の生成AI活用アドバイザーを務め、新規事業/サービ
 ス開発のエキスパートでもある同氏から、下記の内容
 についてご紹介いただきます。\n\n生成AIの各界への衝
 撃と、今後の事業のつくり方\n生成AIを積極活用する組
 織のつくり方\n生成AIの中長期の未来予測\n生成AIによ
 る組織変革への備え など\n\n※内容は変更になる可能
 性がございます。\n本講演は、生成AIで自社の事業・組
 織をいかに成長させるかに重点を置いており、経営層
 や事業推進に携わる方が真に求めている生成AIの知識
 を集約した内容になっています。\n梶谷 健人 氏の見識
 と経験に基づくノウハウを通じて、生成AIを活用した
 事業・組織づくりのご参考になさってください。（本
 セミナーは無料です）\n▼こんな方におすすめ\n\n生成A
 Iを自社の事業・組織づくりに活かしたい\n生成AIの有
 識者から未来予測を聞きたい\n\n\n▼講義内容\n12:00-　
 　ご挨拶12:01-　　講演「生成AI時代を勝ち抜く事業・
 組織のつくり方」 　　　12:30-　　パネルディスカッシ
 ョン 　　　　　12:45-　　ご案内12:50-　　質疑応答\n▼
 講師プロフィール\n梶谷 健人 氏\n株式会社POSTS　代表
 取締役CEO株式会社エクサウィザーズ　アドバイザー\n
 生成AIなどの先端テクノロジーやプロダクト戦略を軸
 にしたアドバイザーとして10社以上の顧問に従事。株
 式会社VASILYでのグロース担当や、新規事業立ち上げと
 グロースを支援するフリーランスを経て、2023年8月ま
 で株式会社MESONの代表としてXR/メタバース領域で事業
 を展開。\n著書「生成AI時代を勝ち抜く事業・組織のつ
 くり方」「いちばんやさしいグロースハックの教本」\
 n\n\n大植 択真\n株式会社エクサウィザーズ　常務取締
 役 兼株式会社Exa Enterprise AI　代表取締役\n京都大学工
 学部卒業。京都大学工学研究科修了（都市計画、AI・
 データサイエンス）。2013年、ボストンコンサルティン
 ググループに入社。事業成長戦略、企画変革、DX推進
 、新規事業立ち上げなどの多数のプロジェクトに従事
 した後に2018年、エクサウィザーズ入社。2019年4月より
 、AI事業管掌執行役員として年間数百件のAI導入・DX実
 現を担当。企業の経営層や管理職向けDX研修の講師実
 績が多数ある。2020年6月に取締役就任。2023年6月に常務
 取締役に就任。兵庫県立大学客員准教授。著書に「Web3
 時代のAI戦略」（日経BP、2022年)、「次世代AI戦略2025 激
 変する20分野 変革シナリオ128」（日経BP、2021年)\n\n▼
 注意事項\n\n開催方法：Webセミナー　※Zoomを利用しま
 す\n参加方法：お申込後に、別途メールにてご案内致
 します。\n競合他社様のお申込みはお断りする場合が
 ございます。予めご容赦ください。\n
LOCATION:
URL:https://techplay.jp/event/935008?utm_medium=referral&utm_source=ics&utm
 _campaign=ics
END:VEVENT
END:VCALENDAR
