BEGIN:VCALENDAR
VERSION:2.0
PRODID:-//https://techplay.jp//JP
CALSCALE:GREGORIAN
METHOD:PUBLISH
X-WR-CALDESC:【クライド・インフォネット共催】お問い合
 わせを増やしたい！毎月の分析と導線改善でサイトのC
 VRをアップする方法
X-WR-CALNAME:【クライド・インフォネット共催】お問い合
 わせを増やしたい！毎月の分析と導線改善でサイトのC
 VRをアップする方法
X-WR-TIMEZONE:Asia/Tokyo
BEGIN:VTIMEZONE
TZID:Asia/Tokyo
BEGIN:STANDARD
DTSTART:19700101T000000
TZOFFSETFROM:+0900
TZOFFSETTO:+0900
TZNAME:JST
END:STANDARD
END:VTIMEZONE
BEGIN:VEVENT
UID:935631@techplay.jp
SUMMARY:【クライド・インフォネット共催】お問い合わせ
 を増やしたい！毎月の分析と導線改善でサイトのCVRを
 アップする方法
DTSTART;TZID=Asia/Tokyo:20240306T110000
DTEND;TZID=Asia/Tokyo:20240306T120000
DTSTAMP:20260420T111015Z
CREATED:20240214T013025Z
DESCRIPTION:イベント詳細はこちら\nhttps://techplay.jp/event/93563
 1?utm_medium=referral&utm_source=ics&utm_campaign=ics\n\n概要\nWebサ
 イトを運用しているものの「問い合わせが増えない」
 「流入はあるもののコンバージョン(CV)を獲得できてい
 ない、離脱してしまう」などのお悩みをお持ちの方も
 多いと思います。そのような時に有効なのが「定期的
 にサイトの現状を把握すること」や、「サイトの現状
 に合わせた対策を行うこと」です。アクセス解析で現
 状を確認することにより、サイトパフォーマンスを上
 げるためには何が必要か、課題や改善点を明確にする
 ことができます。そして、分析を行った結果、集客に
 課題がある場合には、コンテンツや導線の見直しなど
 、CVを増やすためのマーケティング施策が必要になる
 場合もあります。今回のセミナーでは、自社サイトの
 分析と改善を行いながら、CVを増やす方法についてご
 紹介いたします。自社サイトからのCV獲得に課題をお
 持ちの方、サイトをマーケティングに活用していきた
 い方はぜひご参加ください！\n◆こんな方におすすめ\n
 \nマーケティング/広報/サイト管理を行っている部署の
 ご担当の方\n毎月出すアクセス分析データをサイト改
 善に活用したい方\nサイトの改善を行いたいが、何か
 ら手を付ければ良いかわからない方\nサイト流入はあ
 るもののCVRが低く、お悩みの方\n\nタイムスケジュール
 \n\n\n\n時間\n内容\n\n\n\n\n11:00〜11:05\nオープニング\n\n\n11
 :05〜11:30\n株式会社インフォネット　メディアプロデュ
 ース部　村岡 祐輔Web解析で自社サイトの改善ポイント
 をチェックする方法\n\n\n11:30〜11:55\n株式会社クライド
 　ADMATRIX事業部　第3プロダクトストラテジー部　部長
 　大庭 菖吾CVR30％アップ！BtoBサイトにおいて、お問い
 合わせを増やすサイト改善方法\n\n\n11:55〜12:00\n質疑応
 答\n\n\n\n※ 当日予告なく時間配分・内容が変更になる
 可能性がございます。\n登壇者\n\n村岡 祐輔\n株式会社
 インフォネット　メディアプロデュース部\n大学卒業
 後、大手ハウスメーカーで個人営業を経験。その後、
 中古車情報企業でWebや紙媒体の広告企画の法人営業に
 従事し、多様な業界での営業経験を積む。\n2021年にイ
 ンフォネットに入社し、現在は関西地区の法人企業を
 中心に、Webサイトの企画・提案営業を担当。SEO対策や
 マーケティング視点など、営業・IT技術の観点からの
 セミナーに年間30件以上登壇し、エバンジェリストと
 しても活躍。\n企業が存在するには、そこに価値があ
 るはずとの信念を持ち、潜在課題や潜在価値を見抜く
 ことで、本質を捉えた課題解決を行う。常に「あるべ
 き姿」を念頭に提案活動を行い、クライアントのビジ
 ネス成長を支えている。\n\n\n大庭 菖吾\n株式会社クラ
 イド　ADMATRIX事業部　第3プロダクトストラテジー部　
 部長　大庭 菖吾\n2019年株式会社CRAIDへ新卒入社。メデ
 ィア事業に従事した後、B-HACK事業に参画。BtoBマーケテ
 ィングに特化したCVR最適化ツールの事業拡大に奔走中
 。\nまた、IPアドレスを活用したマーケティングなども
 得意としており、企業様のWeb集客、サイト内改善の支
 援をしております。\n\nこんな方におすすめ\n\nマーケ
 ティング/広報/サイト管理を行っている部署のご担当
 の方\n毎月出すアクセス分析データをサイト改善に活
 用したい方\nサイトの改善を行いたいが、何から手を
 付ければ良いかわからない方\nサイト流入はあるもの
 のCVRが低く、お悩みの方\n\n参加費\n無料\n注意事項\n\n
 同業他社の方の参加はお断りする場合がございます。\
 nリクルーティング、勧誘など、採用目的でのイベント
 参加はお断りしております。\nキャンセル待ち・補欠
 ・落選の方はご参加いただくことが出来ませんのでご
 了承ください。\n欠席される場合は、お手数ですが速
 やかにキャンセル処理をお願い致します。\n無断キャ
 ンセルや欠席が続く場合、次回以降の参加をお断りさ
 せていただく場合がございます。\n
LOCATION:
URL:https://techplay.jp/event/935631?utm_medium=referral&utm_source=ics&utm
 _campaign=ics
END:VEVENT
END:VCALENDAR
