BEGIN:VCALENDAR
VERSION:2.0
PRODID:-//https://techplay.jp//JP
CALSCALE:GREGORIAN
METHOD:PUBLISH
X-WR-CALDESC:【オンライン】クラウドもくもく勉強会&LT会
 ！（AWS/GCP/Azure）
X-WR-CALNAME:【オンライン】クラウドもくもく勉強会&LT会
 ！（AWS/GCP/Azure）
X-WR-TIMEZONE:Asia/Tokyo
BEGIN:VTIMEZONE
TZID:Asia/Tokyo
BEGIN:STANDARD
DTSTART:19700101T000000
TZOFFSETFROM:+0900
TZOFFSETTO:+0900
TZNAME:JST
END:STANDARD
END:VTIMEZONE
BEGIN:VEVENT
UID:935720@techplay.jp
SUMMARY:【オンライン】クラウドもくもく勉強会&LT会！（A
 WS/GCP/Azure）
DTSTART;TZID=Asia/Tokyo:20240410T190000
DTEND;TZID=Asia/Tokyo:20240410T213000
DTSTAMP:20260421T165129Z
CREATED:20240214T113554Z
DESCRIPTION:イベント詳細はこちら\nhttps://techplay.jp/event/93572
 0?utm_medium=referral&utm_source=ics&utm_campaign=ics\n\nイベント概
 要\n受託開発・自社サービス・プロジェクト支援サー
 ビスを手がけるmiracleave株式会社が主催する、もくもく
 会です！現役クラウドエンジニアの方がいますので、
 初学者から微経験者の方まで困ったことやわからない
 ことを解決出来る勉強会となっております！ また、も
 くもくの合間で技術共有を目的として簡単なLTを実施
 しています。\nこのイベントの対象者\n\nエンジニアを
 目指して勉強中の方\n一緒に勉強する仲間が欲しい方\n
 勉強の仕方を教えてほしい方\nインフラエンジニアの
 方（AWS/Google Cloud/Azure）\n\nイベントについて\n\n日時：2
 024/4/10（水）\n時間：19:00 - 21:30\n会場：オンライン開催
 (Discord)\n参加費：無料\n準備するもの：以下事前準備を
 ご確認ください。\n\n事前準備\n\nもくもくしたい内容\n
 LTで話したい内容（興味がある方）\n\nイベントスケジ
 ュール\n\n\n\n時間\n内容\n\n\n\n\n19:00 - 19:05\nオープニン
 グ\n\n\n19:05 - 19:15\n自己紹介＆もくもくする事を発表！\
 n\n\n19:15 - 20:05\n～もくもくタイム～\n\n\n20:05 - 20:35\n～LT
 タイム～\n\n\n20:35 - 21:00\n～もくもくタイム～\n\n\n21:00 -
  21:15\n結果発表！\n\n\n21:15 - 21:30\nクロージング\n\n\n\n※
 途中入退室可能です。\nイベント詳細\n\nもくもくする
 内容は自由です！\n困ったことがあったら、質問しま
 しょう！\nよく話題になる技術は以下です。　\n\n\nお
 問い合わせ先\nご不明点がございましたら、Discordまた
 は、公式LINEよりお問い合わせください。\nその他・注
 意事項\n\nコロナウィルス感染防止対策を行った上で実
 施いたします。\nコロナウィルス感染に関して、弊社
 は一切責任を追いません。\n以下に該当される方の参
 加はお断りしております。・会場での営業活動、保険
 、投資不動産などの営業目的の方・MLM及び宗教関連の
 勧誘目的の方・飲食目的の方\n当日は、miracleave社によ
 る写真や動画撮影が行われる予定です。\n参加者のみ
 なさまが映り込む場合があります。それらは、miracleave
 社によるイベント終了後の広告物、取材メディアによ
 るWEBなどに露出／掲載される場合がありますので、撮
 影NGの方は事前にご連絡ください。\n
LOCATION:
URL:https://techplay.jp/event/935720?utm_medium=referral&utm_source=ics&utm
 _campaign=ics
END:VEVENT
END:VCALENDAR
