BEGIN:VCALENDAR
VERSION:2.0
PRODID:-//https://techplay.jp//JP
CALSCALE:GREGORIAN
METHOD:PUBLISH
X-WR-CALDESC:第５回: 技術書読書会「linuxシステムの仕組み
 」
X-WR-CALNAME:第５回: 技術書読書会「linuxシステムの仕組み
 」
X-WR-TIMEZONE:Asia/Tokyo
BEGIN:VTIMEZONE
TZID:Asia/Tokyo
BEGIN:STANDARD
DTSTART:19700101T000000
TZOFFSETFROM:+0900
TZOFFSETTO:+0900
TZNAME:JST
END:STANDARD
END:VTIMEZONE
BEGIN:VEVENT
UID:935737@techplay.jp
SUMMARY:第５回: 技術書読書会「linuxシステムの仕組み」
DTSTART;TZID=Asia/Tokyo:20240223T190000
DTEND;TZID=Asia/Tokyo:20240223T210000
DTSTAMP:20260421T154249Z
CREATED:20240214T140740Z
DESCRIPTION:イベント詳細はこちら\nhttps://techplay.jp/event/93573
 7?utm_medium=referral&utm_source=ics&utm_campaign=ics\n\n第５回: ス
 ーパーユーザーなら知っておくべきLinuxシステムの仕
 組み 読書会\n書籍の購入はこちら： スーパーユーザー
 なら知っておくべきLinuxシステムの仕組み\n第５回の内
 容\n「第3章 デバイス」から輪読を行います。\n開催周
 期\n毎月第二・第三金曜日\n期間\n12月から始まる6ヶ月
 間（全12回）\n形式\nオンライン(meetsかzoom)→前日まで
 に公開します。\n対象者\nLinux初心者から上級者まで、L
 inuxに興味がある全ての方\n目的\n参加者同士で学びを
 共有し、Linuxの知識とスキルを向上させる\nセッション
 内容\n各セッションでは、本の特定の章を読み進め、
 理解を深めるためのディスカッションやQ&Aを行います
 。\n皆さんのご参加をお待ちしております。一緒にLinux
 の深い理解を目指しましょう！
LOCATION:オンライン オンライン
URL:https://techplay.jp/event/935737?utm_medium=referral&utm_source=ics&utm
 _campaign=ics
END:VEVENT
END:VCALENDAR
