BEGIN:VCALENDAR
VERSION:2.0
PRODID:-//https://techplay.jp//JP
CALSCALE:GREGORIAN
METHOD:PUBLISH
X-WR-CALDESC:【🔰初心者向け｜累計参加人数2000人突破】Goo
 gleアナリティクス・サーチコンソールを学ぶ！はじめ
 てのアクセス解析セミナー
X-WR-CALNAME:【🔰初心者向け｜累計参加人数2000人突破】Goo
 gleアナリティクス・サーチコンソールを学ぶ！はじめ
 てのアクセス解析セミナー
X-WR-TIMEZONE:Asia/Tokyo
BEGIN:VTIMEZONE
TZID:Asia/Tokyo
BEGIN:STANDARD
DTSTART:19700101T000000
TZOFFSETFROM:+0900
TZOFFSETTO:+0900
TZNAME:JST
END:STANDARD
END:VTIMEZONE
BEGIN:VEVENT
UID:935809@techplay.jp
SUMMARY:【🔰初心者向け｜累計参加人数2000人突破】Google
 アナリティクス・サーチコンソールを学ぶ！はじめて
 のアクセス解析セミナー
DTSTART;TZID=Asia/Tokyo:20240229T130000
DTEND;TZID=Asia/Tokyo:20240229T140000
DTSTAMP:20260421T011819Z
CREATED:20240215T060205Z
DESCRIPTION:イベント詳細はこちら\nhttps://techplay.jp/event/93580
 9?utm_medium=referral&utm_source=ics&utm_campaign=ics\n\nアクセス解
 析の基本をオンラインで学ぶ\n\n本セミナーではこれか
 らアクセス解析を始める人向けに\nアクセス解析で見
 るべきデータや基本的な分析方法について解説します
 ！\n\n各アクセスデータの意味やGoogleアナリティクスと
 Googleサーチコンソールの違いなどについても解説して
 いくので、これからアクセス解析を始める方は必見で
 す！\n\n※本セミナーは事前に録画した内容を配信しま
 す。\n\nこんな方におすすめ\n\n・アクセス解析の何か
 ら始めればいいか分からない\n・アクセスデータのど
 こに注目していいか分からない\n・GA・サーチコンソー
 ルの基本について知りたい\n\n本セミナーの特徴\n\n①
 アクセス解析で見るべきデータが分かる\nアクセス解
 析で基本となるGoogleアナリティクスとGoogleサーチコン
 ソールのデータの意味とその分析方法を分かり易く解
 説します。\n\n②PV数を増やすための改善方法が分かる\
 nサイトのPV数を増やすための考え方、改善方法を具体
 的な事例を交えて解説します。\n\n③演習問題でアクセ
 ス解析の理解が進む\nセミナーの最後にはアクセス解
 析についての参加型の演習問題をご用意しています。
 演習問題を解くことでセミナーの内容をより理解する
 ことができます。\n\nセミナー参加者の声\n\n\n\n参加型
 の演習問題で理解が進む\n\n\n\nセミナーカリキュラム\n
 \n①アクセス解析とは\n②アクセス解析で使うツール\n
 ③アクセス解析で見るデータ\n④PV数とは\n⑤PV数を分
 析する\n⑥リンクを改善してPV数を増やす\n⑦検索キー
 ワードからユーザーニーズを分析する\n⑧演習問題\n\n
 ※講演内容は予告なく変更される場合がございます。
 予めご了承くださいますようお願いします。\n※競合
 にあたる企業の方の申し込みはお断りをさせて頂いて
 おります。ご了承ください\n\n参加対象\n\n広告・マー
 ケティング・広報に関わっている方\nWeb制作担当者\nWEB
 マスター・サイト管理者・デザイナー\n\n参加費\n\n無
 料\n\n開催概要\n\n本セミナーはZoomでの配信となります
 。\nセミナー参加URLは開催前日に（no-reply@zoom.us）より
 お送りしています。\n当日朝8:00と開催10分前には（semin
 ar@symmetric.co.jp）よりお送りしています。\n\n※参加URLが
 配信されていない場合はお手数ですがシンメトリック
 セミナー事務局(seminar@symmetric.co.jp)までご連絡ください
 。\n※お申し込み情報をもとに参加登録を行なってい
 るため、前日と朝のリマインドメールは届かない場合
 もございます。ご了承ください。\n\n注意事項\n\nリク
 ルーティング、勧誘など、採用目的でのイベント参加
 はお断りしております。\n\n個人情報の取り扱いについ
 て\n\n申し込み時にご提供いただいた情報は、イベント
 受付管理や各種ご案内（サービス・イベント等）に利
 用させていただきます。\n\n主催社について\n\n株式会
 社シンメトリック(https://www.symmetric.co.jp)\n\nシンメトリ
 ックは、アクセス解析・SEO対策の専門家として、Google
 アナリティクスやサーチコンソールのデータを可視化
 し、サイトの課題点の発見、改善案の策定を支援する
 ツールやサービスを提供しています。\n\nプロフェッシ
 ョナルSEO分析ツール『アナトミー』(https://siteanatomy.com/
 )\n\nプロフェッショナルが行う高度なSEO分析を、直観
 的な操作で視覚化するツールです。\n専門家でも、時
 間のかかる検索ワードの一覧資料や、ユーザー動線の
 説明資料作成の労力を大幅に短縮することができます
 。また、これからSEOを自社で対策しようとする企業に
 とっては、アナトミー習得をすることで、専門家並み
 の分析をすぐに開始できるため、人材育成の時間を大
 幅に節約することが可能となります。\n\nWebマーケティ
 ング内製化支援サービス「REBUILD WEB-MKTG-SITE」(https://www.
 dx.symmetric.co.jp/)\n\nサイト制作から改善まで、SEO対策の
 専門家がトータルサポート\n改善施策を素早く反映で
 きるWebマーケティングに最適なサイトへ最短１ヶ月で
 リニューアル。\nノーコードツール『Wix』の導入とス
 キルトランスファーによりWebマーケティング業務の内
 製化を支援します。
LOCATION:オンライン
URL:https://techplay.jp/event/935809?utm_medium=referral&utm_source=ics&utm
 _campaign=ics
END:VEVENT
END:VCALENDAR
