BEGIN:VCALENDAR
VERSION:2.0
PRODID:-//https://techplay.jp//JP
CALSCALE:GREGORIAN
METHOD:PUBLISH
X-WR-CALDESC:HIGゆるゆる輪読実況会 #61
X-WR-CALNAME:HIGゆるゆる輪読実況会 #61
X-WR-TIMEZONE:Asia/Tokyo
BEGIN:VTIMEZONE
TZID:Asia/Tokyo
BEGIN:STANDARD
DTSTART:19700101T000000
TZOFFSETFROM:+0900
TZOFFSETTO:+0900
TZNAME:JST
END:STANDARD
END:VTIMEZONE
BEGIN:VEVENT
UID:935857@techplay.jp
SUMMARY:HIGゆるゆる輪読実況会 #61
DTSTART;TZID=Asia/Tokyo:20240219T190000
DTEND;TZID=Asia/Tokyo:20240219T200000
DTSTAMP:20260420T130447Z
CREATED:20240215T140715Z
DESCRIPTION:イベント詳細はこちら\nhttps://techplay.jp/event/93585
 7?utm_medium=referral&utm_source=ics&utm_campaign=ics\n\nHIGゆるゆる
 輪読実況会\n🍎イベント概要\nApple の Human Interface Guidel
 ines をみはるんとうほーいで読み上げながら、ときお
 り脱線しつつ、参加者にコメントを求めたりする、輪
 読会のような、実況のようなイベントです。\n今回の
 開始ページ👉 ［Apple Human Interface Guidelines］>［テクノ
 ロジー］>［アプリ内課金#自動更新サブスクリプショ
 ン］\nHIG更新情報: https://developer.apple.com/design/whats-new/\n
 進捗状況一覧👉 HIG輪読会Wiki > [進捗状況] \n再生リス
 ト👉 https://www.youtube.com/playlist?list=PLxDvxEM4uVGG5730eXBfjAgxr1
 4060_gu\n🕺このグループについて\nApple の Human Interface Gu
 idelines を週イチのペースでちょっとずつ輪読していく
 会です。\n輪読会を通してHIGの全容を把握·理解するこ
 とをめざします。\n⏰タイムテーブル\n19:00 開始、1時
 間で終了です。\n前後の予定の都合により、多少遅め
 開始早め終了になる可能性もあります。\n\n\n\n時刻\n内
 容\n話し手\n\n\n\n\n19:00～\n本日の輪読箇所の紹介\nみは
 るん·うほーい\n\n\n19:05～\n1ページ分を読み上げ\nみは
 るん·うほーい\n\n\n\n1ページ分を質疑\n全員\n\n\n〜19:55
 頃\n上記を繰り返し\n\n\n\n〜20:00\n本日のまとめ、次回
 の開始箇所の案内、雑談\nみはるん·うほーい\n\n\n\n読
 み上げ中に疑問点やコメントしたい点がありましたら
 、ぜひマイクONにしてご発言ください！\nチャットも拾
 うのでぜひ投稿してください！\n⬜🟢主催者プロフィ
 ール\nみはるん(@miharun_dev)\niOSアプリエンジニア。レオ
 パと暮らしている。\nうほーい(@the_uhooi)\niOSアプリエン
 ジニア。うほーい星から渋谷の会社にリモートワーク
 で働いている。\n💁‍♀️こんな方におすすめ\n\nHIGが
 新しくなってから読んでない方\nHIGの学習を始めてい
 る方\nHIGをすでによく理解されている方→輪読中に出
 てきた疑問点に、ぜひご回答お願いします🙏\n\n👋入
 退室自由。たまの参加も歓迎です。\n🛍️事前準備\n
 輪読会はGoogle Meetで行います。\nWebブラウザから参加で
 きるので、アプリなどをインストールする必要はあり
 ません。\n時間になったら「参加者への情報」に記載
 しているURLからお入りください。\n当日の輪読箇所に
 ついて予習する必要はありません。でも気分がノッた
 ら予習を止めるものではありません。\nSwift / iOS / UI /UX
LOCATION:オンライン オンライン
URL:https://techplay.jp/event/935857?utm_medium=referral&utm_source=ics&utm
 _campaign=ics
END:VEVENT
END:VCALENDAR
