BEGIN:VCALENDAR
VERSION:2.0
PRODID:-//https://techplay.jp//JP
CALSCALE:GREGORIAN
METHOD:PUBLISH
X-WR-CALDESC:【増枠！】機械学習ができるWebアプリを作っ
 てみよう！プロトアウト体験会
X-WR-CALNAME:【増枠！】機械学習ができるWebアプリを作っ
 てみよう！プロトアウト体験会
X-WR-TIMEZONE:Asia/Tokyo
BEGIN:VTIMEZONE
TZID:Asia/Tokyo
BEGIN:STANDARD
DTSTART:19700101T000000
TZOFFSETFROM:+0900
TZOFFSETTO:+0900
TZNAME:JST
END:STANDARD
END:VTIMEZONE
BEGIN:VEVENT
UID:935885@techplay.jp
SUMMARY:【増枠！】機械学習ができるWebアプリを作ってみ
 よう！プロトアウト体験会
DTSTART;TZID=Asia/Tokyo:20240227T193000
DTEND;TZID=Asia/Tokyo:20240227T205000
DTSTAMP:20260420T110227Z
CREATED:20240215T210653Z
DESCRIPTION:イベント詳細はこちら\nhttps://techplay.jp/event/93588
 5?utm_medium=referral&utm_source=ics&utm_campaign=ics\n\n■ イベント
 概要\nGoogleが提供する「TeachableMachine」という機械学習
 の独自モデルが作成できるツールを、\n「CodePen」とい
 うオンライン上でコーディングができるサービスと組
 み合わせて体感します！\n初心者も大歓迎ですので、
 ぜひ一緒に機械学習WEBアプリケーション作りましょう
 ！\nTeachableMachineの利用イメージ\n\n\n普段のプロトアウ
 トスタジオの授業では、技術に触れインプットしたう
 えで、実際に手を動かしながら発想をカタチにするア
 ウトプットを行います。\n本イベントでは技術の使い
 方にフォーカスし、ハンズオン形式でお伝えします！\
 n■ 対象者\n\nプロトアウトスタジオにちょっとでも興
 味を持った人\n最速で動くものを作る体験をしてみた
 い人\nちょっとしたWEBアプリケーション を作ってみた
 い人\n機械学習に興味がある人\nプログラミング初心者
 \n\n■ ハンズオンの前提に必要なもの\n参加条件\n\n仕
 事・趣味を問わず、なんらかのプログラミング言語を
 使って開発をした経験、及び意欲がある。\n必要な事
 前準備（後ほど記載）を事前にできる方\n\n(条件を満
 たしていない場合でも参加は可能ですが、ハンズオン
 の内容を難しいと感じる可能性が高いです。)\n準備物\
 n\nGoogle Chrome をインストール済みのパソコン（Windows/Mac
 どちらでもOK）\n\nハンズオンはGoogle Meetを使い、オン
 ラインで実施します。\n■ スケジュール\n\n19:25 開場\n1
 9:30-19:35 スタート、オープニング\n19:35-20:30 ハンズオン
 ＆ミニハッカソン\n(①WEBアプリケーションの基礎 ②機
 械学習 ③組み合わせてみよう)\n20:40-20:50 QAタイム&雑談
 タイム 終了\n\n■ 講師陣\nちーろってぃ\n\nシーシャを
 愛し愛されたシステムエンジニアです。シーシャ好き
 が自分にピッタリのシーシャ屋さんに出会えるアプリ
 「もくまっち」 @mochmatch をシーシャ屋さんにて開発中
 👩‍💻 友人ｲｯﾇ🐶のアカウント→ @shishawosuuinnu\nX(
 twitter):ちーろってぃ🐶シーシャアプリ『もくまっち』
 開発者（@chiiirotty）\n\n■ 参加後アンケート\nハンズオ
 ン終了後にアンケート回答をお願い致します。\n■ 主
 催 プロトタイピング専門スクール プロトアウトスタ
 ジオ\nプロトアウトスタジオ\nVUCAな時代と言われるよ
 うに、不確実で変化が多い時代においては、一つのこ
 とを追求してエキスパートになることや、長い時間を
 かけて完璧なモノを作るよりも、より多くの情報やツ
 ールを適切につなぎ合わせて素早く形にする力＝プロ
 トタイピングスキルが必要とされています。\nプロト
 アウトスタジオは、色々なAPIやツールを繋ぎ合わせて
 素早く形にする力を学ぶプロトタイピング専門スクー
 ルです。\n※コロナ禍に伴い、完全にオンライン実施
 をしています。
LOCATION:プロトアウトYoutubeちゃんねる オンライン
URL:https://techplay.jp/event/935885?utm_medium=referral&utm_source=ics&utm
 _campaign=ics
END:VEVENT
END:VCALENDAR
