BEGIN:VCALENDAR
VERSION:2.0
PRODID:-//https://techplay.jp//JP
CALSCALE:GREGORIAN
METHOD:PUBLISH
X-WR-CALDESC:The Model の実践 〜セールス・マーケティング支
 援の SaaS 企業が実践する営業オペレーション〜
X-WR-CALNAME:The Model の実践 〜セールス・マーケティング支
 援の SaaS 企業が実践する営業オペレーション〜
X-WR-TIMEZONE:Asia/Tokyo
BEGIN:VTIMEZONE
TZID:Asia/Tokyo
BEGIN:STANDARD
DTSTART:19700101T000000
TZOFFSETFROM:+0900
TZOFFSETTO:+0900
TZNAME:JST
END:STANDARD
END:VTIMEZONE
BEGIN:VEVENT
UID:936028@techplay.jp
SUMMARY:The Model の実践 〜セールス・マーケティング支援
 の SaaS 企業が実践する営業オペレーション〜
DTSTART;TZID=Asia/Tokyo:20240314T110000
DTEND;TZID=Asia/Tokyo:20240314T120000
DTSTAMP:20260420T130241Z
CREATED:20240216T232307Z
DESCRIPTION:イベント詳細はこちら\nhttps://techplay.jp/event/93602
 8?utm_medium=referral&utm_source=ics&utm_campaign=ics\n\nThe Model の実
 践 〜セールス・マーケティング支援の SaaS 企業が実践
 する営業オペレーション〜\n― 売上成長と営業効率の
 革新を目指す事業責任者・営業・マーケティング責任
 者必見\n近年、営業生産性の向上を目指し、営業活動
 の分業化・The Model へ移行する企業が増えています。し
 かし、単純に体制を移行しただけで売上向上や効率化
 が実現する訳ではなく、その成功への取り組みは一筋
 縄ではいきません。\nこのようなお悩みをお持ちの方
 も多いのではないでしょうか。\n\n事業目標に対して部
 門ごとの KGI・KPI が結びついていない\nインサイドセー
 ルス組織が獲得した商談が収益に繋がらない\n部門間
 の情報連携が煩雑で、無駄な工数が生まれている\n\n今
 回のウェビナーでは、売上最大化を実現するための営
 業オペレーションに焦点を当て、BtoBマーケティング支
 援サービス「ferret One」を提供するベーシックと、営業
 支援SaaS「Magic Moment Playbook」を提供する Magic Moment が、
 各社が実践する中で得た知見・多くの企業を支援する
 中で得た知見を踏まえて、ディスカッション形式で深
 掘りしていきます。\n営業組織の強化を目指す営業部
 長や経営層、営業企画を担当する方、マーケティング
 のデジタル化を加速させたいリーダーの方々にとって
 、The Model を活用した営業効率と収益向上のヒントをお
 届けいたします。ぜひ社内お誘い合わせの上、ご参加
 ください。\nこのような方におすすめ\n\n営業企画・営
 業推進の責任者\n自社の営業組織を強化したい、営業
 責任者・経営層の方\n営業DX を加速させたい、マーケ
 ティングリーダー\n\n概要\n\n\n\n\n\n\n\n\n\n対象\n事業責
 任者 / 営業責任者 / 営業企画\n\n\n日時\n2024年3月14日（
 木） 11:00-12:00\n\n\n内容\nパネルディスカッション形式
 で、The Model 組織における収益向上・営業効率化をテー
 マに、両社の取り組み事例や支援実績を交えてご紹介
 いたします。\n\n\n会場\nオンライン（Zoom）\n\n\n費用\n
 無料\n\n\n参加方法\nお申し込みフォームからご登録後
 、セミナー開催の前日・当日に視聴用URLをご案内させ
 ていただきます。\n\n\n注意事項　　　　\n＊同業他社
 様のご参加はご遠慮いただいております。＊その他、
 ご不明点・ご質問がございましたら弊社ホームページ
 よりお問い合わせください。【プライバシーポリシー
 について】今回ご提供いただく個人情報は、プライバ
 シーポリシーに基づき厳重に管理いたします。株式会
 社Magic Moment 個人情報保護方針株式会社ベーシック プ
 ライバシーポリシー\n\n\n
LOCATION:
URL:https://techplay.jp/event/936028?utm_medium=referral&utm_source=ics&utm
 _campaign=ics
END:VEVENT
END:VCALENDAR
