BEGIN:VCALENDAR
VERSION:2.0
PRODID:-//https://techplay.jp//JP
CALSCALE:GREGORIAN
METHOD:PUBLISH
X-WR-CALDESC:Kamakura Mok Mok Hack 181 - 鎌倉もくもく会
X-WR-CALNAME:Kamakura Mok Mok Hack 181 - 鎌倉もくもく会
X-WR-TIMEZONE:Asia/Tokyo
BEGIN:VTIMEZONE
TZID:Asia/Tokyo
BEGIN:STANDARD
DTSTART:19700101T000000
TZOFFSETFROM:+0900
TZOFFSETTO:+0900
TZNAME:JST
END:STANDARD
END:VTIMEZONE
BEGIN:VEVENT
UID:936272@techplay.jp
SUMMARY:Kamakura Mok Mok Hack 181 - 鎌倉もくもく会
DTSTART;TZID=Asia/Tokyo:20240225T110000
DTEND;TZID=Asia/Tokyo:20240225T140000
DTSTAMP:20260421T192603Z
CREATED:20240219T140648Z
DESCRIPTION:イベント詳細はこちら\nhttps://techplay.jp/event/93627
 2?utm_medium=referral&utm_source=ics&utm_campaign=ics\n\nKamakura Mok Mok
  Hack はKamakura Dev主催の鎌倉でもくもくハックする会で
 す。\n休日の正午から午後にかけてゆーるく有志で集
 まってもくもくと色々なことをしようという会です。\
 nどんなことをするの？\n\n密かにあたためていた個人
 サービスを開発してみる\nそんな個人サービスを一緒
 に開発してみる\nアイデアソンからハッカソンまでや
 ってみる\nプログラミング言語やデザインについて学
 習してみる\n技術書やデザイン書で読書してみる\nわか
 らないことをわかる人にきいてみる\n鎌倉に行くつい
 でにちょっともくもくする\n\n基本的にはなんでもOKで
 す。主催者はUIデザイナーでありソフトウェアエンジ
 ニア（特にWebフロントエンド）ですのでそれらについ
 て色々質問などに答えることもできると思います。\n
 どんな人が参加できるの？\n基本的にはどなたでもOkで
 す。\n鎌倉に住んでいてもいなくても大丈夫です。\n\n
 エンジニア\nデザイナー\nWebデザインやアプリ開発に携
 わる他の職能の方\nデザインや開発に興味のある人\n\n
 ※勧誘などの目的での参加はお断りしています。\n参
 加にあたって\n初めて参加される方は前日までに是非Di
 scordへログインして自己紹介を記入してください。\n\nD
 iscordへのログインはDiscordのアカウントが必要です。次
 の手順でログインしてください。\nURLクリック後にロ
 グイン画面が表示されます。その画面中に「アカウン
 トが必要ですか？登録」とあるのでそれをクリックし
 てDiscordアカウントを作成してください。\n作成後にサ
 ーバ作成画面にある「サーバに参加」をクリックして
 招待リンク「 https://discord.gg/gNVrCB3wSx 」を入力してくだ
 さい。\nこの会のDiscordサーバ「mokmok」にログインする
 と自己紹介チャンネルがあるのでお名前（必須）、お
 仕事、お住まい・自己紹介文を書ける範囲で記入くだ
 さい。\n\n場所と日時と費用\n\n\n\n日時\n\n\n\n\n2/25 11:00-1
 4:00\n\n\n\n\n\n\n場所\n費用\nURL・住所\n\n\n\n\nリアル（六
 ノ七）\n無料\n神奈川県鎌倉市笹目町6-7 鎌倉笹目座2階\
 n\n\nオンライン（Discordのヴォイス）\n無料\nDiscord\n\n\n\n
 \nリアル参加する場合は開催場所へ直接お越しくださ
 い。\n建物の構造上わかりにくいのでXかDiscordでメッセ
 ージいただければ入り口でお迎えします。\nオンライ
 ン参加するには上記参加用URLをクリックしてDiscordにロ
 グインしてください。\nカメラオフでの参加もOkです！
 マイクはもくもく中はオフでも。\n\n当日の流れ\nあま
 りガチガチにきめていないのでゆるいです。\n\n\n\n時
 間\n内容\n\n\n\n\n11:00\n開始\n\n\n- 11:15\n初めての方がいれ
 ば自己紹介 & 一応なにやるか宣言\n\n\n- 13:50\nもくもく&
 わいわい\n\n\n- 14:00\n今日できたことを発表\n\n\n\n\n好き
 な時に入って好きな時に抜けてください。ただし自己
 紹介を何度もするのも面倒なのでスタートだけ合わせ
 てもらえると助かります。\n\n当日の連絡\n会の主催を
 やっています 樋口 @tyshgc までXでメンションかDMで連絡
 、またはDiscord に事前に登録してもらいそちらで連絡
 ください。\n関連記事\n\n鎌倉でもくもくする会を3回開
 催した件\n
LOCATION:六ノ七 神奈川県鎌倉市笹目町6-7 鎌倉笹目座2階
URL:https://techplay.jp/event/936272?utm_medium=referral&utm_source=ics&utm
 _campaign=ics
END:VEVENT
END:VCALENDAR
