BEGIN:VCALENDAR
VERSION:2.0
PRODID:-//https://techplay.jp//JP
CALSCALE:GREGORIAN
METHOD:PUBLISH
X-WR-CALDESC:コンピュータビジョンセミナーvol.4　Visual SLAM 
 / SfM で行われる局所特徴量計算のCUDA高速化
X-WR-CALNAME:コンピュータビジョンセミナーvol.4　Visual SLAM 
 / SfM で行われる局所特徴量計算のCUDA高速化
X-WR-TIMEZONE:Asia/Tokyo
BEGIN:VTIMEZONE
TZID:Asia/Tokyo
BEGIN:STANDARD
DTSTART:19700101T000000
TZOFFSETFROM:+0900
TZOFFSETTO:+0900
TZNAME:JST
END:STANDARD
END:VTIMEZONE
BEGIN:VEVENT
UID:936327@techplay.jp
SUMMARY:コンピュータビジョンセミナーvol.4　Visual SLAM / SfM
  で行われる局所特徴量計算のCUDA高速化
DTSTART;TZID=Asia/Tokyo:20240327T180000
DTEND;TZID=Asia/Tokyo:20240327T193000
DTSTAMP:20260422T234124Z
CREATED:20240220T045242Z
DESCRIPTION:イベント詳細はこちら\nhttps://techplay.jp/event/93632
 7?utm_medium=referral&utm_source=ics&utm_campaign=ics\n\nイベント概
 要\n自動移動ロボットに欠かせない Visual SLAM や、ドロ
 ーンなどの撮像データから3Dモデルを構築する SfM では
 、局所特徴量計算が行われています。\n当社がGithub で
 公開した cuda-efficient-features には、局所特徴量計算アル
 ゴリズムである BAD と HashSIFT の実装が含まれます。\n
 本セミナーでは、HashSIFTのアルゴリズム と CUDA高速化 
 について解説します。\n当社ブログ記事としても公開
 していますので、ぜひご覧ください。\n\n\nCUDAによる局
 所特徴量計算の高速化とソースコード公開\n\n\n特徴記
 述アルゴリズムHashSIFTのCUDA高速化\n\n\n講演内容\n\nフィ
 ックスターズの紹介\nVisual SLAM / SfM における局所特徴
 量計算\nHashSIFT のアルゴリズム\nHashSIFT のCUDA高速化\nQ
 ＆A\n\n※発表内容については変更になる可能性もござ
 いますのであらかじめご了承ください。※途中入退室
 可（その旨をお伝えください）\n登壇者\n冨田 明彦株
 式会社フィックスターズ営業企画 シニアディレクター
 \n高木 章洋株式会社フィックスターズソリューション
 第二事業部 エグゼクティブエンジニア\n参加対象\n\nコ
 ンピュータビジョンに関連する開発業務を行うエンジ
 ニア、研究を行う学生\n\n参加費\n無料\n参加方法\nオン
 ライン（Zoomによる配信）\n注意事項\n\nリクルーティン
 グ、勧誘など、採用目的でのイベント参加はお断りし
 ております。\n欠席される場合は、お手数ですが速や
 かにキャンセル処理をお願い致します。\n無断キャン
 セルや欠席が続く場合、次回以降の参加をお断りさせ
 ていただく場合がございます。\n同業者の方の参加は
 お断りする場合がございます。\n\nフィックスターズに
 ついて\nフィックスターズは、”Speed up your Business” を
 コーポレートメッセージとして掲げるソフトウェアカ
 ンパニーです。マルチコアプロセッサを効率的に利用
 するためのソフトウェアの並列化および最適化と、省
 電力かつ高速IOを実現する新メモリ技術を活用したア
 プリケーションの高速化を通じて、医療、製造、金融
 、エンターテインメントなど、様々な分野のお客様の
 ビジネスを加速し、グリーンITを実現しています。\nフ
 ィックスターズ TechBlog\n最先端の技術や論文、コンテ
 スト参加などのあらゆるテーマについて、フィックス
 ターズのエンジニアが自由に語っている、技術ブログ
 です。https://proc-cpuinfo.fixstars.com/\n当社サービス：画像
 処理アルゴリズム開発支援\nフィックスターズはリア
 ルタイムな画像処理を必要とする製品開発をいくつも
 支えてきました。AIの登場・普及もあって広がる高速
 な画像処理需要に対して、経験豊富なエンジニアが責
 任を持って製品開発をご支援します。詳しくは、こち
 らをご覧ください。
LOCATION:
URL:https://techplay.jp/event/936327?utm_medium=referral&utm_source=ics&utm
 _campaign=ics
END:VEVENT
END:VCALENDAR
