BEGIN:VCALENDAR
VERSION:2.0
PRODID:-//https://techplay.jp//JP
CALSCALE:GREGORIAN
METHOD:PUBLISH
X-WR-CALDESC:よなよなエンジニアトーク 番外編 〜ゆるゆる
 IT未来予想図〜
X-WR-CALNAME:よなよなエンジニアトーク 番外編 〜ゆるゆる
 IT未来予想図〜
X-WR-TIMEZONE:Asia/Tokyo
BEGIN:VTIMEZONE
TZID:Asia/Tokyo
BEGIN:STANDARD
DTSTART:19700101T000000
TZOFFSETFROM:+0900
TZOFFSETTO:+0900
TZNAME:JST
END:STANDARD
END:VTIMEZONE
BEGIN:VEVENT
UID:936352@techplay.jp
SUMMARY:よなよなエンジニアトーク 番外編 〜ゆるゆるIT未
 来予想図〜
DTSTART;TZID=Asia/Tokyo:20240229T190000
DTEND;TZID=Asia/Tokyo:20240229T200000
DTSTAMP:20260422T110112Z
CREATED:20240220T060841Z
DESCRIPTION:イベント詳細はこちら\nhttps://techplay.jp/event/93635
 2?utm_medium=referral&utm_source=ics&utm_campaign=ics\n\nイベント概
 要\nアジアクエスト株式会社 人材企画部は、エンジニ
 アのキャリアアップやスキルアップに関するイベント
 を開催しています。 \n今回は、番外編としてゆるっとI
 Tに関する最新ニュースからエンジニアのリアルまで、
 ゆるっと語り合います！  \n「IT業界って、なんだか難
 しそう…」\n「エンジニアって、どんな仕事してるん
 だろう？」  \nと思っている、そんなあなたに朗報です
 ！\nIT業界のニュースを拾って、「IT業界のあれこれを
 、エンジニアがゆるっと語り合う会」を開催します！ 
  \n・注目のITニュース、ゆるっと解説\n・IT業界の未来
 、どうなるの？\n　など、ゆる〜っと語り合います！  
 \nこんな方におすすめ\n・IT業界って、ちょっと気にな
 る方\n・エンジニアの仕事って、どんなんだろう？と
 思っている方  \n・IT業界の未来について、ゆる〜っと
 考えたい方  \n参加の仕方\n\nカメラOFF/マイクOFFのラジ
 オ形式で聞くだけOK  \n質問したいことがあったら、チ
 ャット欄で適宜質問するだけOK  \n飲食自由\nお気軽に
 ご参加ください！\n\n※本イベントは録画させていただ
 きますので、あらかじめご了承ください。\n登壇者\n\n
 アジアクエスト株式会社 人材企画部 マネージャー：
 兼島 雄史\n2016年新卒一期生としてアジアクエストに入
 社。\nモバイルエンジニアとしてキャリアをスタート
 し、PHPを用いたバックエンドの開発やSE、PMとしてシス
 テム開発に従事。 \n 2019年から福岡拠点の責任者、2023
 年からは人事責任者として採用・教育に邁進中。\n\n主
 催者：アジアクエスト\n「やってみたい」が叶う場所\n
 私たちは最新の技術を駆使し、お客様のデジタルトラ
 ンスフォーメーションを支援する、 デジタルインテグ
 レーターです。\n様々な技術や個性を持ったメンバー
 が、お客様の多様な課題を技術によって解決に導いて
 います。\n人材開発において大切にしているのは、社
 員の『やってみたい』に出来るだけ寄り添うこと。\n
 これまで『リモートワークしたい』『新サービスの立
 ち上げを経験したい』『海外で働きたい』など数々の
 “やってみたい”が叶いました。\nまずはあなたのや
 ってみたいこと、挑戦したいことを教えてください。 
   \n当社HP／採用サイト／TechBlog
LOCATION:オンライン オンライン
URL:https://techplay.jp/event/936352?utm_medium=referral&utm_source=ics&utm
 _campaign=ics
END:VEVENT
END:VCALENDAR
