BEGIN:VCALENDAR
VERSION:2.0
PRODID:-//https://techplay.jp//JP
CALSCALE:GREGORIAN
METHOD:PUBLISH
X-WR-CALDESC:《3/12(木) オンライン開催》1年で売上4倍！事
 業成長に欠かせないLINE活用方法を徹底解説
X-WR-CALNAME:《3/12(木) オンライン開催》1年で売上4倍！事
 業成長に欠かせないLINE活用方法を徹底解説
X-WR-TIMEZONE:Asia/Tokyo
BEGIN:VTIMEZONE
TZID:Asia/Tokyo
BEGIN:STANDARD
DTSTART:19700101T000000
TZOFFSETFROM:+0900
TZOFFSETTO:+0900
TZNAME:JST
END:STANDARD
END:VTIMEZONE
BEGIN:VEVENT
UID:936503@techplay.jp
SUMMARY:《3/12(木) オンライン開催》1年で売上4倍！事業成
 長に欠かせないLINE活用方法を徹底解説
DTSTART;TZID=Asia/Tokyo:20240312T180800
DTEND;TZID=Asia/Tokyo:20240312T180800
DTSTAMP:20260422T235421Z
CREATED:20240221T090923Z
DESCRIPTION:イベント詳細はこちら\nhttps://techplay.jp/event/93650
 3?utm_medium=referral&utm_source=ics&utm_campaign=ics\n\n第1部： EC市
 場の変化とECサイトの重要性\n「EC化率」という言葉を
 ご存知でしょうか？ コロナ禍の影響もあり、日本のEC
 市場は急速に拡大しました。本パートでは国内EC市場
 の現状や、自社ECサイトとモールの違い、ショップ開
 設・運営にあたり重要となるポイントを、事例ととも
 にご紹介します。\n第2部： EC運営に必要不可欠！ 売上
 アップのためのLINE活用方法を大公開\nECサイト運営を
 行う中で、LINEとの連携はもはや不可欠となりました。
 その理由はどこにあるのでしょうか？ そもそも、なぜ
 LINEを使うべきなのでしょうか？本パートでは、LINE公
 式アカウントを活用した集客・売上アップの秘訣を初
 心者の方にもわかりやすくご紹介。LINEを利用した集客
 や、お問い合わせ対応の自動化に興味のある方はもち
 ろん、すでにLINEを利用しているショップオーナーさま
 にもおすすめの内容となっています。
LOCATION:
URL:https://techplay.jp/event/936503?utm_medium=referral&utm_source=ics&utm
 _campaign=ics
END:VEVENT
END:VCALENDAR
