BEGIN:VCALENDAR
VERSION:2.0
PRODID:-//https://techplay.jp//JP
CALSCALE:GREGORIAN
METHOD:PUBLISH
X-WR-CALDESC:JAWS-UG主催 週刊AWSキャッチアップ（2024/02/12週
 ）
X-WR-CALNAME:JAWS-UG主催 週刊AWSキャッチアップ（2024/02/12週
 ）
X-WR-TIMEZONE:Asia/Tokyo
BEGIN:VTIMEZONE
TZID:Asia/Tokyo
BEGIN:STANDARD
DTSTART:19700101T000000
TZOFFSETFROM:+0900
TZOFFSETTO:+0900
TZNAME:JST
END:STANDARD
END:VTIMEZONE
BEGIN:VEVENT
UID:936590@techplay.jp
SUMMARY:JAWS-UG主催 週刊AWSキャッチアップ（2024/02/12週）
DTSTART;TZID=Asia/Tokyo:20240223T210000
DTEND;TZID=Asia/Tokyo:20240223T220000
DTSTAMP:20260421T154618Z
CREATED:20240222T060154Z
DESCRIPTION:イベント詳細はこちら\nhttps://techplay.jp/event/93659
 0?utm_medium=referral&utm_source=ics&utm_campaign=ics\n\nイベント概
 要\n\n\nJAWS-UGの事務局メンバー主体で実施する週刊AWSキ
 ャッチアップイベントです。\n2024/02/12週分のキャッチ
 アップを行います。\nJAWS-UG支部の交流イベントとして
 も考えており、新たなコラボイベントが生まれてるこ
 とを期待しております。\n主なスピーカーはJAWS-UG支部
 メンバー または 支部メンバー経由でお話し頂けるゲ
 ストの方となります。\nLTは2024/02/12週分Updateの内容を
 期待しておりますが、その限りではございません。\n
 基本的には毎週金曜日21:00-でトライを考えていますが
 、都合でお休みを頂戴する可能性もございます\n\n\n開
 催情報\n\n日時：2024年02月23日(金) 21:00 - 22:00頃\n場所：
 オンライン（Zoom）\n\n動画アーカイブについて\n\nYoutube
 にて動画アーカイブを残す予定です。\n諸般の事情に
 より残らない可能性もありますので、その点はごめん
 なさい。\n\n資料\n\nxx\n\nYoutube\n\nxx\n\nタイムテーブル\n\
 n\n\n時間\n内容\nスピーカー\n\n\n\n21:00-21:05\nオープニン
 グ：諸注意・説明\nJAWS-UG事務局\n\n\n21:05-21:40頃\n週刊AWS
 振り返り\nJAWS-UG事務局、支部メンバー、ゲスト\n\n\n21:4
 0頃-21:50頃\nLT1\nxx\n\n\n21:50頃-22:00頃\nLT2\nxx\n\n\n22:00頃-22:1
 0頃\n支部宣伝\nJAWS-UG事務局、支部メンバー、ゲスト\n\n
 \n\n注意事項\n\n\n参加する方法/ルールとマナーをご確
 認ください。\nリクルーティング、勧誘、採用活動、
 人の話を聞かないなど、目的に沿わない行為につきま
 して、主催者が相応しくないと判断した場合は退出頂
 き、初心者支部を含む他のJAWS-UGの勉強会やイベントへ
 のご参加を禁止する場合があります。参加者全員が気
 持ちよく過ごすことが出来るよう、ご協力をお願い致
 します。\n
LOCATION:オンライン
URL:https://techplay.jp/event/936590?utm_medium=referral&utm_source=ics&utm
 _campaign=ics
END:VEVENT
END:VCALENDAR
