BEGIN:VCALENDAR
VERSION:2.0
PRODID:-//https://techplay.jp//JP
CALSCALE:GREGORIAN
METHOD:PUBLISH
X-WR-CALDESC:【再配信】無料で学べるAI勉強会 第151回：時
 系列解析最新手法(第103回)
X-WR-CALNAME:【再配信】無料で学べるAI勉強会 第151回：時
 系列解析最新手法(第103回)
X-WR-TIMEZONE:Asia/Tokyo
BEGIN:VTIMEZONE
TZID:Asia/Tokyo
BEGIN:STANDARD
DTSTART:19700101T000000
TZOFFSETFROM:+0900
TZOFFSETTO:+0900
TZNAME:JST
END:STANDARD
END:VTIMEZONE
BEGIN:VEVENT
UID:936625@techplay.jp
SUMMARY:【再配信】無料で学べるAI勉強会 第151回：時系列
 解析最新手法(第103回)
DTSTART;TZID=Asia/Tokyo:20240313T193000
DTEND;TZID=Asia/Tokyo:20240313T210000
DTSTAMP:20260420T062958Z
CREATED:20240222T080642Z
DESCRIPTION:イベント詳細はこちら\nhttps://techplay.jp/event/93662
 5?utm_medium=referral&utm_source=ics&utm_campaign=ics\n\n■スキルア
 ップAIキャンプとは\nスキルアップAIキャンプは、JDLA認
 定プログラム1号でもある株式会社スキルアップNeXt が
 毎週水曜日19:30~21:00に開催する勉強会です。　データ
 拡張や特徴量エンジニアリングなどのデータ分析・AI
 開発で頻出となるキーワードを掘り下げるテーマから
 、人間参加型機械学習、MLOps、説明可能なAIなど今後活
 用が期待されている最先端技術まで幅広く取り上げ、
 データ分析・AI開発の実務力アップにつながるヒント
 をご提供します。　　機械学習エンジニアの視点でAI
 に用いられている技術の深掘りや、現場の視点で考え
 る実務への活用方法など、多岐に渡るジャンルについ
 て時折ゲストを交えながら無料で情報を得られる場所
 となっており、 各回のアンケート回答者には特典もご
 用意しております。　受講後すぐに使える実践的な機
 械学習スキルを、最前線で活躍する実務家から直接学
 べるAI学習コミュニティですので、ぜひご参加くださ
 い！　　スキルアップAIキャンプ: https://www.skillupai.com/s
 killupai-camp/\n\n■開催概要\n日時 : 2024年3月13日（水）19
 ：30～21：00（参加費無料）開催方法 : ZOOMテーマ : 『時
 系列解析最新手法(第103回)』\n時系列解析は、データを
 もとに長期的な傾向、周期的・不規則的な変動などの
 要素へ分解し、変動要因を解析する手法のことです。
 そのデータの活用の幅は広く、株価の予測から人工衛
 星の動きの制御にまで用いられています。今回のスキ
 ルアップAIキャンプでは、時系列解析の中でも、機械
 学習に持っていくアプローチを用いた最新手法につい
 てご紹介します。\n時系列解析（分析）とは｜概要や
 メリット、モデル、進め方、事例を紹介\n※本セミナ
 ーは、2023年3月15日（水）に開催されたスキルアップAI
 キャンプの再放送となります。\n\n■プログラム概要\n\
 n時系列解析とは\n時系列解析の進め方\n機械学習を用
 いた時系列解析\n深層学習を用いた近年の手法\n\n※一
 部変更となる場合がございます。\n\n■スピーカー\n株
 式会社スキルアップNeXt／小縣 信也\n兵庫県出身。大阪
 市立大学工学部卒業後、建材メーカー、設備設計事務
 所に勤務。2010年、OpenFOAM勉強会for beginner(現オープンCAE
 勉強会＠関東)を立ち上げ3年間幹事を務める。建築環
 境に関する数値シミュレーション、電力量や温湿度な
 どのセンサーデータに関する分析が専門。1級建築士、
 エネルギー管理士。2013年、国土交通省国土技術政策総
 合研究所 優秀技術者賞受賞。 日本ディープラーニン
 グ協会主催2018E資格試験 優秀賞受賞、2019#1E資格試験優
 秀賞受賞。最近は、需要予測や異常検知などのモデル
 開発に取り組んでいる。著書「徹底攻略ディープラー
 ニングE資格エンジニア問題集」（インプレス）。\n\n
 ■スキルアップAIキャンプへの参加方法\n■ライブ配信
 (ライブ配信はZoom を使用します。)\n\n入力いただいた
 メールアドレス宛にSlackのスキルアップAIキャンプ専用
 チャンネルに招待します。Slackにてご確認ください。\n
 メールよりSlackにログインの上、スキルアップAIキャン
 プ専用チャンネルにご参加ください。\n各回の前日ま
 でに、参加用URLがslackチャンネルにて案内されますの
 で、当日はそこからご参加ください。出欠のご連絡は
 不要です。\n\n※過去にスキルアップAIキャンプへご参
 加いただいた方は、お申し込み不要で参加可能です。
 　各回の開催概要は、SlackのスキルアップAIキャンプ専
 用チャンネルにて毎週告知しております。\n\n■お願い
 と注意事項\n\nお申し込みは、フルネーム（漢字）でお
 願いいたします。\n撮影・録画・録音はご遠慮くださ
 い。\n勉強目的以外での参加はご遠慮いただいており
 ます。\n※競合他社様のご参加は、ご遠慮いただいて
 おりますので、ご了承ください。\n\n上記ご了承の上お
 申し込みをお願いいたします。\n\n■よくある質問\n\n\n
 申込後の流れはどうなりますか？入力いただいたメー
 ルアドレス宛にスキルアップAIキャンプ専用Slackチャン
 ネルの招待メールをお送りします。一度申し込めば、
 再度申し込み不要で各回のキャンプにご参加可能です
 。\n\n勉強会は誰でも参加できますか？はい。勉強目的
 の方であれば、誰でも参加可能です。 （※同業他社様
 のご参加は、ご遠慮いただいております。）\n\n興味の
 ある回だけ参加できますか？参加可能です。 Slackご招
 待後は、お申し込み不要で、ご興味のあるすべての回
 にご参加いただけます。\n\n記載されている開催予定以
 降のテーマは決まっていますか？参加者のご意見を聞
 きながら、多くの方が興味を持っていただける実践的
 テーマを設定していく予定です。\n\n■個人情報の取扱
 いについて\n\n人材育成サービス利用規約\n\n株式会社
 スキルアップNeXt が実施するセミナーにご参加いただ
 く際には、「人材育成サービス利用規約」を遵守いた
 だくことへの同意をお願いしております。利用規約は
 こちらからご確認ください。\n\nプライバシーポリシー
 \n\n個人情報の取扱いについてご同意を頂いた上でお申
 し込みをお願いしております。プライバシーポリシー
 はこちらからご確認ください。\n\n■運営団体\nスキル
 アップAI　運営事務局https://www.skillupai.com/講座に関する
 お問い合わせは、info@skillupai.comまでお願いいたします
LOCATION:
URL:https://techplay.jp/event/936625?utm_medium=referral&utm_source=ics&utm
 _campaign=ics
END:VEVENT
END:VCALENDAR
