BEGIN:VCALENDAR
VERSION:2.0
PRODID:-//https://techplay.jp//JP
CALSCALE:GREGORIAN
METHOD:PUBLISH
X-WR-CALDESC:売上アップ！最新版のSNS活用方法を徹底解説
X-WR-CALNAME:売上アップ！最新版のSNS活用方法を徹底解説
X-WR-TIMEZONE:Asia/Tokyo
BEGIN:VTIMEZONE
TZID:Asia/Tokyo
BEGIN:STANDARD
DTSTART:19700101T000000
TZOFFSETFROM:+0900
TZOFFSETTO:+0900
TZNAME:JST
END:STANDARD
END:VTIMEZONE
BEGIN:VEVENT
UID:937333@techplay.jp
SUMMARY:売上アップ！最新版のSNS活用方法を徹底解説
DTSTART;TZID=Asia/Tokyo:20240322T140000
DTEND;TZID=Asia/Tokyo:20240322T150000
DTSTAMP:20260420T081945Z
CREATED:20240229T060519Z
DESCRIPTION:イベント詳細はこちら\nhttps://techplay.jp/event/93733
 3?utm_medium=referral&utm_source=ics&utm_campaign=ics\n\n概要\n第一
 部（14:00～14:25）：株式会社BESW\n【プロ直伝】トレンド
 抑えて売上向上に繋げるSNS運用ノウハウ\n「SNSを始め
 てしばらく経つけど、成果に繋がらない」「運用方法
 はこれで正しいの？」SNSを運用している中で、そんな
 悩みを抱いたことはありませんか？現在、日用品や生
 活用品の購買意欲を高めるために、SNSを活用して自社
 商品をアピールする店舗が増えてきました。自社商品
 のブランディング効果やユーザーとの交流を図るため
 に、SNSは不可欠な存在です。ところが、、思うように
 売上に繋がらないまま、時間ばかりが過ぎていきます
 。そこで本セミナーでは、トレンドのSNS運用・Instagram
 のリール動画やXのショート動画を活用したプロモーシ
 ョン戦略について紹介します。「認知を広めて自社EC
 サイトへの流動を安定させたい！」 と少しでも思った
 方はぜひご参加ください\n– 学べること –\n\nSNSの売
 上効果や今トレンドの運用方法\n各SNSの特徴と使い分
 けのコツ\nInstagramのリール動画やXのショート動画の活
 用事例\nSNS集客に効果的な手法\n\n– こんな方にオスス
 メ –\n\n自社サイト流入に悩んでいる方\nXやInstagramの
 運用方法の違いが分からない方\n低コストで集客した
 い方\n\n\n田中 千晶（Tanaka Chiaki）\n株式会社BESW　代表
 取締役社長2009年、大学在学中に会社を設立し、1年半
 で大手企業、中小企業50社と取引をする。Webプロモー
 ション支援を得意とし、特にSNS活用支援で多くの実績
 をもつ。2012年から全国各地でセミナーを精力的に実施
 。シリコンバレーのFacebook本社やTwitter本社へ毎年出向
 いて直接SNSの最先端情報を仕入れてきている。角川出
 版社、マイナビ社、技術評論社、翔泳社、インプレス
 社でマーケティング支援の書籍を6冊出版。連載も8社
 で行う。 自身のラジオ番組、パーソナリティとしても
 活動し、SNSの最新情報を届けている。\n\n第二部（14:25
 ～14:50）：朝日放送テレビ株式会社\n国内最大級　SNSメ
 ディアが教える認知と購入をつなぐSNS活用術 ー オン
 ネラ事例にみる動画マーケティング ー\n『相席食堂』
 や『探偵!ナイトスクープ』などを手掛ける朝日放送テ
 レビが、「暮らしに『楽』を、家族にワクワクを。」
 をテーマに開設したメディア「Onnnela（オンネラ）」。
 2019年にスタートして以来、SNSフォロワー150万超の国内
 最大級の暮らし動画メディアとなったオンネラの成長
 の秘訣を、動画マーケティングの成功事例や実際のタ
 イアップ事例を紹介しながら徹底解説。また、SNS運用
 の効果には、数字だけでは測れないユーザーの認知や
 ブランドへの印象向上などがあります。「リーチした
 後の効果まで考える」運用のロジックや、それを裏付
 けるハイクオリティな動画制作へのこだわりもご紹介
 します。「動画をうまく使ってマーケティング施策を
 図りたい」「SNSフォロワーは増えているけど、なぜか
 購入につながらない」そんな展望やお悩みをお持ちの
 方も、オンネラと一緒にマーケティングを考えていき
 ましょう。\n– 学べること –\n\nSNSを活用したデータ
 分析\nアルゴリズムを利用したSNSの効果的なグロース
 ハック\nSNSでユーザー認知を獲得する動画コンテンツ
 とは\nタイアップ実績から見るオンネラ流ワンストッ
 プSNS運用サイクル\nSNS運用者が意識すべき「認知と購
 入をつなげるPOINT」\n\n– こんな方にオススメ –\n\nSNS
 運用をご検討中の方\n動画をうまく使ってマーケティ
 ング施策を図りたい方\nとりあえずSNSアカウントを作
 成したが何をすればいいのかわからない方\nSNS運用が
 購入につながらないとお悩みの方\n今後、SNS運用に注
 力しようとお考えの方\nコンテンツ作成からデータ分
 析までをワンストップで行いたい方\n\n\n竹野 康治郎（
 Takeno koujirou）\n朝日放送テレビ株式会社　 営業局　東
 京SS部　主任　Onnela営業統括2007年朝日放送にアナウン
 サーとして入社、以降、スポーツディレクター、東京
 支社での営業に従事。2018年から2年間社外研修で、朝
 日新聞社デジタルソリューション部へ。朝デジを中心
 とするデジタル広告の企画立案と運用に携わる。現在
 は、東京支社営業部にて、デジタル商品の開発に加え
 、2021年4月よりInstagramフォロワー150万超の暮らし動画
 メディア「Onnela（オンネラ）」の営業統括を担当。\n\n
 ＜ 実施概要 ＞\n【日程】 3月22日(金)　14:00 ～ 15:00【
 開催形式】 オンライン（※WEBツール：Zoom）\n\n\n\nWEBの
 みの開催となりますので、ご了承ください。エントリ
 ーいただいた方に、前日までにWEBセミナー開催のURLを
 お送りします。\n\n\n競合、同業社様のご参加はお断り
 いたします。\n\n\nセミナーに関するフォームでのご入
 力情報は株式会社BESWがセミナーやサービスのご案内（
 広告メール含む）をするため取得し、同目的で利用す
 るため、以下の共催企業に提供いたします。各社の個
 人情報の取り扱いの詳細は以下をご覧ください。・株
 式会社BESW・朝日放送テレビ株式会社\n\n\nお申込が予定
 数を超過した場合は、早期受付終了とさせていただく
 場合がございます。お申込後のキャンセルが発生した
 場合は再受付させていただく事がございますので、ご
 参加が難しくなった際は下記までご連絡いただきます
 ようお願い申し上げます。＜株式会社BESW　セミナー運
 営担当 03-5829-3510＞
LOCATION:オンライン
URL:https://techplay.jp/event/937333?utm_medium=referral&utm_source=ics&utm
 _campaign=ics
END:VEVENT
END:VCALENDAR
