BEGIN:VCALENDAR
VERSION:2.0
PRODID:-//https://techplay.jp//JP
CALSCALE:GREGORIAN
METHOD:PUBLISH
X-WR-CALDESC:【Tableauラジオ＃72】#たぶラジ 〜Tableau Visionarie
 s of 2024 がクル！〜
X-WR-CALNAME:【Tableauラジオ＃72】#たぶラジ 〜Tableau Visionarie
 s of 2024 がクル！〜
X-WR-TIMEZONE:Asia/Tokyo
BEGIN:VTIMEZONE
TZID:Asia/Tokyo
BEGIN:STANDARD
DTSTART:19700101T000000
TZOFFSETFROM:+0900
TZOFFSETTO:+0900
TZNAME:JST
END:STANDARD
END:VTIMEZONE
BEGIN:VEVENT
UID:937553@techplay.jp
SUMMARY:【Tableauラジオ＃72】#たぶラジ 〜Tableau Visionaries of 
 2024 がクル！〜
DTSTART;TZID=Asia/Tokyo:20240319T210000
DTEND;TZID=Asia/Tokyo:20240319T220000
DTSTAMP:20260420T122742Z
CREATED:20240302T022513Z
DESCRIPTION:イベント詳細はこちら\nhttps://techplay.jp/event/93755
 3?utm_medium=referral&utm_source=ics&utm_campaign=ics\n\n概要\n今回
 のたぶラジは、Tableau Visionaries of 2024に選出された3名を
 お呼びします！\n世界の49名のうちの3名となったゲス
 トから、様々なことをたぶラジメンバーが聞き出しお
 話していただきます！\n番組の途中では視聴者の皆様
 からお便りコーナーも設ける予定ですぜひYoutubeのチャ
 ット欄にコメント下さい\nコンテンツ内容\n\n\n\n時間\n
 内容\n\n\n\n\n21:00 - 05\nオープニング\n\n\n21:05 - 08\nゲスト
 のご紹介\n\n\n21:08 - 10\nVisionaryって?\n\n\n21:10 - 55\nインタ
 ビュー1. 選出された時の感想2. どんな活動してました
 ？3. 今後やりたいことは？4. 何か変わりました？5. 視
 聴者からのお便り紹介コーナー\n\n\n21:55-22:00\nクロージ
 ング\n\n\n\n\nパーソナリティ：のりぴー\nゲスト：\n-----
 -------------------------------------------------------------------------
 ----------------\n※過去のアーカイブはJTUGRadioNightアーカ
 イブリストをチェック※このラジオの紹介については
 こちら！\n主催\nJapan Tableau User Group (JTUG)\nスポンサー\n\
 n\n\n 　プラチナ\n ゴールド\nシルバー\n\n\n\n\nちゅらデ
 ータ株式会社株式会社PE-BANK株式会社truestar\n法人番号
 株式会社株式会社プリンシプル株式会社インテージテ
 クノスフィア株式会社アゼスト株式会社マネジウェル\
 n株式会社NTTデータNECソリューションイノベータ株式会
 社株式会社セラクCCC\n\n\n\nハッシュタグ\n#TUG #JTUG #たぶ
 ラジ #TableauRadio #JTUGRadioNight #JTUG10th\n注意事項\n\nリクル
 ーティング、勧誘など、採用目的でのイベント参加は
 お断りしております。\n欠席される場合は、お手数で
 すが速やかにキャンセル処理をお願い致します。\n
LOCATION:
URL:https://techplay.jp/event/937553?utm_medium=referral&utm_source=ics&utm
 _campaign=ics
END:VEVENT
END:VCALENDAR
