BEGIN:VCALENDAR
VERSION:2.0
PRODID:-//https://techplay.jp//JP
CALSCALE:GREGORIAN
METHOD:PUBLISH
X-WR-CALDESC:スタートアップにおける魅力的な開発組織の
 作り方と成果の出し方とは？ ~経営者や開発責任者の
 課題を解決する1時間半~
X-WR-CALNAME:スタートアップにおける魅力的な開発組織の
 作り方と成果の出し方とは？ ~経営者や開発責任者の
 課題を解決する1時間半~
X-WR-TIMEZONE:Asia/Tokyo
BEGIN:VTIMEZONE
TZID:Asia/Tokyo
BEGIN:STANDARD
DTSTART:19700101T000000
TZOFFSETFROM:+0900
TZOFFSETTO:+0900
TZNAME:JST
END:STANDARD
END:VTIMEZONE
BEGIN:VEVENT
UID:938055@techplay.jp
SUMMARY:スタートアップにおける魅力的な開発組織の作り
 方と成果の出し方とは？ ~経営者や開発責任者の課題
 を解決する1時間半~
DTSTART;TZID=Asia/Tokyo:20240322T100000
DTEND;TZID=Asia/Tokyo:20240322T103000
DTSTAMP:20260423T051208Z
CREATED:20240307T020711Z
DESCRIPTION:イベント詳細はこちら\nhttps://techplay.jp/event/93805
 5?utm_medium=referral&utm_source=ics&utm_campaign=ics\n\nスタートア
 ップにおける魅力的な開発組織の作り方と成果の出し
 方とは？ ~経営者や開発責任者の課題を解決する1時間
 半~\nセミナー概要\nスタートアップがイノベーション
 を起こし成果を出すためには、優れた開発組織が不可
 欠です。本セミナーでは、スタートアップにおける開
 発組織の魅力的な構築法と、成果を最大化するための
 手法に焦点を当て、スタートアップが抱える課題に対
 する具体的な解決策をお伝えさせていただきます。\n
 このような方におすすめです\n\n新規サービスの売上を
 伸ばしたい経営者の方\nスタートアップを伸ばすため
 にチーム組成をしなくてはいけない開発責任者の方\n
 スタートアップ企業でエンジニアの採用を検討してい
 る方\nエンジニア採用がうまく進まず困っている方\n業
 務委託のエンジニアにスムーズに稼働してもらうコツ
 を知りたい方\n\nセミナー詳細\n\n\n開催日時：2024年3月2
 2日(金)  10:30～12:00\n\n参加費：無料\n\n開催方法：オン
 ライン (Zoom)\n\n※本ウェビナーではZoomを利用いたしま
 す。お申し込みいただいた方に別途メールにてご案内
 いたします。\n※取得した個人情報については、共催3
 社においてイベントに関するお問い合わせならびに主
 催各社の今後のセミナー情報・商品情報などの告知の
 ために共同利用させていただきます。フォーム送信し
 た時点で、下記プライバシーポリシーに同意したもの
 とみなします。\n株式会社CINC プライバシーポリシー：
 https://www.cinc-j.co.jp/privacy/株式会社シューマツワーカー 
 プライバシーポリシー：https://company.shuuumatu-worker.jp/priv
 acy/株式会社Another works プライバシーポリシー：https://cl
 .aw-anotherworks.com/user_privacy\n※セミナーの内容は予告な
 く一部変更となる場合がございます。\n※同業他社の
 方は参加をお断りさせていただく可能性がございます
 ので、予めご了承下さい。※フォーム送信した時点で
 、視聴登録用URLのご案内メールを受信することに同意
 したものとみなします。※フォーム送信後、万が一ご
 案内がない場合は、お手数ですが以下までご連絡いた
 だけますようお願いいたします。メール：es@cinc-j.co.jp\
 nタイムスケジュール\n10:30～10:40：オープニング10:40～1
 1:05：Session1：  自社プロダクトを急成長させる開発の
 イ・ロ・ハ　(株式会社CINC)11:05～11:30：Session2：「多様
 な関係」が開発組織を輝かせる！？CTOが自ら考える"理
 想の組織"とは？  (株式会社Another works)11:30～11:55：Sessi
 on3：   副業、フリーランスエンジニアの活用方法  (
 株式会社シューマツワーカー)11:55～12:00：質疑応答/ア
 ンケート回答\nこのような方におすすめです\n\n新規サ
 ービスの売上を伸ばしたい経営者の方\nスタートアッ
 プを伸ばすためにチーム組成をしなくてはいけない開
 発責任者の方\nスタートアップ企業でエンジニアの採
 用を検討している方\nエンジニア採用がうまく進まず
 困っている方\n業務委託のエンジニアにスムーズに稼
 働してもらうコツを知りたい方\n\n【Session1】｜ 自社プ
 ロダクトを急成長させる開発のイ・ロ・ハ　(株式会社
 CINC  平 大志朗)\n自社プロダクトを市場で成功するた
 めには、適切な開発戦略が不可欠です。ただ、原理原
 則があります。具体的には「イ・ロ・ハ」の原則を抑
 える必要があります。この原則を踏まえ、自社プロダ
 クトを急成長させるための実践的な手法を成功事例を
 交えて解説させていただきます。皆様のお役立ちでき
 る内容を約30分に濃縮しておりますので、ぜひご視聴
 くださいませ。「イ・ロ・ハ」の原則とは・・・  【
 イ】ンサイト：ユーザーのニーズを徹底理解  【ロ】
 ードマップ：急成長の土台となる計画的な開発環境  
 【ハ】イパフォーマンス：コミュニケーション、協力
 、最新技術の活用\n【Session2】｜「多様な関係」が開発
 組織を輝かせる！？CTOが自ら考える"理想の組織"とは
 ？  (株式会社Another works  塩原 基弘)\nエンジニア職の
 採用、エンゲージメント向上において、有効な要素は
 必ずしも「年収」や「職位」ではありません。 日々の
 業務や短期的成果に終始しやすいスタートアップ開発
 組織においては見落とされがちな、最重要ともいうべ
 き要素が存在しています。 知識欲の高い優秀な開発人
 材の採用に成功し続けているAnother worksの開発組織戦略
 について、CTO自らお話しいたします。 本講演が、開発
 組織に様々な形で携わる皆さんにとって「一つの転換
 点」となることを確信しております。\n【Session3】｜ 
 副業、フリーランスエンジニアの活用方法  (株式会社
 シューマツワーカー 星 耀介)\n採用市場において、エ
 ンジニアの採用難易度は激化しております。 その中で
 、「副業したい人」は年々増えているということはご
 存知でしょうか？ 本セミナーでは、副業マッチングサ
 ービスを運営するシューマツワーカーから副業エンジ
 ニア、フリーランスエンジニアの活用方法についてお
 話を申し上げます。\n登壇者\n株式会社CINC\n取締役副社
 長エキスパートソーシング事業本部長平 大志朗\nアメ
 リカにてエンジニアリングを学んだ後、インターネッ
 ト関連事業会社、株式会社Speee等を経て、2014年4月に株
 式会社CINC（旧株式会社Core）を設立。\n\n\n\n株式会社Ano
 ther works\nCTO塩原  基弘\n新卒として株式会社ビズリー
 チに入社し、新規事業のプロダクト開発を行った。\n
 インフルエンサーマッチングサービスの開発やM&Aマッ
 チングサービスなど複数のプラットフォームの開発や
 要件定義などの経験を経て2019年5月、代表の大林と株
 式会社Another worksをCTOとして共同創業。 「複業クラウ
 ド」という業務委託と企業のマッチングプラットフォ
 ームの企画から立ち上げを行う。現在は取締役CTOとし
 てプロダクトに関する組織戦略から技術・プロダクト
 まで幅広く担当している。\n\n\n株式会社シューマツワ
 ーカー\n取締役 COO星 耀介\n2013年4月に新卒で株式会社
 ボルテージに入社。 スマートフォンゲームのディレク
 ター、マーケティング、広報を経験。 2016年に代表の
 松村と会社を設立し、副業人材のマッチングサービス
 「シューマツワーカー」の立ち上げからグロースに携
 わる。\n
LOCATION:
URL:https://techplay.jp/event/938055?utm_medium=referral&utm_source=ics&utm
 _campaign=ics
END:VEVENT
END:VCALENDAR
