BEGIN:VCALENDAR
VERSION:2.0
PRODID:-//https://techplay.jp//JP
CALSCALE:GREGORIAN
METHOD:PUBLISH
X-WR-CALDESC:【海外事例に学ぶ】EMS開発の複雑化に対応す
 るモデルベース開発による効率的な設計・デバッグ
X-WR-CALNAME:【海外事例に学ぶ】EMS開発の複雑化に対応す
 るモデルベース開発による効率的な設計・デバッグ
X-WR-TIMEZONE:Asia/Tokyo
BEGIN:VTIMEZONE
TZID:Asia/Tokyo
BEGIN:STANDARD
DTSTART:19700101T000000
TZOFFSETFROM:+0900
TZOFFSETTO:+0900
TZNAME:JST
END:STANDARD
END:VTIMEZONE
BEGIN:VEVENT
UID:938390@techplay.jp
SUMMARY:【海外事例に学ぶ】EMS開発の複雑化に対応するモ
 デルベース開発による効率的な設計・デバッグ
DTSTART;TZID=Asia/Tokyo:20240418T140000
DTEND;TZID=Asia/Tokyo:20240418T150000
DTSTAMP:20260422T161528Z
CREATED:20240311T035431Z
DESCRIPTION:イベント詳細はこちら\nhttps://techplay.jp/event/93839
 0?utm_medium=referral&utm_source=ics&utm_campaign=ics\n\n概要\n近年
 、環境/経済の両方の観点から、エネルギーマネジメン
 トシステム(EMS)の重要性がますます高まってきていま
 す。こういった時代の要請と機器の電子制御化・IoTの
 普及によりEMSの役割が拡大する一方、システムの複雑
 化に伴い要求性能/機能を満たすEMS開発の難易度も上が
 ってきています。MathWorksが提供するモデルベース開発(
 MBD)環境は、1D-CAEによる熱/電力シミュレーション、コ
 ントローラの設計と自動コード生成、そしてリアルタ
 イムシミュレータによるコントローラのデバッグに至
 るまで、EMS開発全体を強力に支援します。このセッシ
 ョンでは、工場・設備の熱・電力マネジメントを題材
 に、MBDによるEMS開発フローをご紹介します。関連キー
 ワード：EMS、1D-CAE、HILS、PLC\n※ご参加には、下記MathWor
 ks社のサイトでの事前登録(無料)が必要となります。htt
 ps://jp.mathworks.com/company/events/webinars/upcoming/energy-management-
 system-model-based-development-4362058.html?s_eid=PEP_32618\nアジェン
 ダ\n\n\n\n時間\nタイトル\n\n\n\n\n14:00-14:15\n海外におけるE
 MSモデルベース開発適用事例Ex)再生可能エネルギー/マ
 イクログリッド/工場の電力マネージメントなど\n\n\n14:
 15-14:50\nMBD関連プロダクトを活用したEMS開発1D-CAEによる
 熱/電力システムのシミュレーションコントローラモデ
 ルからの自動コード生成リアルタイムシミュレータに
 よるコントローラのデバッグ\n\n\n14:50-15:00\nQ&A\, 終了\n\
 n\n\n講演者について\nMathWorks Japan アプリケーションエ
 ンジニアリング部小林 昇洋新井 克明\n参加方法\n無料\
 n※ご参加には、下記MathWorks社のサイトでの事前登録(
 無料)が必要となります。https://jp.mathworks.com/company/events
 /webinars/upcoming/energy-management-system-model-based-development-43620
 58.html?s_eid=PEP_32618
LOCATION:
URL:https://techplay.jp/event/938390?utm_medium=referral&utm_source=ics&utm
 _campaign=ics
END:VEVENT
END:VCALENDAR
