BEGIN:VCALENDAR
VERSION:2.0
PRODID:-//https://techplay.jp//JP
CALSCALE:GREGORIAN
METHOD:PUBLISH
X-WR-CALDESC:【経営者必見】全社員がChatGPTを使いこなすた
 めに！生成AIチャンピオンとは
X-WR-CALNAME:【経営者必見】全社員がChatGPTを使いこなすた
 めに！生成AIチャンピオンとは
X-WR-TIMEZONE:Asia/Tokyo
BEGIN:VTIMEZONE
TZID:Asia/Tokyo
BEGIN:STANDARD
DTSTART:19700101T000000
TZOFFSETFROM:+0900
TZOFFSETTO:+0900
TZNAME:JST
END:STANDARD
END:VTIMEZONE
BEGIN:VEVENT
UID:938394@techplay.jp
SUMMARY:【経営者必見】全社員がChatGPTを使いこなすために
 ！生成AIチャンピオンとは
DTSTART;TZID=Asia/Tokyo:20240327T120000
DTEND;TZID=Asia/Tokyo:20240327T130000
DTSTAMP:20260420T185817Z
CREATED:20240311T055854Z
DESCRIPTION:イベント詳細はこちら\nhttps://techplay.jp/event/93839
 4?utm_medium=referral&utm_source=ics&utm_campaign=ics\n\n【経営者必
 見】全社員がChatGPTを使いこなすために！生成AIチャン
 ピオンとは\n▼内容\n近年、ChatGPTを含む生成AIの活用が
 一般的になりつつありますが、導入したにも関わらず
 うまく使いこなせていない、導入を考えているが自社
 での最適な活用方法が見つからない、といった声をよ
 く耳にします。\n本セミナーでは、生成AIの活用・定着
 化を促進する「生成AIチャンピオンアプローチ」とは
 何か、そしてその具体的なアプローチ方法について解
 説致します。全社員が生成AIを効果的に活用するため
 に意識すべき点と取り組むべき事項についても、exaBase
  生成AIを実際にご利用いただいているお客様の具体的
 な事例を交えてご説明致します。\n▼セミナー内でご
 紹介する内容・生成AIの利用実態・生成AIの活用推進/
 定着化の方法・生成AIチャンピオンアプローチとは　
 ※内容は変更になる可能性がございます。\n当日は、
 年間350件以上のAI・DX支援を手がけるエクサウィザーズ
 の常務取締役 兼 Exa Enterprise AIの代表取締役である大植
  択真が登壇し、活用推進・定着化についてご説明しま
 す。\n既に生成AIサービスを導入している方でも、これ
 から導入を検討している方でも、本セミナーは有用な
 情報を提供できると思いますので、ぜひご参加くださ
 い。（本セミナーは無料です）\n▼こんな方におすす
 め\n\n生成AIを社内導入したが、思ったように使いこな
 せていない\nChatGPTの一般的な使い方しかできていない\
 n\n▼講義内容\n12:00-　　ご挨拶12:01-　　講演「全社員
 がChatGPTを使いこなすために！生成AIチャンピオンとは
 」12:40‐　　質疑応答13:00-　　終了\n▼講師プロフィー
 ル\n大植 択真\n株式会社エクサウィザーズ　常務取締
 役 兼株式会社Exa Enterprise AI　代表取締役\n京都大学工
 学部卒業。京都大学工学研究科修了（都市計画、AI・
 データサイエンス）。2013年、ボストンコンサルティン
 ググループに入社。事業成長戦略、事業変革、DX推進
 、新規事業立ち上げなどの多数のプロジェクトに従事
 した後に2018年、エクサウィザーズ入社。2019年4月より
 、AI事業管掌執行役員として年間数百件のAI導入・DX実
 現を担当。企業の経営層や管理職向けDX研修の講師実
 績が多数ある。2020年6月に取締役就任。2023年6月に常務
 取締役就任。兵庫県立大学客員准教授。兵庫県ChatGPT等
 生成AI活用検討プロジェクトチーム アドバイザー。著
 書に「Web3時代のAI戦略」（日経BP、2022年)、「次世代AI
 戦略2025 激変する20分野 変革シナリオ128」（日経BP、202
 1年)。\n\n\n▼注意事項\n\n開催方法：Webセミナー　※Zoom
 を利用します\n参加方法：お申込後に、別途メールに
 てご案内致します。\n競合他社様のお申込みはお断り
 する場合がございます。予めご容赦ください。\n
LOCATION:
URL:https://techplay.jp/event/938394?utm_medium=referral&utm_source=ics&utm
 _campaign=ics
END:VEVENT
END:VCALENDAR
