BEGIN:VCALENDAR
VERSION:2.0
PRODID:-//https://techplay.jp//JP
CALSCALE:GREGORIAN
METHOD:PUBLISH
X-WR-CALDESC:【無料セミナー】生成AIがもたらす価値 ―Tachy
 onで開拓する新事業の可能性
X-WR-CALNAME:【無料セミナー】生成AIがもたらす価値 ―Tachy
 onで開拓する新事業の可能性
X-WR-TIMEZONE:Asia/Tokyo
BEGIN:VTIMEZONE
TZID:Asia/Tokyo
BEGIN:STANDARD
DTSTART:19700101T000000
TZOFFSETFROM:+0900
TZOFFSETTO:+0900
TZNAME:JST
END:STANDARD
END:VTIMEZONE
BEGIN:VEVENT
UID:938463@techplay.jp
SUMMARY:【無料セミナー】生成AIがもたらす価値 ―Tachyonで
 開拓する新事業の可能性
DTSTART;TZID=Asia/Tokyo:20240319T120000
DTEND;TZID=Asia/Tokyo:20240319T130000
DTSTAMP:20260420T214546Z
CREATED:20240311T101251Z
DESCRIPTION:イベント詳細はこちら\nhttps://techplay.jp/event/93846
 3?utm_medium=referral&utm_source=ics&utm_campaign=ics\n\n営業活動に
 おける生成AIの実践的活用事例｜生成AIがもたらすその
 ビジネス価値とは\n概要\n2024年3月19日(火)にエムシーデ
 ジタルが主催する生成AIが学べる無料オンラインセミ
 ナーが開催されることが決定しました！\n本セミナー
 では、皆様からの事前アンケートをもとにタイトル、
 アジェンダを一部変更いたしました！生成AIの仕組み
 から、市場に与えた影響、実践的な活用事例までこれ
 までの生成AIとこれからの生成AIについてじっくり解説
 していきます。生成AIは知っているけど、実際にどう
 やって活用すればいいのか？どんな効果があるのか？
 と生成AIによってビジネスを加速させていきたい方は
 必見です！\nタイムスケジュール\n\n\n\n時間\n内容\n\n\n\
 n\n12:00〜\n入室開始\n\n\n12:05〜12:08\nオープニング\n\n\n12:
 08〜12:45\nセミナー\n\n\n12:45〜13:00\n質疑応答とアンケー
 ト\n\n\n\n\n\n\n\n※ 当日予告なく時間配分・内容が変更
 になる可能性がございます。\n▼セミナーアジェンダ\n
 \n生成AIの仕組みについて\n生成AIが労働市場に与えた
 影響\nNVIDIAのGPUが生成AIに与えたこと\n営業活動におけ
 る実践的生成AIの活用事例\n質疑応答\n\n登壇者\n久保長
  礼\nエムシーデジタル株式会社　CTO\n2010年京都大学卒
 業（数学研究室確率論）Wantedlyの3人目社員として入社
 。バックエンドエンジニア・モバイルエンジニアとし
 て勤務し、開発したアプリは、2014年のAppleのベストア
 プリに選出される。その後、同社の執行役員として機
 械学習を活用したプロダクトマネジメントを行い、上
 場を経験。現在はMC DigitalにてCTOを務める。\n\n\n\n参加
 対象\n\n生成AIに興味のある方すべて\n\n参加方法\nhttps:/
 /share.hsforms.com/1ewkxWEtKS42Xu9nu9E5p8Aqmsfa\n上記の申込フォー
 ムから、必要事項を記入の上お申し込みください。開
 催2日前より、視聴案内登録のメールをご案内させてい
 ただきます。seminar@mcdigital.jp のドメインが受信できる
 ように設定をお願いいたします。（まれに迷惑メール
 に入ってしまうことがございます）申込締切：3月18日(
 月)17:00\n参加費\n無料\n注意事項\n\n本ウェビナーは一般
 公開されどなたでもご参加いただけますが、同業他社
 のご参加については、お断りする場合がございますこ
 とご了承ください。\nキャンセル待ち・補欠・落選の
 方はご参加いただくことが出来ませんのでご了承くだ
 さい。\n欠席される場合は、お手数ですが速やかにキ
 ャンセル処理をお願い致します。\n無断キャンセルや
 欠席が続く場合、次回以降の参加をお断りさせていた
 だく場合がございます。\n
LOCATION:
URL:https://techplay.jp/event/938463?utm_medium=referral&utm_source=ics&utm
 _campaign=ics
END:VEVENT
END:VCALENDAR
