BEGIN:VCALENDAR
VERSION:2.0
PRODID:-//https://techplay.jp//JP
CALSCALE:GREGORIAN
METHOD:PUBLISH
X-WR-CALDESC:SNS最新キャンペーン成功&失敗事例を超深掘り
 解説！【3月のピックアップ！】
X-WR-CALNAME:SNS最新キャンペーン成功&失敗事例を超深掘り
 解説！【3月のピックアップ！】
X-WR-TIMEZONE:Asia/Tokyo
BEGIN:VTIMEZONE
TZID:Asia/Tokyo
BEGIN:STANDARD
DTSTART:19700101T000000
TZOFFSETFROM:+0900
TZOFFSETTO:+0900
TZNAME:JST
END:STANDARD
END:VTIMEZONE
BEGIN:VEVENT
UID:938607@techplay.jp
SUMMARY:SNS最新キャンペーン成功&失敗事例を超深掘り解説
 ！【3月のピックアップ！】
DTSTART;TZID=Asia/Tokyo:20240327T120000
DTEND;TZID=Asia/Tokyo:20240327T130000
DTSTAMP:20260425T121135Z
CREATED:20240312T205128Z
DESCRIPTION:イベント詳細はこちら\nhttps://techplay.jp/event/93860
 7?utm_medium=referral&utm_source=ics&utm_campaign=ics\n\nYoutube LIVEで
 の配信となりますので、アーカイブ視聴が可能です。
 リアルタイムのご参加が難しい場合にもお申し込みく
 ださいませ！\n--お昼時間のお供に、最新のデジタルプ
 ロモーション知識を身につけませんか‍♀️？キャン
 ペーン提案や企画に欠かせない、トレンド事例をまる
 っと解説！今年の2月に行われたプロモーションを、キ
 ャンペーンづくりのプロが解説いたします！\n✅イベ
 ント概要NONAME Produceは、SNS/WEBプロモーションに強い制
 作会社です。これまで200以上の企画・制作を行なって
 参りました経験を活かし、世の中のプロモーション事
 例を日々研究することで常に最新の知識を発信し続け
 ています。今回のYouTubeLIVEでは、今年行われた選りす
 ぐりのキャンペーン事例をピックアップし、どこより
 も詳しく解説いたします！配信中に、コメント欄から
 のご質問にお答えすることも予定しております。休憩
 時間のお供に、お気軽にご参加ください！\n✏️解説
 予定の事例HI-CHEWロゴメーカー ハイチュウ｜森永製菓
 株式会社ただいまお茶づけ中 TikTok動画コンテスト｜永
 谷園CAPCOM TRIP TOKAI｜推し旅 UPDATE公式サイト｜ＪＲ東海
 地球の飲み歩き方 頂店ハイボール史上最高やさしい彼
 紙キャンペーン｜エリエール#uniqueota フォトキャンペ
 ーン2024#推しチョコバレンタイン｜株式会社 明治 - Meij
 i Co.\, Ltd.\nこんな方におすすめ・Web&SNSキャンペーンの
 トレンドを知りたい方・Web&SNSキャンペーン提案/企画
 をされている方・広告代理店勤務の方・自社のWeb&SNSキ
 ャンペーンに課題を感じている方\n日時2024年3月27日(水
 )12:00-\n 会場当日はYouTube Liveでの配信を予定しておりま
 す。お申し込みいただきますと、配信がご覧いただけ
 るようになります。\n 登壇者株式会社NONAME Produce代表
 　村上烈\n早稲田大学在学中デザインやWEB・イベント
 に関して独学で学び、在学中に株式会社NONAME Produceを
 設立。デジタルプロモーション領域におけるクリエイ
 ティブおよび広告制作を行ってきました。その中でも
 コミュニケーション戦略や、キャンペーンシステムの
 設計を得意とし、 クリエイティブディレクターとして
 キャンペーンの企画・制作進行をおこなっています。
 「どうしたら伝わるのか」「説得力ある伝わり方」な
 どを整理整頓と想像力を使いながら形にしております
 。お酒とマンガとプロレスが好き\nお気軽にご参加く
 ださいませ！
LOCATION:
URL:https://techplay.jp/event/938607?utm_medium=referral&utm_source=ics&utm
 _campaign=ics
END:VEVENT
END:VCALENDAR
