BEGIN:VCALENDAR
VERSION:2.0
PRODID:-//https://techplay.jp//JP
CALSCALE:GREGORIAN
METHOD:PUBLISH
X-WR-CALDESC:失敗しないWebサイトリニューアルの進め方 ～
 「こんなサイトを作りたい」を伝えるために必要なこ
 と～
X-WR-CALNAME:失敗しないWebサイトリニューアルの進め方 ～
 「こんなサイトを作りたい」を伝えるために必要なこ
 と～
X-WR-TIMEZONE:Asia/Tokyo
BEGIN:VTIMEZONE
TZID:Asia/Tokyo
BEGIN:STANDARD
DTSTART:19700101T000000
TZOFFSETFROM:+0900
TZOFFSETTO:+0900
TZNAME:JST
END:STANDARD
END:VTIMEZONE
BEGIN:VEVENT
UID:938718@techplay.jp
SUMMARY:失敗しないWebサイトリニューアルの進め方 ～「こ
 んなサイトを作りたい」を伝えるために必要なこと～
DTSTART;TZID=Asia/Tokyo:20240326T150000
DTEND;TZID=Asia/Tokyo:20240326T160000
DTSTAMP:20260419T231328Z
CREATED:20240314T004611Z
DESCRIPTION:イベント詳細はこちら\nhttps://techplay.jp/event/93871
 8?utm_medium=referral&utm_source=ics&utm_campaign=ics\n\n失敗しないW
 ebサイトリニューアルの進め方～「こんなサイトを作
 りたい」を伝えるために必要なこと～\nセミナーの目
 的\n・Webサイトリニューアルの進め方がわかります。
 ・失敗しないための要件定義やRFP制作に必要なことが
 わかります。・やりがちな失敗例やスムーズに制作を
 進めるポイントがわかります。\n\n\n\n内容\n\n\n\n\n\n1.\nW
 ebサイト制作の流れ\n\n\n2.\nRFP・要件定義とは\n\n\n3.\nWeb
 サイト制作をスムーズに進めるために\n\n\n4.\n図書印刷
 がお手伝いできること\n\n\n\n\n＼参加者にWebサイト制作
 準備シートをプレゼント！／\n・目的をきちんと整理
 せず、漠然とデザインだけ刷新してしまった・制作会
 社に伝えた要望が思った通りに反映されていない・社
 内で意見が食い違ってプロジェクトが空中分解\n上記
 はサイトリニューアルでよくありがちな失敗例です。
 せっかく大きな労力と費用をかけて行うリニューアル
 で逆にサイトのパフォーマンスが落ちる、なんてこと
 は避けたいですよね。\n「失敗しないWebサイトリニュ
 ーアルの進め方～『こんなサイトを作りたい』を伝え
 るために必要なこと」では、実際にお客様のサイト制
 作のディレクション業務に携わっている講師が実例を
 交えながら、サイトリニューアルの基本的な流れやRFP
 ・要件定義の考え方について解説いたします。\n参加
 者の方には「Webサイト制作準備シート」をプレゼント
 ！Webサイト運営担当者の方、ご興味のある方は奮って
 ご参加ください。\n※本ウェビナーは2023年12月配信の
 再放送です。\n登壇者\n関谷 有生\n図書印刷株式会社　
 マーケティングソリューション営業本部\n入社時から
 コーポレートサイトやECサイトの構築案件のディレク
 ター業務に従事。\n制作したサイトを活用してもらえ
 るよう、GAを利用した勉強会や定期的なレポーティン
 グをはじめ、コラム等定期コンテンツの制作進行など
 、構築後の運用フォローも力を入れて支援中。\n\n参加
 費\n無料\n対象者\n・サイトリニューアルをご検討中の
 方・リニューアルする際の考え方や流れを知りたい方
 ・スムーズに進めるためのポイントをおさえたい方\n
 参加方法\n1.　お申込み直後、「TECH PLAY」から予約確認
 メールが届きます。特に操作は必要ございません。2.
 　配信日の当日午前中までには、ウェビナーツール「z
 oom」から予約完了メールが届きます。当日は「zoom」か
 らのメールに添付されたURLからご入場ください。\n注
 意事項\n＜ご協力のお願い＞\n\n必要に応じて登壇者が
 マスクを着用したり、登壇者の体調配慮によりプログ
 ラムが変更される可能性がございます。\n有線LAN接続
 、または安定したWi-Fi環境下で受講ください。\n何らか
 の理由で通信が中断してしまう可能性がございますが
 、ご了承ください。\n参加方法については、後日お申
 込みいただいた方へ個別にご連絡させていただきます
 。\n\n＜免責事項＞\n\n感染拡大等の状況によっては、
 オンラインセミナー開催を中止する可能性がございま
 す。\n
LOCATION:
URL:https://techplay.jp/event/938718?utm_medium=referral&utm_source=ics&utm
 _campaign=ics
END:VEVENT
END:VCALENDAR
