BEGIN:VCALENDAR
VERSION:2.0
PRODID:-//https://techplay.jp//JP
CALSCALE:GREGORIAN
METHOD:PUBLISH
X-WR-CALDESC:【アーカイブ配信】元ゴールドマン・サック
 ス業務推進部長×上場企業のIR部長が語る！ ～「IRはプ
 ロフィットセンター」、資本市場の本質・開示の課題
 と、AI／テクノロジーで実現できる未来～
X-WR-CALNAME:【アーカイブ配信】元ゴールドマン・サック
 ス業務推進部長×上場企業のIR部長が語る！ ～「IRはプ
 ロフィットセンター」、資本市場の本質・開示の課題
 と、AI／テクノロジーで実現できる未来～
X-WR-TIMEZONE:Asia/Tokyo
BEGIN:VTIMEZONE
TZID:Asia/Tokyo
BEGIN:STANDARD
DTSTART:19700101T000000
TZOFFSETFROM:+0900
TZOFFSETTO:+0900
TZNAME:JST
END:STANDARD
END:VTIMEZONE
BEGIN:VEVENT
UID:938852@techplay.jp
SUMMARY:【アーカイブ配信】元ゴールドマン・サックス業
 務推進部長×上場企業のIR部長が語る！ ～「IRはプロフ
 ィットセンター」、資本市場の本質・開示の課題と、A
 I／テクノロジーで実現できる未来～
DTSTART;TZID=Asia/Tokyo:20240326T120000
DTEND;TZID=Asia/Tokyo:20240326T130000
DTSTAMP:20260423T071859Z
CREATED:20240315T055141Z
DESCRIPTION:イベント詳細はこちら\nhttps://techplay.jp/event/93885
 2?utm_medium=referral&utm_source=ics&utm_campaign=ics\n\n【アーカイ
 ブ配信】元ゴールドマン・サックス業務推進部長×上
 場企業のIR部長が語る！ ～「IRはプロフィットセンタ
 ー」、資本市場の本質・開示の課題と、AI／テクノロ
 ジーで実現できる未来～\n▼内容\n※本セミナーは12月
 に実施したセミナーのアーカイブ配信となります。\nIR
 業務のご担当者様や日本の資本市場の現状理解や分析
 を進めたいとお考えの方へ、元ゴールドマン・サック
 ス証券 業務推進部長である清水大吾氏（「資本主義の
 中心で、資本主義を変える」著者）と、大手上場企業
 にてIRを約20年リードしてきた神山（元ソフトバンクG
 、リクルートHD、現エクサウィザーズIR部長）による対
 談形式でお送りします。同じくゴールドマン・サック
 ス証券出身で、エクサウィザーズのIPOを担当した河井
 （執行役員 IR・広報管掌）がモデレーターをつとめ、
 資本主義の本質や、日本企業が有する課題を清水氏の
 独自観点から語ります。また属人的で工数のかかるIR
 業務に、テクノロジーを活用することで、より深く資
 本市場と向き合い、企業価値向上を図るための指針を
 提供します。\n当日は、日本の資本市場のボトルネッ
 ク、IRの本質と役割、AIやテクノロジーによる業務効率
 化と資本市場での信頼獲得、などのテーマについてお
 話します。ご興味のある方はぜひご参加ください。（
 本セミナーは無料です）\n▼こんな方におすすめ\n\nIR
 業務の効率化や生産性向上を目指しているIR業務関連
 担当者\n自分のIR業務から派生して日本の資本市場にお
 いて現状の理解と分析がしたい\n部長級・リーダー級
 など、一定の方針決定に関与する権限があり、また自
 社のIRのあるべき方向を見定め、動かす義務がある人\n
 \n▼講義内容\n12:00-　　ご挨拶12:05-　　パネルディスカ
 ッション/質疑応答12:45‐　　ご案内13:00-　　終了\n▼
 講師プロフィール\n清水 大吾 氏\n1975年、愛媛県西宇和
 郡伊方町生まれ。2001年に京都大学大学院を卒業し、日
 興ソロモン・スミス・バーニー証券（現シティグルー
 プ証券）に入社。07年にゴールドマン・サックス証券
 に入社し、16年からグローバル・マーケッツ部門株式
 営業本部業務推進部長（ＳＤＧｓ／ＥＳＧ担当）。社
 会の持続可能性を高めるためには資本主義の流れを変
 える必要があると考え、社会の価値観に働きかける啓
 発活動を推進。２３年６月、同社を退職、9月に「資本
 主義の中心で、資本主義を変える」を出版。\n\n神山 
 光\n株式会社エクサウィザーズIR部長株式会社Exa Enterpri
 se AIアシスタントサービス企画開発部\n東京大学卒業後
 、カプコン、ソフトバンクグループ、リクルートホー
 ルディングスなどでIR・広報・経営管理に従事。2021年8
 月、エクサウィザーズに入社。IPOを推進後、同年12月
 よりコーポレート統括部IR部長。IRの定常業務に加えて
 AI×IRの企画を推進し、2023年6月よりexaBase生成AIプロダ
 クト部の事業開発を兼務、「exaBase IRアシスタント」の
 開発及びDisclosure Tech案件の開発に参画。\n\n河井 浩一\n
 株式会社エクサウィザーズ執行役員コーポレート統括 
 副統括株式会社Exa Enterprise AI社長室長\n2008年、パデュ
 ー大学クラナート経営学部卒業後、ゴールドマン・サ
 ックス証券株式会社の投資銀行部門に入社。2015年、同
 部門におけるヴァイス・プレジデントに就任。約13年
 にわたり、国内外の多数のテクノロジー・メディア・
 テレコム業界や物流業界に対するM&A、IPOを含む資金調
 達に関する助言業務に従事。近年は、アクティビスト
 対応や企業価値向上策に関する助言業務にも関与。 202
 1年4月、当社参画。2022年2月社長室長、4月執行役員就
 任。社長直下として、財務戦略・資本政策に限らず、
 中長期的な企業価値の向上に向けた様々な業務・施策
 に従事。\n\n▼注意事項\n\n開催方法：Webセミナー　※Zo
 omを利用します\n参加方法：お申込後に、別途メールに
 てご案内致します。\n競合他社様のお申込みはお断り
 する場合がございます。予めご容赦ください。\n
LOCATION:
URL:https://techplay.jp/event/938852?utm_medium=referral&utm_source=ics&utm
 _campaign=ics
END:VEVENT
END:VCALENDAR
