BEGIN:VCALENDAR
VERSION:2.0
PRODID:-//https://techplay.jp//JP
CALSCALE:GREGORIAN
METHOD:PUBLISH
X-WR-CALDESC:【無料ウェビナー】知名度の無い中小企業がWE
 Bマーケティングで成功するための4ステップ［3/26（火
 ）～ 4日間連続］
X-WR-CALNAME:【無料ウェビナー】知名度の無い中小企業がWE
 Bマーケティングで成功するための4ステップ［3/26（火
 ）～ 4日間連続］
X-WR-TIMEZONE:Asia/Tokyo
BEGIN:VTIMEZONE
TZID:Asia/Tokyo
BEGIN:STANDARD
DTSTART:19700101T000000
TZOFFSETFROM:+0900
TZOFFSETTO:+0900
TZNAME:JST
END:STANDARD
END:VTIMEZONE
BEGIN:VEVENT
UID:939165@techplay.jp
SUMMARY:【無料ウェビナー】知名度の無い中小企業がWEBマ
 ーケティングで成功するための4ステップ［3/26（火）
 ～ 4日間連続］
DTSTART;TZID=Asia/Tokyo:20240326T140000
DTEND;TZID=Asia/Tokyo:20240326T143000
DTSTAMP:20260424T071545Z
CREATED:20240318T150140Z
DESCRIPTION:イベント詳細はこちら\nhttps://techplay.jp/event/93916
 5?utm_medium=referral&utm_source=ics&utm_campaign=ics\n\n【無料ウェ
 ビナー】知名度の無い中小企業がWEBマーケティングで
 成功するための4ステップ［3/26（火）～ 毎日開催、全4
 回］\n・商品に自信はあるのに、WEBからの集客・成約
 がなかなか伸びない・WEBマーケティングに何度も取り
 組んでいるけど、そのたびに失敗している・今のWEBマ
 ーケティング施策が本当に自分たちに合っているのか
 わからない\nこのような悩みを抱えていませんか？\nWEB
 マーケティングが上手くいかない会社に多いのは、自
 分に必要なやり方をするのではなく「他の人から聞い
 たやり方を真似したり」「自分のこだわりでやってし
 まう」からです。\n成功するためにはWEBマーケティン
 グの全体像を理解し、問題点を明らかにしたうえで、
 自分たちにあったやり方をする必要があります。\n私
 たちバリューエージェントは、数多くの中小企業のWEB
 マーケティングを支援し、それぞれの会社にあったや
 り方で成果をあげてきました。そのほとんどが知名度
 のない商品やサービスです。\nこのセミナーでは、知
 名度がなくても中小企業がWEBマーケティングで成功す
 る方法を1回30分の講座×4回という短い時間でレクチャ
 ーします。\n「これからWEBマーケティングに力を入れ
 ようとしている」「WEBマーケティングでもう失敗した
 くない」「自分たちに合った取り組み方を知りたい」
 という方におすすめですので、ぜひお申し込みくださ
 い！\nこのセミナーで得られるもの\n・WEBマーケティン
 グで成功するための取り組み方がわかります・あなた
 が取り組んでいるWEBマーケティングの問題が見つけら
 れます・あなたの会社にぴったりのやり方がわかりま
 す・ホームページに訪問するユーザー、問い合わせや
 成約を増やす方法がわかります・WEBマーケティングに
 取り組むときの社内体制が組めるようになります\nセ
 ミナー内容\n第1回「知名度のない会社がやっている成
 功の法則①」\n第1回「知名度のない会社がやっている
 成功の法則①」\n第3回「自社にピッタリな予算と方法
 」\n第4回「社内と社外でで運営・協力体制をつくる方
 法」\nセミナー概要\n対象・中小企業経営者・中小企業
 の営業責任者・WEB担当者、WEBマーケター\n日時第1回2024
 /3/26(火) 14:00~14:30第2回2024/3/27(水) 14:00~14:30第3回2024/3/28(
 木) 14:00~14:30第4回2024/3/29(金) 14:00~14:30\n場所オンライン
 開催※メールにて参加用のZOOMのURLをお送りします。\n
 参加料無料\n講師紹介\n\n上野山光雄株式会社バリュー
 エージェント代表取締役WEBマーケター/WEBコンサルタン
 ト\n専門学校を卒業後、店頭公開のITシステム会社にSE
 として就職。その後建築会社の営業で活躍し売上げ100
 億円超の企業で取締役を3年間経験。2005年に株式会社
 バリューエージェント設立。マーケティングシステム
 、店舗集客、WEBマーケティング事業で中小企業を中心
 に500社を超える集客サービスの導入実績。\n過去のセ
 ミナー・研修実績\nGoogleアナリティクスの使い方・分
 析方法研修Webマーケティングの基礎とSEO対策講座売れ
 るホームページの作り方 12のポイント　吹田商工会議
 所集客と成約するホームページ作成セミナー　北大阪
 商工会議所主催Ｗeb販路開拓セミナー「有効なＷeb広告
 の出し方」豊中商工会議所Webで販路開拓を目指すセミ
 ナー　和歌山商工会議所自社開催＆クライアント先で
 の研修売れるホームページ12のポイントセミナー売れ
 るランディングページ作成研修SEOに強いライティング
 研修Googleアナリティクスを使って改善点を見つけ出す
 方法研修有効なツイッター運用研修
LOCATION:
URL:https://techplay.jp/event/939165?utm_medium=referral&utm_source=ics&utm
 _campaign=ics
END:VEVENT
END:VCALENDAR
