BEGIN:VCALENDAR
VERSION:2.0
PRODID:-//https://techplay.jp//JP
CALSCALE:GREGORIAN
METHOD:PUBLISH
X-WR-CALDESC:【オンライン・無料】PIMとAIで収益を最大化す
 る方法 〜Forrester Researchと学ぶデジタルコマースの差別
 化戦略〜
X-WR-CALNAME:【オンライン・無料】PIMとAIで収益を最大化す
 る方法 〜Forrester Researchと学ぶデジタルコマースの差別
 化戦略〜
X-WR-TIMEZONE:Asia/Tokyo
BEGIN:VTIMEZONE
TZID:Asia/Tokyo
BEGIN:STANDARD
DTSTART:19700101T000000
TZOFFSETFROM:+0900
TZOFFSETTO:+0900
TZNAME:JST
END:STANDARD
END:VTIMEZONE
BEGIN:VEVENT
UID:939925@techplay.jp
SUMMARY:【オンライン・無料】PIMとAIで収益を最大化する
 方法 〜Forrester Researchと学ぶデジタルコマースの差別化
 戦略〜
DTSTART;TZID=Asia/Tokyo:20240404T000800
DTEND;TZID=Asia/Tokyo:20240404T000800
DTSTAMP:20260424T063718Z
CREATED:20240326T070843Z
DESCRIPTION:イベント詳細はこちら\nhttps://techplay.jp/event/93992
 5?utm_medium=referral&utm_source=ics&utm_campaign=ics\n\n概要\n 商品
 情報管理(PIM)のクラウドプロバイダーであるContentservは
 、独立系調査会社Forrester Research、スポーツバイク業界
 の有名ブランド、Specialized社からゲストをお迎えし、Fo
 rresterのB2B eコマースおよびオンラインマーケットプレ
 ース、「PIM Landscape」、「PIM Wave」調査の主な発見とPIM
 が今日のビジネスに与える影響について共有する、Web
 セミナーを開催いたします。 \n絶え間ない市場の変化
 と顧客期待の進化に迅速に対応する企業だけが生き残
 り、繁栄できる競争の激しいデジタルコマースの世界
 。この競争をリードするための戦略として、商品情報
 管理（PIM）とAIの活用が重要視されています。これら
 の技術はどのようにビジネスモデルを変革し、収益性
 を高めることができるのでしょうか。   本ウェビナ
 ーでは、デジタルコマースで成功を収めるための高品
 質な商品情報の重要性を踏まえ、業界アナリストとソ
 フトウェアベンダー、ユーザー企業のそれぞれの視点
 から、PIMを収益の原動力へと変貌させるための実践的
 なアプローチを探ります。さらに、スポーツバイクの
 有名ブランドの Specializedから、商品データの品質、オ
 ンボーディングプロセス、市場投入までの期間、製品
 ライフサイクル管理に関するインサイトを通じて、デ
 ジタルシェルフでの成功に不可欠なPIMソリューション
 の重要性を解説します。   日本語字幕付きでの提供
 となり、PIMを活用してビジネスの成長を目指す企業に
 とって貴重なインサイトが得られる内容です。   ■ 
 開催概要 　・開催日時：2024年4月4日(木) 14:00-14:30 配
 信（※日本語字幕） 　・開催形式：オンライン動画
 配信 　・お申込み：https://www.contentserv.com/ja/events/forres
 ter-specialized-webinar 　・参加費用：無料   ■ 本ウェ
 ビナーに参加して得られること 　・Forresterの分析に
 基づくB2B/B2C eコマース市場の最新トレンド 　・デジ
 タルシェルフ成功のための統合PIMソリューションの最
 新トレンド 　・SpecializedによるContentserv活用のベスト
 プラクティス 　・AIと自動化技術による業務効率化の
 重要性 　・Contentservの提供する一貫したデジタルコマ
 ース製品ジャーニーの支援   ■登壇者紹介 　・Forre
 ster Research社 アナリスト Chuck Gahun 氏 　・スポーツバ
 イクの大手ブランド Specialized 社 Associate プロダクトマ
 ネジャー Adam Newton 氏 　・Contentserv Group CEO Michael Kugler
   ＜こんな方におすすめ＞ ・製造小売業の商品企画
 ・営業、マーケティングに携わる方 ・営業・マーケ
 ティングでのPIMの活用を検討されている方 ・商品情
 報の管理、戦略的活用に課題を感じる方  ＜参加方法
 ＞ 登録後、Contentserv Webinars (GotoWebinar）より視聴URLを
 ご案内します。開催当日、お時間となりましたら視聴U
 RLよりアクセスいただき、ご聴講ください。  ご質問
 や問い合わせがありましたら、イベント事務局（marketi
 ng_jp@contentserv.com）までご連絡ください。   注意事項\
 n\nリクルーティング、勧誘など、採用目的でのイベン
 ト参加はお断りしております。\nキャンセル待ち・補
 欠・落選の方はご参加いただくことが出来ませんので
 ご了承ください。\n欠席される場合は、お手数ですが
 速やかにキャンセル処理をお願い致します。\n
LOCATION:
URL:https://techplay.jp/event/939925?utm_medium=referral&utm_source=ics&utm
 _campaign=ics
END:VEVENT
END:VCALENDAR
