BEGIN:VCALENDAR
VERSION:2.0
PRODID:-//https://techplay.jp//JP
CALSCALE:GREGORIAN
METHOD:PUBLISH
X-WR-CALDESC:4/17(水)17:00- 経済産業省と IPA が定義したDXリテ
 ラシー標準に準拠！ スキルの定量評価を活用したDX/AI
 人材育成とは？
X-WR-CALNAME:4/17(水)17:00- 経済産業省と IPA が定義したDXリテ
 ラシー標準に準拠！ スキルの定量評価を活用したDX/AI
 人材育成とは？
X-WR-TIMEZONE:Asia/Tokyo
BEGIN:VTIMEZONE
TZID:Asia/Tokyo
BEGIN:STANDARD
DTSTART:19700101T000000
TZOFFSETFROM:+0900
TZOFFSETTO:+0900
TZNAME:JST
END:STANDARD
END:VTIMEZONE
BEGIN:VEVENT
UID:939934@techplay.jp
SUMMARY:4/17(水)17:00- 経済産業省と IPA が定義したDXリテラ
 シー標準に準拠！ スキルの定量評価を活用したDX/AI人
 材育成とは？
DTSTART;TZID=Asia/Tokyo:20240417T170000
DTEND;TZID=Asia/Tokyo:20240417T174500
DTSTAMP:20260421T032456Z
CREATED:20240326T080845Z
DESCRIPTION:イベント詳細はこちら\nhttps://techplay.jp/event/93993
 4?utm_medium=referral&utm_source=ics&utm_campaign=ics\n\n■ プログラ
 ム概要\n昨今多くの企業が DX/AI人材の育成に力を入れ
 ており、様々な育成プログラムを実施しています。一
 方で、研修効果が見えづらい、本当に人材が育ってい
 るかわからない、DXを推進していく人材の選抜ができ
 ない等多くの課題を抱えています。本ウェビナーでは
 、3月にリリースしました「DXアセスメント」を活用し
 ながら、実務で活躍するためのDX人材育成方法につい
 てご紹介いたします。\n\n■ このような方におすすめ\n
 DX/AI人材育成に関わる、事業部門責任者、DX推進担当者
 、人事部門\n\nDX/AIの人材育成をご担当されている方\nDX
 人材の知識・スキルを定量評価と可視化をすることで
 、知識定着度の把握やDX推進人材の選抜をしたい方\n育
 成して終わりではなく、実務につなげていきたい方\n\n
 \n■ タイムスケジュール\n17:00-17:05　冒頭ご挨拶17:05-17:
 10　DX人材育成の現状17:10-17:15　DXリテラシー標準とは
 ？17:15-17:25　スキルの定量評価を活用した人材育成方
 法とは17:25-17:35　サービス・デモ紹介17:35-17:45　質疑応
 答\n\n■ スピーカー\nスピーカー：株式会社スキルアッ
 プNeXt ラーニング事業部 コンサルタント / 皆川 正旨リ
 クルート（リクルートライフスタイル）にて法人営業
 としてECモール出店店舗へのコンサルティング営業に
 従事。その後、美容院・サロンの経営パートナーとし
 て、データ活用を通じた集客支援に尽力する。現在は
 、スキルアップNeXtで企業のDX/AI人材育成のコンサルテ
 ィングとして活躍。\n\n■ 日時\n4月17日(水)　17:00-17:45 (
  参加費：無料 )\n\n■ 開催場所\nZoom\n※参加URLは、開催
 前日迄にお申し込みいただいたメールアドレスにご連
 絡いたします。メールが届かない方は、当日12時迄に 
 info@skillupai.com へお問い合わせください。\n\n■ 注意事
 項\n※本セミナーは企業様限定のセミナーとなります
 。\n※本セミナーの途中入退室は自由です。\n※一部プ
 ログラムに変更が生じる場合がございます。\n※セミ
 ナー事業を展開されている企業様からのお申込み、ま
 たは所属する会社名や団体名の記載のない方（個人名
 のみ、フリーランスの方含む）のお申込みは、参加を
 お断りさせていただいております。予めご了承くださ
 い。　【ご協力のお願い】\n・申込後のキャンセルに
 ついては、前日までにご連絡ください。\n\n■ 個人情
 報の取扱いについて\n\n人材育成サービス利用規約\n\n
 株式会社スキルアップNeXt（旧:スキルアップAI株式会社
 ）が実施するセミナーにご参加いただく際には、「人
 材育成サービス利用規約」を遵守いただくことへの同
 意をお願いしております。利用規約はこちらからご確
 認ください。\n\n\nプライバシーポリシー\n\n個人情報の
 取扱いについてご同意を頂いた上でお申し込みをお願
 いしております。プライバシーポリシーはこちらから
 ご確認ください。\n\n■ 運営団体\n株式会社スキルアッ
 プNeXt（旧:スキルアップAI株式会社）\nhttps://www.skillupai.
 com/
LOCATION:
URL:https://techplay.jp/event/939934?utm_medium=referral&utm_source=ics&utm
 _campaign=ics
END:VEVENT
END:VCALENDAR
