BEGIN:VCALENDAR
VERSION:2.0
PRODID:-//https://techplay.jp//JP
CALSCALE:GREGORIAN
METHOD:PUBLISH
X-WR-CALDESC:【四国中央市開催】ジョブプロDXステーション
 異業種交流会
X-WR-CALNAME:【四国中央市開催】ジョブプロDXステーション
 異業種交流会
X-WR-TIMEZONE:Asia/Tokyo
BEGIN:VTIMEZONE
TZID:Asia/Tokyo
BEGIN:STANDARD
DTSTART:19700101T000000
TZOFFSETFROM:+0900
TZOFFSETTO:+0900
TZNAME:JST
END:STANDARD
END:VTIMEZONE
BEGIN:VEVENT
UID:939953@techplay.jp
SUMMARY:【四国中央市開催】ジョブプロDXステーション異
 業種交流会
DTSTART;TZID=Asia/Tokyo:20240510T170000
DTEND;TZID=Asia/Tokyo:20240510T190000
DTSTAMP:20260422T014505Z
CREATED:20240326T100324Z
DESCRIPTION:イベント詳細はこちら\nhttps://techplay.jp/event/93995
 3?utm_medium=referral&utm_source=ics&utm_campaign=ics\n\n概要\n【2024
 年5月10日（金）四国中央市開催！ジョブプロDXステー
 ション異業種交流会】\n本異業種交流会は、ビジネス
 目的でのマッチングや人脈づくりを目的とした異業種
 交流会です。四国中央市内にかかわらず、近隣地域の
 皆様、また県外の皆様まで特に垣根なくご参加いただ
 けます。\n主催：ジョブプロジェクト株式会社　共催
 ：合同会社Reginnoys\n当日15:00～ホームページ･SNSマーケ
 ティングセミナーも開催いたします。※異業種交流会
 のみご参加いただく事も可能です！▼【愛媛県開催】
 採用･集客に! ホームページ･SNSマーケティングセミ
 ナー\n※同業者さまにはご参加をご遠慮頂いておりま
 す。申し訳ございませんが、ご理解のほど宜しくお願
 い致します。\n※本異業種交流会には事前のお申し込
 みが必要です。\n＜開催日＞開催日：2024年5月10日（金
 ）17:10〜19:00＠ジョブプロDXステーション2Fコワーキン
 グオフィス※同業者さまにはご参加をご遠慮頂いてお
 ります。申し訳ございませんが、ご理解のほど宜しく
 お願い致します。\n参加対象\n\n採用・集客・マーケテ
 ィングや新規事業開発を担当、推進されている経営者
 ・幹部・リーダーの方々\nビジネスマッチングを希望
 する企業の皆様\n\n\n※同業者様にはご参加をご遠慮頂
 いております。\n参加費\n無料\n注意事項\n\nリクルーテ
 ィング、勧誘など、採用目的でのイベント参加はお断
 りしております。\nキャンセル待ち・補欠・落選の方
 はご参加いただくことが出来ませんのでご了承くださ
 い。\n欠席される場合は、お手数ですが速やかにキャ
 ンセル処理をお願い致します。\n無断キャンセルや欠
 席が続く場合、次回以降の参加をお断りさせていただ
 く場合がございます。\n同業者様にはご参加をご遠慮
 いただいております。\n法人限定になっております。\n
LOCATION:ジョブプロDXステーション２Fコワーキングスペー
 ス 四国中央市川之江町4084-2
URL:https://techplay.jp/event/939953?utm_medium=referral&utm_source=ics&utm
 _campaign=ics
END:VEVENT
END:VCALENDAR
