BEGIN:VCALENDAR
VERSION:2.0
PRODID:-//https://techplay.jp//JP
CALSCALE:GREGORIAN
METHOD:PUBLISH
X-WR-CALDESC:リード獲得カンファレンス2024 〜事業に革命を
 起こす15施策 〜
X-WR-CALNAME:リード獲得カンファレンス2024 〜事業に革命を
 起こす15施策 〜
X-WR-TIMEZONE:Asia/Tokyo
BEGIN:VTIMEZONE
TZID:Asia/Tokyo
BEGIN:STANDARD
DTSTART:19700101T000000
TZOFFSETFROM:+0900
TZOFFSETTO:+0900
TZNAME:JST
END:STANDARD
END:VTIMEZONE
BEGIN:VEVENT
UID:940063@techplay.jp
SUMMARY:リード獲得カンファレンス2024 〜事業に革命を起
 こす15施策 〜
DTSTART;TZID=Asia/Tokyo:20240423T090000
DTEND;TZID=Asia/Tokyo:20240423T155000
DTSTAMP:20260420T110702Z
CREATED:20240327T095221Z
DESCRIPTION:イベント詳細はこちら\nhttps://techplay.jp/event/94006
 3?utm_medium=referral&utm_source=ics&utm_campaign=ics\n\n概要\n★マ
 ーケメディア主催オンラインカンファレンスに登壇し
 ます★\n2024年4月23日（火）9時～15時45分までの間、15社
 によるオンラインカンファレンスにネクストソリュー
 ションズも登壇させていただくことになりました！\n
 カンファレンス全体のテーマは、主にマーケティング
 や広報、営業部門の方向けに「リード（見込み顧客）
 獲得」のための施策をご紹介。弊社パートでは「WEB広
 告で効果を出すためのWEBサイトの活用方法とは？」で
 す。\nCPA改善などにお悩みのマーケ・広報などのご担
 当者様は少なくないと思います。しかし、広告やLP等
 のクオリティ見直しを繰り返すだけでは本質的な改善
 にはなりません。\nそもそも顧客は個人情報を渡して
 まで、その広告から資料請求などを行いたいものなの
 か？根本的な見直し、改善を行ってみませんか？\nま
 た他社様も有益なセミナーを行われます。23日、「リ
 ード獲得カンファレンス2024」で皆様とお会いできるの
 を楽しみにしております！\nセミナー内容（弊社パー
 ト）\n\n\n\n\n内容\n\n\n\n\n11時20分～11時45分\n【テーマ】W
 EB広告で効果を出すためのWEBサイトの活用方法とは？
 【内容】WEB広告を点で考えていませんか？WEB広告と一
 括りにしてもメディアへの広告出稿、リスティング広
 告、SNS広告など多種多様。 それぞれの適切な使い方、
 また受け皿になるWEBサイトをどう活用すべきかを解説
 します。\n\n\n\n※ 当日予告なく時間配分・内容が変更
 になる可能性がございます。\n登壇者\n\n藤江 信之\n株
 式会社ネクストソリューションズ マーケティング室\n
 大学卒業後、税理士向け商社で営業マンを経験したの
 ち、2000年代前半より広告代理店や、WEB制作会社等で主
 にクリエイターとして従事。\n大手エネルギー会社や
 、大手小売店、某市地下鉄などのWEBサイトやプロジェ
 クトに関わる傍ら、2010年頃まで、都内のWEBデザインス
 クールで非常勤の講師を務める。\n\nその後クライアン
 トワークから、自社の広報マーケティングにキャリア
 チェンジ。\n上場IT企業のマーケティング部門立ち上げ
 に中心メンバーとして関わり、ウェビナーや展示会の
 運営などを通じリード創出を行う。\n\n人材サービス会
 社を経て、2023年6月ネクストソリューションズに入社
 。\n“提案サイド”と“担当者サイド”両方を経験し
 た知見を活かし、マーケティング室の立ち上げ中。\n\n
 参加対象\n\n自社に合ったリード獲得手法を知りたいマ
 ーケティング担当者の方\nリード獲得のみならず、事
 業全体を見る必要があるマーケティング責任者\nこれ
 からリード獲得を強めていきたいと思っている方\n\n参
 加費\n無料\n登壇企業（順不同）\n\n株式会社マーケメ
 ディア\n株式会社ネクストソリューションズ\nDORIRU株式
 会社\n株式会社デボノ\nサムライト株式会社\n株式会社
 オンリーストーリー\n株式会社エビリー\n株式会社フル
 スピード\n株式会社koujitsu\n株式会社unname\nテクロ株式
 会社\n株式会社 LIVE BOARD\nGMO TECH株式会社\n株式会社Number
 2\nSansan株式会社\n\n注意事項\n\nリクルーティング、勧
 誘など、採用目的でのイベント参加はお断りしており
 ます。\nキャンセル待ち・補欠・落選の方はご参加い
 ただくことが出来ませんのでご了承ください。\n欠席
 される場合は、お手数ですが速やかにキャンセル処理
 をお願い致します。\n無断キャンセルや欠席が続く場
 合、次回以降の参加をお断りさせていただく場合がご
 ざいます。\n
LOCATION:
URL:https://techplay.jp/event/940063?utm_medium=referral&utm_source=ics&utm
 _campaign=ics
END:VEVENT
END:VCALENDAR
