BEGIN:VCALENDAR
VERSION:2.0
PRODID:-//https://techplay.jp//JP
CALSCALE:GREGORIAN
METHOD:PUBLISH
X-WR-CALDESC:Mendixプログラミングコンテスト 2024
X-WR-CALNAME:Mendixプログラミングコンテスト 2024
X-WR-TIMEZONE:Asia/Tokyo
BEGIN:VTIMEZONE
TZID:Asia/Tokyo
BEGIN:STANDARD
DTSTART:19700101T000000
TZOFFSETFROM:+0900
TZOFFSETTO:+0900
TZNAME:JST
END:STANDARD
END:VTIMEZONE
BEGIN:VEVENT
UID:940239@techplay.jp
SUMMARY:Mendixプログラミングコンテスト 2024
DTSTART;TZID=Asia/Tokyo:20240401T000000
DTEND;TZID=Asia/Tokyo:20240614T230000
DTSTAMP:20260422T215419Z
CREATED:20240329T002604Z
DESCRIPTION:イベント詳細はこちら\nhttps://techplay.jp/event/94023
 9?utm_medium=referral&utm_source=ics&utm_campaign=ics\n\n欲しいのは
 、アイデアです！世界をリードするローコード開発環
 境のプログラミングコンテストに参加しよう！！\n日
 程：2023年4月1日（月）～6月14日（金）23時\n開催方式：
 予選：本サイトから応募　決勝：プレゼンテーション
 主催：シーメンス株式会社\nご参加対象：ローコード
 に関心がある方なら誰でも！　シチズン・プログラマ
 ーの皆様はもちろん、普段企業内でプログラミングを
 されている方からの応募も大歓迎です！！応募条件は
 、プログラミング言語：Mendixを使うというだけ。\nア
 プリケーションは****自由に考えてください！独創的な
 アプリケーション、実務に役立つアプリケーション、
 そして使って楽しいアプリケーション、なんだか良く
 分からないアプリケーション、どんなアプリでも大歓
 迎です。\nアプリケーションの例：例えば、\n\n学校や
 会社の中でのイベントを管理するポータル\n面倒な承
 認プロセスを支援するツール\nMicrosoft Teamsと連携して
 役立つツール\nIoTを用いたリモートモニタリング・自
 動アラートツール\n新入社員や新入生をあたたかく迎
 えるためのオンボーディング・ツール　などなど\n\nMen
 dixの実際のお客様事例はこちらでたくさん紹介されて
 います（英語）　→　Mendix Customer Stories & Testimonials - Lo
 w-Code SolutionsMarketplaceでは様々なテンプレートが利用可
 能です（英語）　→　Mendix Marketplace - Home利用するテン
 プレートを選んで使えば、すぐに希望アプリの原型が
 作成できます。\n利用方法:フリーライセンス版利用応
 募方法(1) Mendix Studio Pro 10.6にてアプリを作成(2) アプリ
 動作を確認できる動画もしくは静止画をYouTube他SNSに投
 稿（途中版、アイデアだけでもOK！）　（注）公開・
 非公開は問いません。(3) 投稿リンクを添えて、イベン
 ト事務局に送付（本フォームもしくは宛先：dis_jpmarketi
 ng@mendix.com　までメール）\n審査基準：以下の諸点を判
 断いたします。\n\n指定テーマとの整合性（１０点）\n
 使いやすさ（１０点）\n完成度（１０点）\n実務への有
 用性（１０点）\n新規性・独創性（１０点）\n実現可能
 性（１０点）\n決勝ラウンドでは上記基準に加えて、
 プレゼンテーション結果を反映します（２０点）。\n\n
 表彰\n\n最優秀賞および優秀賞４点を表彰いたします。
 \n\n審査方法\n\n期限までに提出されたアプリの中から
 、ファイナリスト５名を決定\n６月19日開催のMendix Japan
  Day 2024にて決勝ラウンドにて最優秀作品を決定\n審査
 員：Mendix Japanおよび外部審査員（Mendixパートナー企業
 ）\n\n今後のアップデート\n\nTwitter @MendixJ 、Facebook @mend
 ixj 、Mendix Japan Communityにて役立つ情報をアップデート\
 n\n★一からMendixを初めてみたい方は？　→　バーチャ
 ルハンズオンセミナー（オンデマンド）で学びましょ
 う！\n問合せ先　コンテスト運営事務局　東田（ヒガ
 シダ） dis_jpmarketing@mendix.com
LOCATION:
URL:https://techplay.jp/event/940239?utm_medium=referral&utm_source=ics&utm
 _campaign=ics
END:VEVENT
END:VCALENDAR
