BEGIN:VCALENDAR
VERSION:2.0
PRODID:-//https://techplay.jp//JP
CALSCALE:GREGORIAN
METHOD:PUBLISH
X-WR-CALDESC:「PCを紛失しても情報漏えいしなくなる？」 
 事前・事後のセキュリティ対策で 組織を守る方法
X-WR-CALNAME:「PCを紛失しても情報漏えいしなくなる？」 
 事前・事後のセキュリティ対策で 組織を守る方法
X-WR-TIMEZONE:Asia/Tokyo
BEGIN:VTIMEZONE
TZID:Asia/Tokyo
BEGIN:STANDARD
DTSTART:19700101T000000
TZOFFSETFROM:+0900
TZOFFSETTO:+0900
TZNAME:JST
END:STANDARD
END:VTIMEZONE
BEGIN:VEVENT
UID:940256@techplay.jp
SUMMARY:「PCを紛失しても情報漏えいしなくなる？」 事前
 ・事後のセキュリティ対策で 組織を守る方法
DTSTART;TZID=Asia/Tokyo:20240411T110000
DTEND;TZID=Asia/Tokyo:20240411T120000
DTSTAMP:20260419T145952Z
CREATED:20240329T042652Z
DESCRIPTION:イベント詳細はこちら\nhttps://techplay.jp/event/94025
 6?utm_medium=referral&utm_source=ics&utm_campaign=ics\n\n「PCを紛失
 しても情報漏えいしなくなる？」事前・事後のセキュ
 リティ対策で組織を守る方法\n概要\nテレワークの普及
 により社外からPCを利用する機会が増加しており、企
 業規模に関わらずPCの紛失や盗難は増加しております
 。本ウェビナーでは一般的なセキュリティ対策に加え
 てPCの紛失 盗難時の情報漏洩を抑止する方法を解説し
 ます。お申込みはこちらでも可能です。\n登壇者\n\n松
 倉 泉\n株式会社ZenmuTech Senior Sales Adviser\n外資系のIT企業
 数社で、マーケティング コミュニケーション及び企画
 業務に従事。\nZenmuTechの創業時からのメンバーで、現
 在は、営業/広報/マーケティングを担当し、自社セミ
 ナーや外部セミナーでの講師も務める。\n\n\n\n堀江 圭
 介\nLRM株式会社 経営企画部 コーポレートITチーム マネ
 ージャー\nインターネット接続プロバイダのテクニカ
 ルサポート業務、パソコンセミナーの講師、Windows系ネ
 ットワーク・端末の運用保守業務、ホスティングサー
 ビス企業におけるカスタマーサポート・法人営業など
 幅広い業種経験を持つパラレルワーカー。\n現在は経
 営企画部コーポレートITチームのマネージャーとして
 、社内システムの導入・運用・保守業務などを担当。\
 n\n学べる事\n\nセキュリティにおける、事前・事後対策
 の必要性とその理由セキュリティコンサル会社が実施
 しているセキュリティ対策PCの盗難・紛失時の情報漏
 えいを抑止する方法\n\nこんな方におすすめ！\n\n実施
 すべきセキュリティ対策について知りたい\n業務上PCの
 持ち出しが多く紛失・盗難リスクがある。\n従業員が
 セキュリティに対する意識が低い。\n\n参加費\n無料\n
 注意事項\n\nリクルーティング、勧誘など、採用目的で
 のイベント参加はお断りしております。\nキャンセル
 待ち・補欠・落選の方はご参加いただくことが出来ま
 せんのでご了承ください。\n欠席される場合は、お手
 数ですが速やかにキャンセル処理をお願い致します。\
 n無断キャンセルや欠席が続く場合、次回以降の参加を
 お断りさせていただく場合がございます。\n
LOCATION:
URL:https://techplay.jp/event/940256?utm_medium=referral&utm_source=ics&utm
 _campaign=ics
END:VEVENT
END:VCALENDAR
