BEGIN:VCALENDAR
VERSION:2.0
PRODID:-//https://techplay.jp//JP
CALSCALE:GREGORIAN
METHOD:PUBLISH
X-WR-CALDESC:収益最大化への営業DX戦略 先端SaaSベンダーが
 語る自動化の本質とは
X-WR-CALNAME:収益最大化への営業DX戦略 先端SaaSベンダーが
 語る自動化の本質とは
X-WR-TIMEZONE:Asia/Tokyo
BEGIN:VTIMEZONE
TZID:Asia/Tokyo
BEGIN:STANDARD
DTSTART:19700101T000000
TZOFFSETFROM:+0900
TZOFFSETTO:+0900
TZNAME:JST
END:STANDARD
END:VTIMEZONE
BEGIN:VEVENT
UID:940499@techplay.jp
SUMMARY:収益最大化への営業DX戦略 先端SaaSベンダーが語る
 自動化の本質とは
DTSTART;TZID=Asia/Tokyo:20240416T130000
DTEND;TZID=Asia/Tokyo:20240416T140000
DTSTAMP:20260420T110034Z
CREATED:20240401T060220Z
DESCRIPTION:イベント詳細はこちら\nhttps://techplay.jp/event/94049
 9?utm_medium=referral&utm_source=ics&utm_campaign=ics\n\n収益最大化
 への営業DX戦略 先端SaaSベンダーが語る自動化の本質と
 は\n― 売上最大化に向けて営業改革を目指す事業責任
 者・営業責任者・カスタマーサクセス責任者必見\n営
 業生産性の向上は、企業の収益力を左右する極めて重
 要な経営課題です。しかし、その実現に向けた取り組
 みは簡単なものではありません。\n昨今のデジタル化
 の潮流において、営業DXへの期待は高まる一方です。
 しかしながら、単にツールを導入したり、一部の業務
 を自動化しただけでは、本質的な課題解決には至りま
 せん。\n組織横断でのプロセス改革、データドリブン
 な施策立案、部門間の連携強化など、多角的なアプロ
 ーチが不可欠になっています。\n以下のような課題に
 お悩みではないでしょうか。\n\n\n非効率な業務フロー
 、属人的な営業スタイルが続き、生産性が停滞してい
 る\n\n\n部門間の連携不足により、収益獲得機会の損失
 が生じている\n\n\n営業支援システムを導入したが、コ
 ストに見合った効果が得られない\n\n\n今回のウェビナ
 ーでは、売上最大化を実現するための「営業DX」に焦
 点を当て、openpage社と Magic Moment が、自社の取り組みや
 数多くの企業支援から得た知見をもとに、ディスカッ
 ション形式で深掘りしていきます。\n営業生産性向上
 を実現する「営業DX」を推進するためのヒントをお届
 けいたします。ぜひ社内の関係者も含めてご参加くだ
 さい。\nこのような方におすすめ\n\n営業DX を加速させ
 たい、営業責任者・カスタマーサクセス責任者\n自社
 の営業組織強化を目指す経営層\n営業企画・営業推進
 の責任者\n\n概要\n\n\n\n\n\n\n\n\n\n対象\n事業責任者 / 営
 業責任者 / カスタマーサクセス責任者 / 営業企画\n\n\n
 日時\n2024年4月16日（火）13:00-14:00\n\n\n内容\nパネルディ
 スカッション形式で、売上向上を実現するための「営
 業DX」について、両社の取り組み事例や支援実績を交
 えてご紹介いたします。\n\n\n会場\nオンライン（Zoom）\
 n\n\n費用\n無料\n\n\n参加方法\nお申し込みフォームから
 ご登録後、メールにてご案内させていただきます。＊
 弊社からのメール配信を解除されている場合、正しく
 視聴用URLが届かない原因となります。受付完了メール
 が届かない方は、お手数ですが申込時に表示される再
 配信設定にて再登録をよろしくお願いいたします。\n\n
 \n注意事項\n＊同業他社様のご参加はご遠慮いただいて
 おります。＊その他、ご不明点・ご質問がございまし
 たら弊社ホームページよりお問い合わせください。【
 プライバシーポリシーについて】今回ご提供いただく
 個人情報は、プライバシーポリシーに基づき厳重に管
 理いたします。株式会社Magic Moment 個人情報保護方針株
 式会社openpage プライバシーポリシー\n\n\n
LOCATION:
URL:https://techplay.jp/event/940499?utm_medium=referral&utm_source=ics&utm
 _campaign=ics
END:VEVENT
END:VCALENDAR
