BEGIN:VCALENDAR
VERSION:2.0
PRODID:-//https://techplay.jp//JP
CALSCALE:GREGORIAN
METHOD:PUBLISH
X-WR-CALDESC:【無料ウェビナー】DX時代の教科書「デジタル
 スキル標準」を活用した人材育成のお悩みポイントを
 徹底解説！
X-WR-CALNAME:【無料ウェビナー】DX時代の教科書「デジタル
 スキル標準」を活用した人材育成のお悩みポイントを
 徹底解説！
X-WR-TIMEZONE:Asia/Tokyo
BEGIN:VTIMEZONE
TZID:Asia/Tokyo
BEGIN:STANDARD
DTSTART:19700101T000000
TZOFFSETFROM:+0900
TZOFFSETTO:+0900
TZNAME:JST
END:STANDARD
END:VTIMEZONE
BEGIN:VEVENT
UID:940684@techplay.jp
SUMMARY:【無料ウェビナー】DX時代の教科書「デジタルス
 キル標準」を活用した人材育成のお悩みポイントを徹
 底解説！
DTSTART;TZID=Asia/Tokyo:20240410T140000
DTEND;TZID=Asia/Tokyo:20240410T144500
DTSTAMP:20260420T090906Z
CREATED:20240402T090252Z
DESCRIPTION:イベント詳細はこちら\nhttps://techplay.jp/event/94068
 4?utm_medium=referral&utm_source=ics&utm_campaign=ics\n\nデジタルス
 キル標準（DSS）を活用した人材育成－社内推進と活用
 時のお悩みポイントを徹底解説！\n【開催日時】2024年4
 月10日 (水曜日) 14:00～14:45\n【セミナー概要】経済産業
 省と独立行政法人情報処理推進機構（IPA）は、企業・
 組織のDX推進を人材のスキル面から支援するため、「
 デジタルスキル標準（DSS）」を策定しました。\n一方
 でDX人材育成に着手したいものの、DSSを自社のDX人材育
 成に落とし込み、実行まで移せている企業は少ないの
 が現状です。また企業の声を聞く中で、検討企業の悩
 むポイントも明確になってきました。\n本セミナーで
 は、これまで700社以上の企業・団体のDX推進を支援し
 てきたSIGNATEが、DSSに沿った人材育成の推進時と活用時
 のお悩みポイント、そして、その解決策をデータを元
 に徹底解説します。\n＜こんな課題はございませんか
 ？＞・DSSを自社でも取り入れたいが活用まで落とし込
 めていない・DX人材育成の必要性は理解するものの、
 社内に必要性が伝わらない・DX研修をやってみたが、
 いまいち効果がわからない・実務に活かせるDX教育を
 したい・採用による人材確保が難しいと感じている\n
 上記の課題を少しでもお持ちであれば、このセミナー
 が課題解決のお役に立ちます！DSSについて理解を深め
 たい方から、さらにDX推進を担う人材の育成や活用に
 ご関心のある方まで、是非お気軽にご参加ください。\
 n【参加費】無料\n【開催場所】オンライン開催（Zoom／
 アーカイブ配信）※視聴方法につきましては、お申し
 込みフォームからご登録いただいた後に、ご登録いた
 だいたメールアドレス宛にお送りします。\n【SIGNATE Clo
 udとは？】全社レベルでDX推進を可能にする実践型人材
 育成プラットフォームです。全社的なDXリテラシーの
 底上げからDX推進におけるコア人材の育成まで、DXへの
 取り組みフェーズや社員のスキルレベルに応じて適切
 な教育プログラムを提供可能であり、導入企業700社以
 上・累計受講者110\,000人超を数えます。現在では、上
 場・大手企業への導入に加え、高等教育機関や経済産
 業省『マナビDX Quest』、広島県・山口県の先端人材育
 成事業等においてもご活用いただいています。https://cl
 oud.signate.jp/\n＜注意事項＞\n\n本イベントは「Zoom」にて
 実施いたしますので事前にZoomアプリのインストールを
 お願いいたします。\n視聴用URLは、申し込みフォーム
 へご記入頂いたメールアドレス宛にご案内いたします
 。\n本イベント開始時間の10分前より入室可能です。\n
 本イベントは、サービスの安定運用に万全を尽くして
 おりますが、視聴者のインターネット環境や回線状況
 により再ログインが必要になることや、画面がフリー
 ズしご視聴いただけない場合もあります。\n同業他社
 様のご参加はご遠慮いただいております。予めご了承
 ください。\n本イベントにお申し込みいただいた方は
 、以下の内容及び株式会社SIGNATEのプライバシーポリシ
 ーにご同意いただいたものとみなします。\n株式会社SI
 GNATEのプライバシーポリシーについては、次を参照く
 ださい。https://signate.co.jp/privacy.html\n
LOCATION:
URL:https://techplay.jp/event/940684?utm_medium=referral&utm_source=ics&utm
 _campaign=ics
END:VEVENT
END:VCALENDAR
