BEGIN:VCALENDAR
VERSION:2.0
PRODID:-//https://techplay.jp//JP
CALSCALE:GREGORIAN
METHOD:PUBLISH
X-WR-CALDESC:5/23(木)17:00- 住友商事のGX推進と総合商社から
 見たGX人材育成の在り方
X-WR-CALNAME:5/23(木)17:00- 住友商事のGX推進と総合商社から
 見たGX人材育成の在り方
X-WR-TIMEZONE:Asia/Tokyo
BEGIN:VTIMEZONE
TZID:Asia/Tokyo
BEGIN:STANDARD
DTSTART:19700101T000000
TZOFFSETFROM:+0900
TZOFFSETTO:+0900
TZNAME:JST
END:STANDARD
END:VTIMEZONE
BEGIN:VEVENT
UID:941242@techplay.jp
SUMMARY:5/23(木)17:00- 住友商事のGX推進と総合商社から見たG
 X人材育成の在り方
DTSTART;TZID=Asia/Tokyo:20240523T170000
DTEND;TZID=Asia/Tokyo:20240523T180000
DTSTAMP:20260420T095125Z
CREATED:20240408T042636Z
DESCRIPTION:イベント詳細はこちら\nhttps://techplay.jp/event/94124
 2?utm_medium=referral&utm_source=ics&utm_campaign=ics\n\n■ プログラ
 ム概要\n住友商事は、鉄鋼、自動車、輸送機・建機、
 都市総合開発、メディア・デジタル、ライフスタイル
 、資源、化学品・エレクトニクス・農業、エネルギー
 トランスフォーメーションなど、幅広い分野でグロー
 バルに事業を展開されています。\n住友商事は、社会
 のカーボンニュートラル化目標の達成に、より積極的
 な役割を果たすため、重要社会課題として気候変動緩
 和を掲げ、「気候変動問題に対する方針」の下、2050年
 の事業活動のカーボンニュートラル化と、ビジネスパ
 ートナーや公共機関等と協力した取組や提言等を通じ
 た社会のカーボンニュートラル化に貢献しています。
 また、2050年カーボンニュートラル化目標に加え、中間
 目標としてグループのCO2排出量を、2019年比で2035年ま
 でに50%以上削減する目標を設定し、再生可能エネルギ
 ー導入をはじめ、水素等のカーボンフリーエネルギー
 の推進、EV/PHV/FCVの普及拡大、CO2吸収・固定・利活用の
 促進等につながる事業に取り組んでいます。こうした
 取り組みを推進するには、GXを理解し、実践できる人
 材が欠かせません。\n本セミナーでは、住友商事が行
 うGX推進と、その実現に向けたGX人材育成について、具
 体的な事例を交えてご紹介いただきます。\n\n■ この
 ような方におすすめ\nサステナビリティやESG推進部門
 、経営企画部門、経営者\n\n脱炭素経営、GX経営の先進
 的な取り組み事例を知りたい方\nGX人材の必要性や活躍
 の場面について知りたい方\nGX人材育成体制の事例を知
 りたい方\n\n\n■ タイムスケジュール\n17:00-17:05　冒頭
 ご挨拶17:05-17:35　講演17:35-17:45　パネルディスカッショ
 ン17:45-17:55　質疑応答17:55-18:00　告知、アンケート\n\n
 ■ スピーカー\nスピーカー：住友商事株式会社 サステ
 ナビリティ推進部 / 菊地 崇史 氏\n2023年8月、住友商事
 株式会社入社。サステナビリティ推進部において、グ
 ループ全体のGX推進を含むサステナビリティ方針の策
 定を担当。直近では気候変動対応に加えて、自然資本
 、循環経済、人権尊重等のサステナビリティ分野の業
 務も担当。前職の環境省及び外務省（出向先）にて、G
 X施策の推進やパリ協定に関する国際交渉等を担当。\n
 モデレーター：株式会社スキルアップNeXt 代表取締役 /
  田原 眞一\n自然環境学専攻を修了後、新卒でITエンジ
 ニアとプロジェクトマネジャーを経験。その後、リク
 ルートにて数多くのAI・データ分析案件に携わる。2017
 年にAI人材育成事業を開始し、スキルアップAI株式会社
 （現：株式会社スキルアップNeXt）を創業。著書に「徹
 底攻略 ディープラーニングG検定 ジェネラリスト問題
 集」。2022年からGX人材育成事業を開始。\n\n■ 日時\n202
 4年5月23日（木）17:00-18:00 ( 参加費：無料 )\n\n■ 開催場
 所\nZoom\n※参加URLは、開催前日迄にお申し込みいただ
 いたメールアドレスにご連絡いたします。メールが届
 かない方は、当日12時迄に info@skillupai.com へお問い合
 わせください。\n\n■ 注意事項\n※本セミナーは企業様
 限定のセミナーとなります。\n※本セミナーの途中入
 退室は自由です。\n※一部プログラムに変更が生じる
 場合がございます。\n※セミナー事業を展開されてい
 る企業様からのお申込み、または所属する会社名や団
 体名の記載のない方（個人名のみ、フリーランスの方
 含む）のお申込みは、参加をお断りさせていただいて
 おります。予めご了承ください。　【ご協力のお願い
 】\n・申込後のキャンセルについては、前日までにご
 連絡ください。\n\n■ 個人情報の取扱いについて\n\n人
 材育成サービス利用規約\n\n株式会社スキルアップNeXt
 （旧:スキルアップAI株式会社）が実施するセミナーに
 ご参加いただく際には、「人材育成サービス利用規約
 」を遵守いただくことへの同意をお願いしております
 。利用規約はこちらからご確認ください。\n\n\nプライ
 バシーポリシー\n\n本セミナーの開催にあたり、株式会
 社スキルアップNeXt（以下、「当社」といいます）が取
 得したお客様の個人情報については、当社の「個人情
 報保護方針」に基づき、適正に取り扱います。また、
 当社は住友商事株式会社（以下「共催社」といいます
 ）との間で、下記の通り、お客様の個人情報を共同利
 用いたします。\n（１）共同して利用する個人情報　
 　　本セミナーのお申込み時にご提供いただいた、氏
 名・メールアドレス・電話番号・住所・所属先情報、
 　　　アンケーの回答内容等（２）共同利用するもの
 の範囲　　　共催社（３）共同利用する者の利用目的
 　　　１．本セミナーに関するご案内、お問い合わせ
 等への対応のため　　　２．共催社が提供するイベン
 トやサービス・商品情報等の紹介や告知のため　　　
 ３．本セミナーの品質向上のため（４）共同して利用
 する個人情報の管理責任者　　　株式会社スキルアッ
 プNeXt（旧:スキルアップAI株式会社）　　　東京都千代
 田区神田三崎町３丁目３−２０ VORT水道橋Ⅱ 5F　　　
 代表取締役　田原 眞一\n個人情報の取扱いについてご
 同意を頂いた上でお申し込みをお願いしております。
 弊社のプライバシーポリシーはこちらからご確認くだ
 さい。住友商事株式会社の個人情報保護についての確
 認はこちらからご確認ください。\n\n■ 運営団体\n株式
 会社スキルアップNeXt（旧:スキルアップAI株式会社）\nh
 ttps://www.skillupai.com/
LOCATION:
URL:https://techplay.jp/event/941242?utm_medium=referral&utm_source=ics&utm
 _campaign=ics
END:VEVENT
END:VCALENDAR
