BEGIN:VCALENDAR
VERSION:2.0
PRODID:-//https://techplay.jp//JP
CALSCALE:GREGORIAN
METHOD:PUBLISH
X-WR-CALDESC:2024年3月コアアルゴリズムアップデートで何が
 変わった？概要や考察を紹介します
X-WR-CALNAME:2024年3月コアアルゴリズムアップデートで何が
 変わった？概要や考察を紹介します
X-WR-TIMEZONE:Asia/Tokyo
BEGIN:VTIMEZONE
TZID:Asia/Tokyo
BEGIN:STANDARD
DTSTART:19700101T000000
TZOFFSETFROM:+0900
TZOFFSETTO:+0900
TZNAME:JST
END:STANDARD
END:VTIMEZONE
BEGIN:VEVENT
UID:941793@techplay.jp
SUMMARY:2024年3月コアアルゴリズムアップデートで何が変
 わった？概要や考察を紹介します
DTSTART;TZID=Asia/Tokyo:20240517T140000
DTEND;TZID=Asia/Tokyo:20240517T150000
DTSTAMP:20260419T134812Z
CREATED:20240412T071535Z
DESCRIPTION:イベント詳細はこちら\nhttps://techplay.jp/event/94179
 3?utm_medium=referral&utm_source=ics&utm_campaign=ics\n\nこんな方に
 おすすめ\n\nコアアルゴリズムアップデートの概要が知
 りたい方\nコアアルゴリズムアップデートに対する考
 察を聞きたい方\nコアアルゴリズムアップデートに向
 けた対策が知りたい方\n\n\n\n\n開催日\n2024年5月17日(金)\
 n\n\n\n\n時間\n14:00～15:00 (15分前より入室可能)※配信時
 間は1時間を目安としており、配信時間が前後する可能
 性がございます。 ご了承頂けますと幸いです。\n\n\n場
 所\nウェビナー\n\n\n定員\n30名\n\n\n参加費\n無料\n\n\n登
 壇者\n石原 凛子\n\n\n\nセミナー内容紹介\n3月に2024年初
 のコアアルゴリズムアップデートが展開されました。
 コアアルゴリズムアップデートとは、Googleが検索アル
 ゴリズムの改善を目的に、検索結果を大幅に見直すた
 めのアップデートのことです。通常は、2週間ほどで完
 了しますが、3月のアップデートは最大で1ヶ月ほどか
 かると言われた複雑なものでした。今回のように、コ
 アアルゴリズムアップデートが展開されたら、SEO担当
 者はどのように対応すれば良いのでしょうか。本ウェ
 ビナーでは、2024年3月のコアアルゴリズムアップデー
 トの意図や目的を基に対策方法について解説いたしま
 す。初心者に向けて、分かりやすく紹介していますの
 で、興味のある方はぜひご参加ください。\n株式会社ip
 eについて\n弊社は SEO対策を専業に10年取り組ませて頂
 いており、KADOKAWA様、SUNTORY様、LIXL様をはじめ、ご支援
 させて頂いた企業様は300社以上になります。社内には
 、分析チームだけではなくコンテンツチーム、エンジ
 ニアチームが在籍しているため、品質の高い記事作成
 によるビックワードでの上位化や施策の実装・開発な
 ど技術的なフォローまで一貫してご支援させて頂ける
 体制となっております。また、UI/UX改善によるCVRの向
 上を見据えたご支援をさせて頂くことで、検索順位の
 向上だけでなく売り上げ増加までをサポートします。\
 nhttps://ipeinc.jp/media/seo-guide/\nTwitterはこちら↓Follow @info_i
 pe\nクライアント実績一例\n\nウェビナー参加特典\nウェ
 ビナー参加頂いた方の中でご希望される方には下記の
 特典をプレゼントします。・「サイト無料診断」⇒SEO
 対策に関するお悩みを解決させて頂く相談会を無料で
 ご招待させて頂きます。下記に該当する悩みをお持ち
 の方に、お役立ていただける内容になっております。\
 n・検索順位が伸び悩んでいる・今以上に流入数を増加
 させたいが、方法が分からない・流入数は確保できて
 いるが、CVにつながらない\nプログラム\n\n\n\n時間\n内
 容\n\n\n\n\n13:45~14:00\nZOOM入室可能\n\n\n14:00~15:00\nコアアル
 ゴリズムアップデートとは今回のコアアルゴリズムア
 ップデートへの対策方法まとめ\n\n\n\n株式会社ipe　セ
 ールスチーム 石原 凛子近畿大学文芸学部文化デザイ
 ン学科卒。在学中は人間の五感に関する感性学を専攻
 し、アロマオイルを使った心地よい空間のデザインや
 プロデュースについて研究。2023年4月に株式会社ipeに
 セールスチームとして加入。多角的な視点を使った空
 間デザインでの経験をもとに、さまざまな角度からマ
 ーケティングに関する提案を行っている。大規模ポー
 タルサイトやECサイトなど幅広い業種業界での課題発
 掘に従事している。業界に迫る本質的な課題調査には
 定評があり、数多くの新規顧客からご好評をいただい
 ている。
LOCATION:
URL:https://techplay.jp/event/941793?utm_medium=referral&utm_source=ics&utm
 _campaign=ics
END:VEVENT
END:VCALENDAR
