BEGIN:VCALENDAR
VERSION:2.0
PRODID:-//https://techplay.jp//JP
CALSCALE:GREGORIAN
METHOD:PUBLISH
X-WR-CALDESC:【インバウンド対策】インバウンド需要のビ
 ジネスチャンスを掴む効果的なデジタル広告キャンペ
 ーン
X-WR-CALNAME:【インバウンド対策】インバウンド需要のビ
 ジネスチャンスを掴む効果的なデジタル広告キャンペ
 ーン
X-WR-TIMEZONE:Asia/Tokyo
BEGIN:VTIMEZONE
TZID:Asia/Tokyo
BEGIN:STANDARD
DTSTART:19700101T000000
TZOFFSETFROM:+0900
TZOFFSETTO:+0900
TZNAME:JST
END:STANDARD
END:VTIMEZONE
BEGIN:VEVENT
UID:942117@techplay.jp
SUMMARY:【インバウンド対策】インバウンド需要のビジネ
 スチャンスを掴む効果的なデジタル広告キャンペーン
DTSTART;TZID=Asia/Tokyo:20240425T160000
DTEND;TZID=Asia/Tokyo:20240425T164500
DTSTAMP:20260420T161833Z
CREATED:20240416T053726Z
DESCRIPTION:イベント詳細はこちら\nhttps://techplay.jp/event/94211
 7?utm_medium=referral&utm_source=ics&utm_campaign=ics\n\nグローバル
 の位置情報データを活用したインバウンド（訪日外国
 人旅行者）対策セミナー\nインバウンド需要のビジネ
 スチャンスを掴む効果的なデジタル広告キャンペーン\
 n訪日外国人旅行者向けの対策として、新たな広告のキ
 ャンペーンを立ち上げることは、ビジネス展開におい
 て大きな戦略的要素となります。しかしながら、これ
 までインバウンド向け広告やデジタル広告に携わった
 ことがない方々にとっては、その実施方法や効果的な
 戦略がわかりにくい場合もあります。\nそこで、本セ
 ミナーでは、初心者の方々でも理解しやすいように、
 グローバルな位置情報データを活用した訪日外国人向
 け広告キャンペーンの計画方法や実施の概要を解説い
 たします。\n観光業界、小売業界、サービス業界の皆
 様には特に注目いただきたい内容となっています。こ
 の機会にインバウンド広告について学び、グローバル
 な市場に向けた集客方法に一歩踏み出しませんか？\n
 開催概要\n日　時： 2024年4月25日（木）　時　間　16：0
 0 ～ 16：45定　員： 30名　 ※先着順参加費： 無料開催
 方法： オンライン（Zoomウェビナー）セミナー詳細ペ
 ージ：https://www.x-locations.com/seminar/20240425/※本セミナー
 ご登録後に当日の視聴用のURLをご案内いたします。\n
 このような方におすすめ\n\nインバウンド(訪日外国人
 旅行者)対策について興味のある方\n最新の位置情報デ
 ータを活用したインバウンドキャンぺーンについて詳
 しく知りたい方\n観光業界、小売業界、サービス業界
 で働かれている方インバウンド集客に関係している方\
 n広告代理店、観光業界、地方自治体でインバウンド業
 務に取り組まれている方\n\nセミナータイトル\nグロー
 バルな位置情報データを活用したインバウンド（訪日
 外国人旅行者）対策\n急増する訪日外国人旅行客に訴
 求するためのグローバルな位置情報データを活用した
 インバウンド広告について解説します。また、効果的
 なアプローチを実現するために対象となる訪日外国人
 の対象者を捉えるオーディエンスの設計から広告プラ
 ンの策定など、効果的なキャンペーンの方法について
 お伝えいたします。\n講師\n\nクロスロケーションズ株
 式会社Ad Operation Team Account Manager石川 真美\n◆主催クロ
 スロケーションズ株式会社\n◆参加費無料　※オンラ
 イン開催　 Zoomウェビナー\n◆注意事項お申し込みには
 貴社名・アドレス・部署・電話番号が必須となります
 。リクルーティング、勧誘など、採用目的でのイベン
 ト参加はお断りしております。参加を辞退する場合は
 、詳細ページより申込のキャンセルをお願いいたしま
 す。同業他社さまのご参加はお断りさせていただいて
 おります。ご理解のほどお願い申し上げます。\n【個
 人情報の取り扱い】個人情報保護管理者兼お問い合わ
 せ窓口 ：〒150-0022　東京都渋谷区恵比寿南1丁目2-9　小
 林ビル6階クロスロケーションズ株式会社　個人情報保
 護管理責任者　取締役CFOメールアドレス：privacy＠x-loca
 tions.com利用目的 ：セミナーへの参加のご案内、当社の
 サービスに関するご案内・営業およびマーケティング
 活動のため任意性：お客様からご提供頂ける個人情報
 はお客様の任意です。但し必要な項目をご提供頂けな
 い場合は利用目的を達成できないことがあります。※ 
 本セミナーのお申込みをもって、上記内容に同意した
 ものとみなします。
LOCATION:
URL:https://techplay.jp/event/942117?utm_medium=referral&utm_source=ics&utm
 _campaign=ics
END:VEVENT
END:VCALENDAR
