BEGIN:VCALENDAR
VERSION:2.0
PRODID:-//https://techplay.jp//JP
CALSCALE:GREGORIAN
METHOD:PUBLISH
X-WR-CALDESC:需要予測の精度向上に必要な分析手法とデー
 タ整備を徹底解説！
X-WR-CALNAME:需要予測の精度向上に必要な分析手法とデー
 タ整備を徹底解説！
X-WR-TIMEZONE:Asia/Tokyo
BEGIN:VTIMEZONE
TZID:Asia/Tokyo
BEGIN:STANDARD
DTSTART:19700101T000000
TZOFFSETFROM:+0900
TZOFFSETTO:+0900
TZNAME:JST
END:STANDARD
END:VTIMEZONE
BEGIN:VEVENT
UID:942510@techplay.jp
SUMMARY:需要予測の精度向上に必要な分析手法とデータ整
 備を徹底解説！
DTSTART;TZID=Asia/Tokyo:20240530T130000
DTEND;TZID=Asia/Tokyo:20240530T140000
DTSTAMP:20260423T231631Z
CREATED:20240419T073612Z
DESCRIPTION:イベント詳細はこちら\nhttps://techplay.jp/event/94251
 0?utm_medium=referral&utm_source=ics&utm_campaign=ics\n\n----------------
 ---------------------------------詳細・お申込はこちらhttps://se
 rvice.datafluct.com/seminar/240530---------------------------------------
 ----------\n【イベント概要】\n需要予測の精度を向上す
 るためには、分析に必要な知識やデータの整備が不可
 欠です。データ活用が一般的になる中で、需要予測に
 よって実現できることが増えてきています。\n本セミ
 ナーでは今の時代、企業のニーズに合わせて精度の高
 い需要予測をするための分析手法やデータ整備につい
 て、需要予測の自動化と精度向上をサポートするPerswel
 lを提供するDATAFLUCTとデータ活用用途に合わせた商品デ
 ータの生成、提供を行うLazuliがご紹介します。\n【セ
 ミナーのハイライト】\n\n需要予測の分析手法\n予測用
 途にあわせたデータ整備・加工\n\n各パートにおいてユ
 ースケースもご紹介いたします。\n【こんな方におす
 すめ】\n下記業種において需要予測や商品マスタ登録/
 整備に関わる方\n\nメーカー（食品、飲料、日用品、生
 活雑貨、電化製品など）\n卸（食品、医薬品、家電な
 ど）\n小売（スーパーマーケット、コンビニエンスス
 トア、ドラッグストアなど）\n\n【注意事項】\n\n法人
 様対象のセミナーのため、個人でのお申し込みは受け
 付けておりません。\n当日、セミナー中の録音、撮影
 はご遠慮ください。\n競合（同業）企業様、フリーメ
 ールアドレスからのお申し込みはお断りしております
 。\n\n-------------------------------------------------詳細・お申
 込はこちらhttps://service.datafluct.com/seminar/240530--------------
 -----------------------------------
LOCATION:
URL:https://techplay.jp/event/942510?utm_medium=referral&utm_source=ics&utm
 _campaign=ics
END:VEVENT
END:VCALENDAR
