BEGIN:VCALENDAR
VERSION:2.0
PRODID:-//https://techplay.jp//JP
CALSCALE:GREGORIAN
METHOD:PUBLISH
X-WR-CALDESC:【売り上げアップへの道】サイト分析の極意
X-WR-CALNAME:【売り上げアップへの道】サイト分析の極意
X-WR-TIMEZONE:Asia/Tokyo
BEGIN:VTIMEZONE
TZID:Asia/Tokyo
BEGIN:STANDARD
DTSTART:19700101T000000
TZOFFSETFROM:+0900
TZOFFSETTO:+0900
TZNAME:JST
END:STANDARD
END:VTIMEZONE
BEGIN:VEVENT
UID:943505@techplay.jp
SUMMARY:【売り上げアップへの道】サイト分析の極意
DTSTART;TZID=Asia/Tokyo:20240522T140000
DTEND;TZID=Asia/Tokyo:20240522T150000
DTSTAMP:20260421T065856Z
CREATED:20240430T064653Z
DESCRIPTION:イベント詳細はこちら\nhttps://techplay.jp/event/94350
 5?utm_medium=referral&utm_source=ics&utm_campaign=ics\n\n【売り上げ
 アップへの道】サイト分析の極意\n2024年5月22日(水)14時
 〜初心者向けにGA4とヒートマップツールを使って、Web
 サイトを改善し成果に繋げる方法を解説！プロが現場
 でリアルに使っているノウハウをお伝えします。\n・GA
 4の使い方がわからない・Webサイトを運用しているのに
 、思うように成果が出ない・Webサイト改善のためのノ
 ウハウが知りたい\nといったお悩みをお持ちの方に好
 評頂いているセミナーです。根拠に基づいた正しいWeb
 サイトの改善を行いたい方はぜひお気軽にご参加くだ
 さいませ。タイムスケジュール\n\n\n\n時間\n内容\n\n\n\n\
 n14:00〜14:20\nアクセス解析する上で重要なこと\n\n\n14:20
 〜14:40\nGoogleアナリティクス4の使い方\n\n\n14:40〜15:00\n
 ヒートマップの使い方\n\n\n\n\n\n\n\n※ 当日予告なく時
 間配分・内容が変更になる可能性がございます。\n登
 壇者\n\n九郎丸 大樹\n株式会社エッコ最高執行責任者　
 Webコンサルタント事業部\n入社後7年間で100社以上のWeb
 マーケティングに関与。\n中小企業〜上場企業まで売
 上や業績UPの実績を多数持ち、1年間で業績を10倍以上
 上げた実績も。現在はWebマーケティングに加え、生成A
 Iの導入支援やコンサルティング、関連セミナーなどを
 各社にて実施。\nこのようなお悩みをお持ちの方に！\n
 \nGA4の使い方がわからない\nWebサイトを運用しているの
 に、思うように成果が出ない\nWebサイト改善のための
 ノウハウが知りたい\n\nこのセミナーで学べること\n\nGA
 4をサイトの改善に活かしていくためのポイント\nアク
 セス解析に必要な考え\n日々の数値の追いかけ方や、
 施策の効果を確認する方法\n\n参加費\n無料\n注意事項\n
 \nリクルーティング、勧誘など、採用目的でのイベン
 ト参加はお断りしております。\nキャンセル待ち・補
 欠・落選の方はご参加いただくことが出来ませんので
 ご了承ください。\n欠席される場合は、お手数ですが
 速やかにキャンセル処理をお願い致します。\n無断キ
 ャンセルや欠席が続く場合、次回以降の参加をお断り
 させていただく場合がございます。\n
LOCATION:
URL:https://techplay.jp/event/943505?utm_medium=referral&utm_source=ics&utm
 _campaign=ics
END:VEVENT
END:VCALENDAR
