BEGIN:VCALENDAR
VERSION:2.0
PRODID:-//https://techplay.jp//JP
CALSCALE:GREGORIAN
METHOD:PUBLISH
X-WR-CALDESC:【トレンド事例から紐解く】話題化させるた
 めのキャンペーン設計とは
X-WR-CALNAME:【トレンド事例から紐解く】話題化させるた
 めのキャンペーン設計とは
X-WR-TIMEZONE:Asia/Tokyo
BEGIN:VTIMEZONE
TZID:Asia/Tokyo
BEGIN:STANDARD
DTSTART:19700101T000000
TZOFFSETFROM:+0900
TZOFFSETTO:+0900
TZNAME:JST
END:STANDARD
END:VTIMEZONE
BEGIN:VEVENT
UID:943690@techplay.jp
SUMMARY:【トレンド事例から紐解く】話題化させるための
 キャンペーン設計とは
DTSTART;TZID=Asia/Tokyo:20240509T120000
DTEND;TZID=Asia/Tokyo:20240509T130000
DTSTAMP:20260426T001738Z
CREATED:20240501T224003Z
DESCRIPTION:イベント詳細はこちら\nhttps://techplay.jp/event/94369
 0?utm_medium=referral&utm_source=ics&utm_campaign=ics\n\nYoutube LIVEで
 の配信となりますので、アーカイブ視聴が可能です。
 リアルタイムのご参加が難しい場合にもお申し込みく
 ださいませ！\n--お昼時間のお供に、最新のデジタルプ
 ロモーション知識を身につけませんか🙋‍♀️？キャ
 ンペーン提案や企画に欠かせない、トレンド事例をま
 るっと解説！今年の3月に行われたプロモーションを、
 キャンペーンづくりのプロが解説いたします！(2024年4
 月25日開催分と同内容となります。)\n✅イベント概要NO
 NAME Produceは、SNS/WEBプロモーションに強い制作会社です
 。これまで200以上の企画・制作を行なって参りました
 経験を活かし、世の中のプロモーション事例を日々研
 究することで常に最新の知識を発信し続けています。\
 n今回のYouTubeLIVEでは、今年行われた選りすぐりのキャ
 ンペーン事例をピックアップし、どこよりも詳しく解
 説いたします！配信中に、コメント欄からのご質問に
 お答えすることも予定しております。休憩時間のお供
 に、お気軽にご参加ください！\n✏️解説予定の事例
 ・ユニクロ公式 CAPCOM 40th UT｜UNIQLO・AIソングメーカー 
 毎ドラ部 ｜Georgia・さぁ、何やる？青春｜au・ＪＲ東海
 ×薬屋のひとりごと 推し旅UPDATE公式サイト｜JR東海・Gl
 ico Pocky K.O. Challenge｜江崎グリコ・明治北海道十勝カマ
 ンブルー プレゼントキャンペーン｜ 明治・#ロングセ
 ラーブランドの日｜ホットリンク\n👤こんな方におす
 すめ・Web&SNSキャンペーンのトレンドを知りたい方・Web
 &SNSキャンペーン提案/企画をされている方・広告代理
 店勤務の方・自社のWeb&SNSキャンペーンに課題を感じて
 いる方\n📆日時2024年5月9日(木)12:00-\n🌍 会場当日はYouT
 ube Liveでの配信を予定しております。お申し込みいた
 だきますと、配信がご覧いただけるようになります。\
 n🎤 登壇者株式会社NONAME Produce代表　村上烈\n早稲田大
 学在学中デザインやWEB・イベントに関して独学で学び
 、在学中に株式会社NONAME Produceを設立。デジタルプロ
 モーション領域におけるクリエイティブおよび広告制
 作を行ってきました。その中でもコミュニケーション
 戦略や、キャンペーンシステムの設計を得意とし、 ク
 リエイティブディレクターとしてキャンペーンの企画
 ・制作進行をおこなっています。「どうしたら伝わる
 のか」「説得力ある伝わり方」などを整理整頓と想像
 力を使いながら形にしております。お酒とマンガとプ
 ロレスが好き\nお気軽にご参加くださいませ！
LOCATION:
URL:https://techplay.jp/event/943690?utm_medium=referral&utm_source=ics&utm
 _campaign=ics
END:VEVENT
END:VCALENDAR
