BEGIN:VCALENDAR
VERSION:2.0
PRODID:-//https://techplay.jp//JP
CALSCALE:GREGORIAN
METHOD:PUBLISH
X-WR-CALDESC:第2回 Tableau病院ユーザー会 7月26日（金）
X-WR-CALNAME:第2回 Tableau病院ユーザー会 7月26日（金）
X-WR-TIMEZONE:Asia/Tokyo
BEGIN:VTIMEZONE
TZID:Asia/Tokyo
BEGIN:STANDARD
DTSTART:19700101T000000
TZOFFSETFROM:+0900
TZOFFSETTO:+0900
TZNAME:JST
END:STANDARD
END:VTIMEZONE
BEGIN:VEVENT
UID:943756@techplay.jp
SUMMARY:第2回 Tableau病院ユーザー会 7月26日（金）
DTSTART;TZID=Asia/Tokyo:20240726T130000
DTEND;TZID=Asia/Tokyo:20240726T170000
DTSTAMP:20260419T231358Z
CREATED:20240502T073815Z
DESCRIPTION:イベント詳細はこちら\nhttps://techplay.jp/event/94375
 6?utm_medium=referral&utm_source=ics&utm_campaign=ics\n\n第2回Tableau
 病院ユーザー会\n概要\n病院関係者向けTableauユーザー
 会を下記の通り開催いたします。全国から多くのご参
 加をお待ちしております！\n今回、現地（Salesforce Tower 
 Tokyo）とオンラインでのハイブリッド開催になります
 。オンライン参加の方はTECH PLAYにて参加お申し込みを
 いただいた後、セールスフォース・ジャパン社より、
 参加用リンクをお送り致します。※7月26日9時以降にオ
 ンラインのお申込みいただいた方は、藤田(yugo.fujita@sal
 esforce.com)まで直接お問い合わせください。参加用リン
 クをお送りします。\nタイムスケジュール\n12:30～ 現地
 会場　※現地参加の方は12：30に1階ロビー集合・スタ
 ッフが会場にご案内します。12:45~ オンライン入室開始
 13:00~ 開始16:20~ 意見交換会(現地のみ開催)17:00　終了\n
 第1部　活用事例発表・活用事例Ⅰ「Tableau運用開始ま
 での道のり〜要件定義からプロトタイプ作成まで〜」
 飯田市立病院 医療情報部 熊谷敏克様\n・活用事例Ⅱ「
 旭川赤十字病院におけるTableau活用方法　～データドリ
 ブン経営を目指して～」日本赤十字社旭川赤十字病院
 　事務部 経営戦略室　経営戦略係長　脇田 嵩大 様\n
 第2部　Tableau 学習関連「【初級編】Tableauハンズオンセ
 ミナー　ー DPC退院調査データを用いた医療圏分析 ー
 」講師：社会医療法人愛仁会　愛仁会本部 企画部門　
 課長　金谷 甲輝 様\n第3部　意見交換会\n17:00 閉会※ 
 当日予告なく時間配分・内容が変更になる可能性がご
 ざいます。\n参加対象\nTableauをご利用いただいてい病
 院職員の皆様、導入を検討している病院職員の皆様\n
 事前のご準備\n・ウェビナーのツールはZoomを利用予定
 です。・インターネットに接続可能なPCをご用意くだ
 さい。・第二部のTableau Desktopハンズオンにご参加者の
 方は、事前にTableau Desktopのインストールと起動確認を
 お済ませの上、ご参加をお願いいたします。※ハンズ
 オンに使用する資料は7月25日にご案内を予定しており
 ます。Tableau Desktopのご利用が初めての方、ライセンス
 をお持ちでない方は下記URLよりトライアルを登録いた
 だき、Tableau Desktopをインストールください。Tableau Deskt
 op：https://www.tableau.com/ja-jp/products/trial/desktopもし過去に
 トライアルを実施済で再度トライアルの利用ができな
 い方がいらっしゃいましたら担当藤田(yugo.fujita@salesforc
 e.com)までご連絡ください。\n参加費\n無料\n会場 （オン
 ラインでも参加可能）\n〒100-0005 東京都千代田区丸の
 内1-1-3日本生命丸の内ガーデンタワー（Salesforce Tower Tok
 yo）※下記アクセスマップの「東京オフィス」となり
 ます。https://www.salesforce.com/jp/company/direction/\n主催\n株式
 会社セールスフォース・ジャパン　Tableau事業統括
LOCATION:Salesforce Tower Tokyo 〒100-0005 東京都千代田区丸の内
 １丁目１−３ 日本生命丸の内ガーデンタワー
URL:https://techplay.jp/event/943756?utm_medium=referral&utm_source=ics&utm
 _campaign=ics
END:VEVENT
END:VCALENDAR
