BEGIN:VCALENDAR
VERSION:2.0
PRODID:-//https://techplay.jp//JP
CALSCALE:GREGORIAN
METHOD:PUBLISH
X-WR-CALDESC:シン・BtoCマーケティング 〜 ユーザーに選ば
 れるためにやるべきこと 〜
X-WR-CALNAME:シン・BtoCマーケティング 〜 ユーザーに選ば
 れるためにやるべきこと 〜
X-WR-TIMEZONE:Asia/Tokyo
BEGIN:VTIMEZONE
TZID:Asia/Tokyo
BEGIN:STANDARD
DTSTART:19700101T000000
TZOFFSETFROM:+0900
TZOFFSETTO:+0900
TZNAME:JST
END:STANDARD
END:VTIMEZONE
BEGIN:VEVENT
UID:944013@techplay.jp
SUMMARY:シン・BtoCマーケティング 〜 ユーザーに選ばれる
 ためにやるべきこと 〜
DTSTART;TZID=Asia/Tokyo:20240521T100000
DTEND;TZID=Asia/Tokyo:20240521T162000
DTSTAMP:20260420T112721Z
CREATED:20240507T043944Z
DESCRIPTION:イベント詳細はこちら\nhttps://techplay.jp/event/94401
 3?utm_medium=referral&utm_source=ics&utm_campaign=ics\n\nシン・BtoCマ
 ーケティング 〜 ユーザーに選ばれるためにやるべき
 こと 〜\nデジタルが当たり前に普及した現代において
 、自社ブランドを選んでいただくためには、単なるマ
 ーケティングだけでは不十分です。 そんな現代におい
 てユーザーの心を掴むためには、どのようなアプロー
 チが必要なのでしょうか？\n本セミナーでは、最新か
 つ効果的なマーケティング戦略／施策を通じて、ユー
 ザーが自社ブランドを選ぶ理由を明確にする方法をご
 紹介いたします。業界のトップを走る14社と共にご紹
 介いたします。皆様にとって、今後の事業展開におい
 て新たな可能性を見いだしていただける内容となって
 おりますので、ぜひご参加くださいませ！\n◆このよ
 うな方におすすめなセミナーです◆・自社ブランドの
 マーケティング担当者の方・自社ブランドを差別化し
 、顧客の心を掴む方法知りたい方・新たな顧客獲得戦
 略を模索している方・自社の事業展開において新たな
 可能性を追求している方\n◆アジェンダ◆1.あらゆる施
 策のROIを底上げする「顧客起点の戦略」の作り方～自
 社が狙うべき顧客と、伝えるべき独自性を見出す秘訣
 （M-Force株式会社）2.ショート動画PRのコカ的な施策と
 ブランド成長のカギ（ソーシャルワイヤー株式会社）3
 .SNS上で口コミを生成「インフルエンサー口コミ施策」
 を徹底解説（株式会社トリドリ）4.～CVR1.2倍！今から
 すぐにできるEC打ち手大公開～Instagram投稿を有効活用
 したサイトのリッチ化とは。事例も多数ご紹介！（ア
 ライドアーキテクツ株式会社）5.「ハッシュタグSEO」
 を駆使した最新インフルエンサー戦略　Instagramでフォ
 ロワー買いへの影響力を最大化（スマートシェア株式
 会社）6.1回の投稿で問い合わせ300件獲得！2024年Instagram
 集客で抑えておくべき秘訣（株式会社SAKIYOMI）7.分析な
 しでSNSの成長はありえない。2024年トレンドに合わせた
 見ないといけない指標。データを見るから再現性が高
 くなる。（Hinome株式会社）8.Cookie規制に打ち勝つ！テ
 クノロジーで叶える顧客エンゲージの育成（株式会社
 ジーニー）9.顧客とつながり、売上を最大化させるLINE
 活用法・事例（株式会社クウゼン）10.X(Twitter)アルゴリ
 ズム徹底解説！.X(Twitter)運用でやるべきこと6選（株式
 会社コムニコ）11.SNS経由でものを買う。失敗しないイ
 ンフルエンサーマーケティングの教科書（株式会社BitS
 tar）12.自社のファンになってもらうためにGoogleアナリ
 ティクス4でできること（株式会社プリンシプル）13.ホ
 ームページ改善/コストをかけずに成果を上げる唯一の
 方法（株式会社ペライチ）14.令和のSNSはフルチャネル
 活用で爆進する（株式会社on the bakery）\n\n石田 優輝\n
 ソーシャルワイヤー株式会社​　　インフルエンサーP
 R事業部　営業部​\nインフルエンサーを活用したSNSマ
 ーケティング、広告運用、\nアカウント運用中心にお
 客様のニーズに合わせた企画の立案から提案・運用・
 分析・レポーティングを行っています。\n\n\n\n◆概要\n
 会　　場：オンライン日　　時：2024年5月21日(火) 10:00
 ～16:20参 加 費：無料参加特典：SNS個別相談(最大60分)
 備　　考：※参加は申込者本人に限ります。複数人で
 の参加をご希望の場合もお一人ずつのご登録をお願い
 いたします。※同業他社の方は参加をご遠慮いただく
 場合がございます。
LOCATION:
URL:https://techplay.jp/event/944013?utm_medium=referral&utm_source=ics&utm
 _campaign=ics
END:VEVENT
END:VCALENDAR
