BEGIN:VCALENDAR
VERSION:2.0
PRODID:-//https://techplay.jp//JP
CALSCALE:GREGORIAN
METHOD:PUBLISH
X-WR-CALDESC:【ライブ配信】無料で学べるAI勉強会 第159回
 ：事例と実践で学ぶ製造業における AI 活用
X-WR-CALNAME:【ライブ配信】無料で学べるAI勉強会 第159回
 ：事例と実践で学ぶ製造業における AI 活用
X-WR-TIMEZONE:Asia/Tokyo
BEGIN:VTIMEZONE
TZID:Asia/Tokyo
BEGIN:STANDARD
DTSTART:19700101T000000
TZOFFSETFROM:+0900
TZOFFSETTO:+0900
TZNAME:JST
END:STANDARD
END:VTIMEZONE
BEGIN:VEVENT
UID:944205@techplay.jp
SUMMARY:【ライブ配信】無料で学べるAI勉強会 第159回：事
 例と実践で学ぶ製造業における AI 活用
DTSTART;TZID=Asia/Tokyo:20240522T193000
DTEND;TZID=Asia/Tokyo:20240522T210000
DTSTAMP:20260419T174502Z
CREATED:20240508T080413Z
DESCRIPTION:イベント詳細はこちら\nhttps://techplay.jp/event/94420
 5?utm_medium=referral&utm_source=ics&utm_campaign=ics\n\n■スキルア
 ップAIキャンプとは\nスキルアップAIキャンプは、JDLA認
 定プログラム1号でもある株式会社スキルアップNeXt が
 毎週水曜日19:30~21:00に開催する勉強会です。　データ
 拡張や特徴量エンジニアリングなどのデータ分析・AI
 開発で頻出となるキーワードを掘り下げるテーマから
 、人間参加型機械学習、MLOps、説明可能なAIなど今後活
 用が期待されている最先端技術まで幅広く取り上げ、
 データ分析・AI開発の実務力アップにつながるヒント
 をご提供します。　　機械学習エンジニアの視点でAI
 に用いられている技術の深掘りや、現場の視点で考え
 る実務への活用方法など、多岐に渡るジャンルについ
 て時折ゲストを交えながら無料で情報を得られる場所
 となっており、 各回のアンケート回答者には特典もご
 用意しております。　受講後すぐに使える実践的な機
 械学習スキルを、最前線で活躍する実務家から直接学
 べるAI学習コミュニティですので、ぜひご参加くださ
 い！　　スキルアップAIキャンプ: https://www.skillupai.com/s
 killupai-camp/\n\n■開催概要\n日時 : 2024年5月22日（水）19
 ：30～21：00（参加費無料）開催方法 : ZOOMテーマ : 『事
 例と実践で学ぶ製造業における AI 活用』\n製造業では
 生産効率の向上、コスト削減、品質の一貫性維持とい
 った様々な側面で機械学習の活用が期待されています
 。機械学習の活用を通して、効率化・生産性の向上を
 実現し、競争力の強化へ繋げる取り組みは、今後一層
 加速していくことになるでしょう。特に自動車業界で
 は CASE（Connected、Autonomous、Shared & Services、Electric）や Ma
 aS（Mobility as a Service）に代表されるような大変革時代
 を迎えており、業界の中のどの企業も変わろうと模索
 しています。\nそこで今回のスキルアップAIキャンプで
 は、2023年に「DXビジョンハウス・DX方針」を策定し、
 積極的にデータやAIの活用を進め変革をリードするダ
 イハツ工業株式会社の 太古無限 氏をゲストに迎え、
 社内におけるAI活用の取り組みをご紹介いただきます
 。加えて、スキルアップNeXt の講師である斉藤からは
 製造業における主要なデータであるセンサーデータに
 おける収集の勘所を触れたうえで、センサーデータに
 おける異常検知技術をハンズオンを通してご紹介いた
 します。\n\n■プログラム概要\n\n事例紹介｜ダイハツ
 工業における AI 活用への取り組み\nデータ収集の勘所
 ｜プロセスの因果関係を整理し、センサー観測点を決
 定する\nセンサーデータから異常を検出する機械学習
 手法あれこれ\nハンズオン｜振動センサーデータから
 の異常検知\n\n※一部変更となる場合がございます。\n\
 n■スピーカー\nダイハツ工業株式会社 東京LABO データ
 サイエンスグループ グループ長／太古 無限 氏\n2007年
 ダイハツ工業入社。パワートレイン制御開発部ユニッ
 ト制御開発室にて小型車用エンジンの制御開発を経て
 、2020年から東京LABOデータサイエンスグループ長とし
 て、全社AI活用を推進する業務を従事。その他に、滋
 賀大学データサイエンス部インダストリーアドバイザ
 ーとして、社外におけるAI活用の普及活動にも努める
 。経営学修士。\n株式会社スキルアップNeXt／斉藤 翔汰
 \nスキルアップAI講師。横浜国立大学大学院 環境情報
 学府 情報メディア環境学専攻（現:情報環境専攻）修
 了。修士（情報学）。高専時代に画像認識に対して興
 味を持ったことがきっかけで、現在はDeep Learningや機械
 学習、進化計算などの人工知能分野におけるアルゴリ
 ズムの研究開発やコンサルティングに従事。日本ディ
 ープラーニング協会の2018年度・2019年度E資格合格者、2
 018年度G検定合格者。著書「徹底攻略ディープラーニン
 グE資格エンジニア問題集」（インプレス）。\n\n■ス
 キルアップAIキャンプへの参加方法\n■ライブ配信(ラ
 イブ配信はZoom を使用します。)\n\n入力いただいたメー
 ルアドレス宛にSlackのスキルアップAIキャンプ専用チャ
 ンネルに招待します。Slackにてご確認ください。\nメー
 ルよりSlackにログインの上、スキルアップAIキャンプ専
 用チャンネルにご参加ください。\n各回の前日までに
 、参加用URLがslackチャンネルにて案内されますので、
 当日はそこからご参加ください。出欠のご連絡は不要
 です。\n\n※過去にスキルアップAIキャンプへご参加い
 ただいた方は、お申し込み不要で参加可能です。　各
 回の開催概要は、SlackのスキルアップAIキャンプ専用チ
 ャンネルにて毎週告知しております。\n\n■お願いと注
 意事項\n\nお申し込みは、フルネーム（漢字）でお願い
 いたします。\n撮影・録画・録音はご遠慮ください。\n
 勉強目的以外での参加はご遠慮いただいております。\
 n競合他社様のご参加は、ご遠慮いただいておりますの
 で、ご了承ください。\n\n上記ご了承の上お申し込みを
 お願いいたします。\n\n■よくある質問\n\n\n申込後の流
 れはどうなりますか？入力いただいたメールアドレス
 宛にスキルアップAIキャンプ専用Slackチャンネルの招待
 メールをお送りします。一度申し込めば、再度申し込
 み不要で各回のキャンプにご参加可能です。\n\n勉強会
 は誰でも参加できますか？はい。勉強目的の方であれ
 ば、誰でも参加可能です。 （※同業他社様のご参加は
 、ご遠慮いただいております。）\n\n興味のある回だけ
 参加できますか？参加可能です。 Slackご招待後は、お
 申し込み不要で、ご興味のあるすべての回にご参加い
 ただけます。\n\n記載されている開催予定以降のテーマ
 は決まっていますか？参加者のご意見を聞きながら、
 多くの方が興味を持っていただける実践的テーマを設
 定していく予定です。\n\n\n■個人情報の取扱いについ
 て\n\n人材育成サービス利用規約\n\n株式会社スキルア
 ップNeXt が実施するセミナーにご参加いただく際には
 、「人材育成サービス利用規約」を遵守いただくこと
 への同意をお願いしております。利用規約はこちらか
 らご確認ください。\n\nプライバシーポリシー\n\n個人
 情報の取扱いについてご同意を頂いた上でお申し込み
 をお願いしております。プライバシーポリシーはこち
 らからご確認ください。\n\n■運営団体\n株式会社スキ
 ルアップNeXt（旧:スキルアップAI株式会社）https://www.ski
 llupai.com/講座に関するお問い合わせは、info@skillupai.com
 までお願いいたします
LOCATION:
URL:https://techplay.jp/event/944205?utm_medium=referral&utm_source=ics&utm
 _campaign=ics
END:VEVENT
END:VCALENDAR
