BEGIN:VCALENDAR
VERSION:2.0
PRODID:-//https://techplay.jp//JP
CALSCALE:GREGORIAN
METHOD:PUBLISH
X-WR-CALDESC:Tableau入門【ランチタイム】オンライン無料セ
 ミナー(5/21)
X-WR-CALNAME:Tableau入門【ランチタイム】オンライン無料セ
 ミナー(5/21)
X-WR-TIMEZONE:Asia/Tokyo
BEGIN:VTIMEZONE
TZID:Asia/Tokyo
BEGIN:STANDARD
DTSTART:19700101T000000
TZOFFSETFROM:+0900
TZOFFSETTO:+0900
TZNAME:JST
END:STANDARD
END:VTIMEZONE
BEGIN:VEVENT
UID:944669@techplay.jp
SUMMARY:Tableau入門【ランチタイム】オンライン無料セミナ
 ー(5/21)
DTSTART;TZID=Asia/Tokyo:20240521T120000
DTEND;TZID=Asia/Tokyo:20240521T124500
DTSTAMP:20260420T043521Z
CREATED:20240511T233148Z
DESCRIPTION:イベント詳細はこちら\nhttps://techplay.jp/event/94466
 9?utm_medium=referral&utm_source=ics&utm_campaign=ics\n\nTableau入門ラ
 ンチタイムセミナー(5/21)\n概要\n2024年5月21日(火)正午よ
 り、Tableau入門ランチタイムセミナーをオンラインで開
 催します。【今回はランチタイム開催！】【Tableau入門
 資料プレゼント】データドリブンな意思決定を支える
 最先端のBIツール、Tableauの基本を事例やデモを見なが
 ら一気に学べる入門セミナーです。データの視覚化が
 どうビジネスに役立つか、実際のビジネスダッシュボ
 ードを用いて具体的に解説します。\nご興味ある方は
 イベント視聴の申込みをお願いいたします。\n■オン
 ライン会場のURL\n【会場となるオンラインカンファレ
 ンスのURLは後日ここで発表いたします】\n■内容\nTablea
 uとは - BIツールの概要と基本機能ダッシュボードの作
 成 - リアルなビジネスケースを使った事例紹介実践デ
 モ - Tableauを使ったデータ視覚化の基本ステップを知る
 教材と法人研修プログラムの紹介 - 学習をさらに深め
 るためのリソースアンケート\n■対象者\nデータを活用
 して業務効率化を図りたい企業の担当者、マネージャ
 ー、経営者。またはデータ分析に興味のある方。\n■
 開催概要\n開催日時：[5月21日(火)正午より]開催場所：[
 オンライン]参加費：無料（事前登録制）\n■講師\n講
 師名：ヤン・ジャクリンpicture academy 講師（株式会社GRI
 ）可視化分析を業務とし、ピクアカにて法人のTableau研
 修を担当ベストセラー”G検定テキスト本”、”G検定
 問題集”の著者米国籍、東京大学理学部卒、東京大学
 大学院理学系研究科博士課程修了（理学博士）、高エ
 ネルギー加速器研究機構にて博士研究員を経て、2017年
 より現職。データサイエンス講座を幅広く開設（G検定
 、機械学習、Python、Tableau等）する他、法人研修を提供
 \n\n参加費\n無料\n
LOCATION:
URL:https://techplay.jp/event/944669?utm_medium=referral&utm_source=ics&utm
 _campaign=ics
END:VEVENT
END:VCALENDAR
