BEGIN:VCALENDAR
VERSION:2.0
PRODID:-//https://techplay.jp//JP
CALSCALE:GREGORIAN
METHOD:PUBLISH
X-WR-CALDESC:5/28(火)開催【無料オンラインセミナー】SearchCo
 nsoleでココだけは見ておくべき8項目
X-WR-CALNAME:5/28(火)開催【無料オンラインセミナー】SearchCo
 nsoleでココだけは見ておくべき8項目
X-WR-TIMEZONE:Asia/Tokyo
BEGIN:VTIMEZONE
TZID:Asia/Tokyo
BEGIN:STANDARD
DTSTART:19700101T000000
TZOFFSETFROM:+0900
TZOFFSETTO:+0900
TZNAME:JST
END:STANDARD
END:VTIMEZONE
BEGIN:VEVENT
UID:944805@techplay.jp
SUMMARY:5/28(火)開催【無料オンラインセミナー】SearchConsole
 でココだけは見ておくべき8項目
DTSTART;TZID=Asia/Tokyo:20240528T160000
DTEND;TZID=Asia/Tokyo:20240528T170000
DTSTAMP:20260424T114637Z
CREATED:20240513T124157Z
DESCRIPTION:イベント詳細はこちら\nhttps://techplay.jp/event/94480
 5?utm_medium=referral&utm_source=ics&utm_campaign=ics\n\n【無料オン
 ラインセミナー】SearchConsoleでココだけは見ておくべき
 8項目\n\nGoogle SearchConsoleはややこしそうで見方が分から
 ない・・・\n書いてる意味が分からなくて、何をすれ
 ば良いのか分からない・・・\n\nWebマーケティングのバ
 リューエージェントでは、 ややこしいGoogle SearchConsole
 で、最低限みておく項目を解説するセミナー を開催す
 ることになりました。\n今回の「SearchConsoleでココだけ
 は見ておくべき8項目」の対象者はこんな方です。\n✔
 ︎ SearchConsoleで何が分かるのか知りたい✔︎ SearchConsole
 に書いてる内容が知りたい✔︎ 最初にしておくことが
 知りたい✔︎エラーへの対応法が知りたい\n中小企業
 のウェブ担当者、広告代理店やホームページ制作会社
 に勤務している方、中小企業の社長、士業やフリーラ
 ンスの方でSearchConsoleがイマイチわからない方なら、ど
 んな方でも来ていただいて結構です。\nセミナーの内
 容\n\n検索パフォーマンス、全体推移（過去16ヶ月）\n
 検索パフォーマンス、主要キーワードの推移\nページ
 のインデックス登録、登録済み数\nページのインデッ
 クス登録、未登録の理由\nサイトマップの登録状況\nペ
 ージ エクスペリエンス、ウェブに関する主な指標\n拡
 張>パンくずリスト、有効数\nセキュリティと手動によ
 る対策\n\nセミナーに来るとこんなことが手にはいりま
 す\n\nSearchConsoleが何か分かります\nSearchConsoleでみるべ
 きポイントがわかります\nSearchConsoleのメッセージの意
 味がわかります\n\nまた、質疑・応答を通してWebに関す
 るあなたの課題に関するヒントが見つかるかもしれま
 せん。講師や参加者と共に学ぶことによって成長した
 あなたに出会えるでしょう。\n対象\n\nSearchConsoleを見た
 ことがない方\nSearchConsoleの内容を知りたい方\nSearchConso
 leの効率的な使い方を知りたい方\n\n登壇者\n松村 成裕 
 (株式会社バリューエージェント)\n\n\n株式会社バリュ
 ーエージェント\n松村 成裕\n（ウェブコンサルタント/
 マーケティングエンジニア）\n\n2002年からECサイト運営
 会社でウェブ担当者としてキャリアをスタートし多数
 のECサイトの売上アップを実現、以来数百サイトの運
 営に関わってきました。\nウェブサイト設計・企画か
 ら、SEO対策・コンバージョン改善、運営管理、システ
 ム開発・WordPressのカスタマイズなど、ウェブサイト運
 営全般をサポートするコンサルタント・エンジニアで
 す。\n\nセミナー概要・お申込み\nセミナー名【無料オ
 ンラインセミナー】SearchConsoleでココだけは見ておくべ
 き8項目（オンライン開催）\n日時2024年5月28日(火)　16:0
 0～17:00（15:50受付開始）\n場所オンライン開催※メール
 にて参加用のZOOMのURLをお送りします。※出席の確認も
 ございますので、10分前にはご入室頂きますようお願
 いいたします。\n参加料無料\n定員30名
LOCATION:
URL:https://techplay.jp/event/944805?utm_medium=referral&utm_source=ics&utm
 _campaign=ics
END:VEVENT
END:VCALENDAR
